{
 "currentVersion": 10.91,
 "serviceDescription": "North Dakota aerial photography taken 1957 through 1962 at a scale of 1:20,000. This dataset was developed in a partnership with the USDA-Aerial Photography Field Office, the State Water Commission, and the GIS Technical Committee. The photos have been scanned at 1200 DPI and they have about a .47-meter pixel resolution. Please note that these photos have been georeferenced with a minimum number of data points. The photos have not been orthorectified and therefore there will be photo anomalies and mis-matches between adjoining photos. Caution should be exercised if attempting to use this imagery to conduct measurements. This dataset contains a number of areas with missing imagery.Credit: North Dakota GIS Technical Commitee, State Water Commission, USDA-Aerial Photography Field Office, ND GIS Hub\n",
 "name": "Imagery/AerialImage_ND_19571962",
 "description": "North Dakota aerial photography taken 1957 through 1962 at a scale of 1:20,000. This dataset was developed in a partnership with the USDA-Aerial Photography Field Office, the State Water Commission, and the GIS Technical Committee. The photos have been scanned at 1200 DPI and they have about a .47-meter pixel resolution. Please note that these photos have been georeferenced with a minimum number of data points. The photos have not been orthorectified and therefore there will be photo anomalies and mis-matches between adjoining photos. Caution should be exercised if attempting to use this imagery to conduct measurements. This dataset contains a number of areas with missing imagery.Credit: North Dakota GIS Technical Commitee, State Water Commission, USDA-Aerial Photography Field Office, ND GIS Hub\n",
 "extent": {
  "xmin": 1055253.009126931,
  "ymin": 91353.57763856882,
  "xmax": 2979889.598134326,
  "ymax": 1238855.1701674021,
  "spatialReference": {
   "wkid": 2266,
   "latestWkid": 2266
  }
 },
 "initialExtent": {
  "xmin": 1055253.009126931,
  "ymin": 91353.57763856882,
  "xmax": 2979889.598134326,
  "ymax": 1238855.1701674021,
  "spatialReference": {
   "wkid": 2266,
   "latestWkid": 2266
  }
 },
 "fullExtent": {
  "xmin": 1055253.009126931,
  "ymin": 91353.57763856882,
  "xmax": 2979889.598134326,
  "ymax": 1238855.1701674021,
  "spatialReference": {
   "wkid": 2266,
   "latestWkid": 2266
  }
 },
 "hasMultidimensions": false,
 "pixelSizeX": 0.7697080831839197,
 "pixelSizeY": 0.7697080831839196,
 "datasetFormat": "AMD",
 "uncompressedSize": 11183331400956,
 "blockWidth": 2048,
 "blockHeight": 256,
 "compressionType": "None",
 "bandNames": [
  "Band_1",
  "Band_2",
  "Band_3"
 ],
 "allowCopy": true,
 "allowAnalysis": true,
 "bandCount": 3,
 "pixelType": "U8",
 "minPixelSize": 0,
 "maxPixelSize": 0,
 "copyrightText": "",
 "serviceDataType": "esriImageServiceDataTypeProcessed",
 "serviceSourceType": "esriImageServiceSourceTypeMosaicDataset",
 "minValues": [
  0,
  0,
  0
 ],
 "maxValues": [
  255,
  255,
  255
 ],
 "meanValues": [
  136.5119803733589,
  136.5119803733589,
  136.5119803733589
 ],
 "stdvValues": [
  28.934459644629694,
  28.934459644629694,
  28.934459644629694
 ],
 "objectIdField": "OBJECTID",
 "fields": [
  {
   "name": "OBJECTID",
   "type": "esriFieldTypeOID",
   "alias": "OBJECTID",
   "domain": null
  },
  {
   "name": "Shape",
   "type": "esriFieldTypeGeometry",
   "alias": "Shape",
   "domain": null
  },
  {
   "name": "Name",
   "type": "esriFieldTypeString",
   "alias": "Name",
   "domain": null,
   "length": 50
  },
  {
   "name": "MinPS",
   "type": "esriFieldTypeDouble",
   "alias": "MinPS",
   "domain": null
  },
  {
   "name": "MaxPS",
   "type": "esriFieldTypeDouble",
   "alias": "MaxPS",
   "domain": null
  },
  {
   "name": "LowPS",
   "type": "esriFieldTypeDouble",
   "alias": "LowPS",
   "domain": null
  },
  {
   "name": "HighPS",
   "type": "esriFieldTypeDouble",
   "alias": "HighPS",
   "domain": null
  },
  {
   "name": "Category",
   "type": "esriFieldTypeInteger",
   "alias": "Category",
   "domain": null
  },
  {
   "name": "Tag",
   "type": "esriFieldTypeString",
   "alias": "Tag",
   "domain": null,
   "length": 20
  },
  {
   "name": "GroupName",
   "type": "esriFieldTypeString",
   "alias": "GroupName",
   "domain": null,
   "length": 50
  },
  {
   "name": "ProductName",
   "type": "esriFieldTypeString",
   "alias": "ProductName",
   "domain": null,
   "length": 50
  },
  {
   "name": "CenterX",
   "type": "esriFieldTypeDouble",
   "alias": "CenterX",
   "domain": null
  },
  {
   "name": "CenterY",
   "type": "esriFieldTypeDouble",
   "alias": "CenterY",
   "domain": null
  },
  {
   "name": "ZOrder",
   "type": "esriFieldTypeInteger",
   "alias": "ZOrder",
   "domain": null
  },
  {
   "name": "SOrder",
   "type": "esriFieldTypeInteger",
   "alias": "SOrder",
   "domain": null
  },
  {
   "name": "StereoID",
   "type": "esriFieldTypeString",
   "alias": "StereoID",
   "domain": null,
   "length": 50
  },
  {
   "name": "Shape_Length",
   "type": "esriFieldTypeDouble",
   "alias": "Shape_Length",
   "domain": null
  },
  {
   "name": "Shape_Area",
   "type": "esriFieldTypeDouble",
   "alias": "Shape_Area",
   "domain": null
  }
 ],
 "capabilities": "Image,Metadata,Catalog",
 "defaultMosaicMethod": "Center",
 "allowedMosaicMethods": "Center,NorthWest,LockRaster,ByAttribute,Nadir,Viewpoint,Seamline,None",
 "sortField": "",
 "sortValue": null,
 "sortAscending": true,
 "mosaicOperator": "First",
 "maxDownloadSizeLimit": 0,
 "defaultCompressionQuality": 75,
 "defaultResamplingMethod": "Bilinear",
 "maxImageHeight": 4100,
 "maxImageWidth": 15000,
 "maxRecordCount": 1000,
 "maxDownloadImageCount": 20,
 "maxMosaicImageCount": 20,
 "allowRasterFunction": true,
 "rasterFunctionInfos": [
  {
   "name": "None",
   "description": "",
   "help": ""
  }
 ],
 "rasterTypeInfos": [
  {
   "name": "Raster Dataset",
   "description": "Supports all ArcGIS Raster Datasets",
   "help": ""
  }
 ],
 "mensurationCapabilities": "None",
 "hasHistograms": true,
 "hasColormap": false,
 "hasRasterAttributeTable": false,
 "minScale": 0,
 "maxScale": 0,
 "exportTilesAllowed": false,
 "supportsStatistics": true,
 "supportsAdvancedQueries": true,
 "editFieldsInfo": null,
 "ownershipBasedAccessControlForRasters": null,
 "allowComputeTiePoints": false,
 "useStandardizedQueries": true,
 "advancedQueryCapabilities": {
  "useStandardizedQueries": true,
  "supportsStatistics": true,
  "supportsOrderBy": true,
  "supportsDistinct": true,
  "supportsPagination": true
 },
 "spatialReference": {
  "wkid": 2266,
  "latestWkid": 2266
 }
}
