Ayres Associates provided the Bismarck-Mandan Metropolitan Planning Organization (hereinafter referred to as the MPO) with digital color orthophotography and topographic mapping services in 2013. Digital aerial imagery was collected on May 2 and 3, 2013 using an Intergraph DMC, digital photogrammetric mapping camera. Imagery was collected to support 6-inch resolution digital orthoimagery to National Map Accuracy Standards for 1\" = 100' map scale. Resultant orthoimagery was rectified to a new digital terrain model, comprising of a newly developed LiDAR bare earth surface. Orthoimagery was delivered according to the MPO's standard tile schematic. The Bismarck-Mandan MPO is a certified planning entity in the State of North Dakota and is comprised of the City of Bismarck, City of Mandan, City of Lincoln, and portions of Burleigh and Morton Counties. The Bismarck-Mandan Metropolitan area is located in Burleigh and Morton Counties, in the south central region of North Dakota. The area covers approximately 395 square miles and is home to over 100,000 people.<\/SPAN><\/P><\/DIV><\/DIV><\/DIV>",
"name": "Imagery/AerialImage_BisMan_2013",
"description": "Ayres Associates provided the Bismarck-Mandan Metropolitan Planning Organization (hereinafter referred to as the MPO) with digital color orthophotography and topographic mapping services in 2013. Digital aerial imagery was collected on May 2 and 3, 2013 using an Intergraph DMC, digital photogrammetric mapping camera. Imagery was collected to support 6-inch resolution digital orthoimagery to National Map Accuracy Standards for 1\" = 100' map scale. Resultant orthoimagery was rectified to a new digital terrain model, comprising of a newly developed LiDAR bare earth surface. Orthoimagery was delivered according to the MPO's standard tile schematic. The Bismarck-Mandan MPO is a certified planning entity in the State of North Dakota and is comprised of the City of Bismarck, City of Mandan, City of Lincoln, and portions of Burleigh and Morton Counties. The Bismarck-Mandan Metropolitan area is located in Burleigh and Morton Counties, in the south central region of North Dakota. The area covers approximately 395 square miles and is home to over 100,000 people.<\/SPAN><\/P><\/DIV><\/DIV><\/DIV>",
"extent": {
"xmin": 1820074.830151,
"ymin": 360162.930612,
"xmax": 1948021.830151,
"ymax": 480543.930612,
"spatialReference": {
"wkid": 2910,
"latestWkid": 2910
}
},
"initialExtent": {
"xmin": 1820074.830151,
"ymin": 360162.930612,
"xmax": 1948021.830151,
"ymax": 480543.930612,
"spatialReference": {
"wkid": 2910,
"latestWkid": 2910
}
},
"fullExtent": {
"xmin": 1820074.830151,
"ymin": 360162.930612,
"xmax": 1948021.830151,
"ymax": 480543.930612,
"spatialReference": {
"wkid": 2910,
"latestWkid": 2910
}
},
"sortableFields": "",
"bandCount": 3,
"pixelType": "U8",
"minValues": [
0,
0,
0
],
"maxValues": [
255,
255,
255
],
"meanValues": [
124.11212355922333,
122.8634420944999,
115.0421471577311
],
"stdvValues": [
34.12589064742556,
32.47925650573272,
30.2395059226675
],
"serviceProperties": "Center<\/MosaicMethod>First<\/MosaicOperator>true<\/SortAscending><\/LockImageID>Name<\/TileOrderField>0<\/TileOrderBase>600.000000<\/AvgImageSpacingX>300.000000<\/AvgImageSpacingY>0.0<\/ViewPointX>0.0<\/ViewPointY>0.0<\/ViewPointDefShiftX>0.0<\/ViewPointDefShiftY>JPEG<\/CompressionMethod>75<\/CompressionQuality>0.010000<\/CompressionTolerance>Bilinear<\/SamplingMethod><\/ImageServiceProperties><\/ImageServer>",
"allowedFields": "Name,MinPS,MaxPS,LowPS,HighPS,Tag,GroupName,ProductName,CenterX,CenterY,ZOrder,SOrder,StereoID,Shape_Length,Shape_Area",
"hasMultidimensions": false,
"pixelSizeX": 0.5,
"pixelSizeY": 0.5,
"meanPixelSize": 0.1524,
"datasetFormat": "AMD",
"uncompressedSize": 184828653684,
"blockWidth": 2048,
"blockHeight": 256,
"compressionType": "None",
"bandNames": [
"Band_1",
"Band_2",
"Band_3"
],
"allowCopy": true,
"allowAnalysis": true,
"itemAccess": false,
"inspectionCapabilities": "",
"minPixelSize": 0,
"maxPixelSize": 0,
"copyrightText": "City of Bismarck, City of Mandan, City of Lincoln, Burleigh County, Morton County, State of North Dakota, ND GIS Hub",
"serviceDataType": "esriImageServiceDataTypeProcessed",
"serviceSourceType": "esriImageServiceSourceTypeMosaicDataset",
"objectIdField": "OBJECTID",
"fields": [
{
"name": "OBJECTID",
"type": "esriFieldTypeOID",
"alias": "OBJECTID",
"domain": null
},
{
"name": "Shape",
"type": "esriFieldTypeGeometry",
"alias": "Shape",
"domain": null
},
{
"name": "Name",
"type": "esriFieldTypeString",
"alias": "Name",
"domain": null,
"length": 50
},
{
"name": "MinPS",
"type": "esriFieldTypeDouble",
"alias": "MinPS",
"domain": null
},
{
"name": "MaxPS",
"type": "esriFieldTypeDouble",
"alias": "MaxPS",
"domain": null
},
{
"name": "LowPS",
"type": "esriFieldTypeDouble",
"alias": "LowPS",
"domain": null
},
{
"name": "HighPS",
"type": "esriFieldTypeDouble",
"alias": "HighPS",
"domain": null
},
{
"name": "Category",
"type": "esriFieldTypeInteger",
"alias": "Category",
"domain": {
"type": "codedValue",
"name": "MosaicCatalogItemCategoryDomain",
"description": "Catalog item categories.",
"codedValues": [
{
"name": "Unknown",
"code": 0
},
{
"name": "Primary",
"code": 1
},
{
"name": "Overview",
"code": 2
},
{
"name": "Unprocessed Overview",
"code": 3
},
{
"name": "Partial Overview",
"code": 4
},
{
"name": "Uploaded",
"code": 253
},
{
"name": "Incomplete",
"code": 254
},
{
"name": "Custom",
"code": 255
}
],
"mergePolicy": "esriMPTDefaultValue",
"splitPolicy": "esriSPTDefaultValue"
}
},
{
"name": "Tag",
"type": "esriFieldTypeString",
"alias": "Tag",
"domain": null,
"length": 20
},
{
"name": "GroupName",
"type": "esriFieldTypeString",
"alias": "GroupName",
"domain": null,
"length": 50
},
{
"name": "ProductName",
"type": "esriFieldTypeString",
"alias": "ProductName",
"domain": null,
"length": 50
},
{
"name": "CenterX",
"type": "esriFieldTypeDouble",
"alias": "CenterX",
"domain": null
},
{
"name": "CenterY",
"type": "esriFieldTypeDouble",
"alias": "CenterY",
"domain": null
},
{
"name": "ZOrder",
"type": "esriFieldTypeInteger",
"alias": "ZOrder",
"domain": null
},
{
"name": "SOrder",
"type": "esriFieldTypeInteger",
"alias": "SOrder",
"domain": null
},
{
"name": "StereoID",
"type": "esriFieldTypeString",
"alias": "StereoID",
"domain": null,
"length": 50
},
{
"name": "Shape_Length",
"type": "esriFieldTypeDouble",
"alias": "Shape_Length",
"domain": null
},
{
"name": "Shape_Area",
"type": "esriFieldTypeDouble",
"alias": "Shape_Area",
"domain": null
}
],
"capabilities": "Image,Metadata,Catalog",
"defaultMosaicMethod": "Center",
"allowedMosaicMethods": "Center,NorthWest,LockRaster,ByAttribute,Nadir,Viewpoint,Seamline,None",
"sortField": "",
"sortValue": null,
"sortAscending": true,
"mosaicOperator": "First",
"maxDownloadSizeLimit": 0,
"defaultCompressionQuality": 75,
"defaultResamplingMethod": "Bilinear",
"maxImageHeight": 4100,
"maxImageWidth": 15000,
"maxRecordCount": 1000,
"maxDownloadImageCount": 20,
"maxMosaicImageCount": 40,
"allowRasterFunction": true,
"rasterFunctionInfos": [
{
"name": "None",
"description": "",
"help": ""
}
],
"rasterTypeInfos": [
{
"name": "Raster Dataset",
"description": "Supports all ArcGIS Raster Datasets",
"help": ""
}
],
"mensurationCapabilities": "",
"hasHistograms": true,
"hasColormap": false,
"hasRasterAttributeTable": false,
"minScale": 0,
"maxScale": 0,
"exportTilesAllowed": false,
"supportsStatistics": true,
"supportsAdvancedQueries": true,
"editFieldsInfo": null,
"ownershipBasedAccessControlForRasters": null,
"allowComputeTiePoints": false,
"useStandardizedQueries": true,
"advancedQueryCapabilities": {
"useStandardizedQueries": true,
"supportsStatistics": true,
"supportsOrderBy": true,
"supportsDistinct": true,
"supportsPagination": true
},
"spatialReference": {
"wkid": 2910,
"latestWkid": 2910
}
}