{
 "currentVersion": 11.5,
 "serviceDescription": "Ayres Associates provided the Bismarck-Mandan Metropolitan Planning Organization with digital, color orthoimagery services in 2016. The aerial imagery was collected on March 27th and 28th using an Intergraph DMC sensor mounted in a fixed-wing aircraft equipped with Inertial Measurment Unit (IMU) and Airborne GPS. Aerial imagery was collected to support 0.42 foot ground sample distance (GSD) orthoimagery to meet the National Mapping Accuracy Standard (NMAS) for 1\"=100' scale mapping. The horizontal accuracy meets or exceeds NMAS requirements, stating that 90% of all test points be within 1/30th of an inch at mapping scale. Resultant orthoimagery was rectified to a DEM surface created from new LiDAR data acquired in 2016. Orthoimagery was delivered in PLSS section GeoTIFF and MrSID tiles and a project-wide MrSID mosaic. Additional Information: The Bismarck-Mandan MPO is a certified planning entity in the State of North Dakota and is comprised of the City of Bismarck, City of Mandan, City of Lincoln, and portions of Burleigh and Morton Counties. The purpose of the MPO is to provide a forum for public officials, citizens, and other interested groups to establish policies and plans for effectively addressing various metropolitan transportation issues. The MPO has a planning process that supports metropolitan community development and social goals. These plans and programs shall lead to the development of an integrated, inter-modal metropolitan transportation system that facilitates the efficient, economic movement of people and goods. Credits: City of Bismarck, City of Mandan, City of Lincoln, Burleigh County, Morton County.",
 "name": "Imagery/AerialImage_BisMan_2016",
 "description": "Ayres Associates provided the Bismarck-Mandan Metropolitan Planning Organization with digital, color orthoimagery services in 2016. The aerial imagery was collected on March 27th and 28th using an Intergraph DMC sensor mounted in a fixed-wing aircraft equipped with Inertial Measurment Unit (IMU) and Airborne GPS. Aerial imagery was collected to support 0.42 foot ground sample distance (GSD) orthoimagery to meet the National Mapping Accuracy Standard (NMAS) for 1\"=100' scale mapping. The horizontal accuracy meets or exceeds NMAS requirements, stating that 90% of all test points be within 1/30th of an inch at mapping scale. Resultant orthoimagery was rectified to a DEM surface created from new LiDAR data acquired in 2016. Orthoimagery was delivered in PLSS section GeoTIFF and MrSID tiles and a project-wide MrSID mosaic. Additional Information: The Bismarck-Mandan MPO is a certified planning entity in the State of North Dakota and is comprised of the City of Bismarck, City of Mandan, City of Lincoln, and portions of Burleigh and Morton Counties. The purpose of the MPO is to provide a forum for public officials, citizens, and other interested groups to establish policies and plans for effectively addressing various metropolitan transportation issues. The MPO has a planning process that supports metropolitan community development and social goals. These plans and programs shall lead to the development of an integrated, inter-modal metropolitan transportation system that facilitates the efficient, economic movement of people and goods. Credits: City of Bismarck, City of Mandan, City of Lincoln, Burleigh County, Morton County.",
 "extent": {
  "xmin": 1820074.5238000017,
  "ymin": 360162.2926000018,
  "xmax": 1948021.9655999993,
  "ymax": 480543.8617999995,
  "spatialReference": {
   "wkid": 2910,
   "latestWkid": 2910
  }
 },
 "initialExtent": {
  "xmin": 1820074.5238000017,
  "ymin": 360162.2926000018,
  "xmax": 1948021.9655999993,
  "ymax": 480543.8617999995,
  "spatialReference": {
   "wkid": 2910,
   "latestWkid": 2910
  }
 },
 "fullExtent": {
  "xmin": 1820074.5238000017,
  "ymin": 360162.2926000018,
  "xmax": 1948021.9655999993,
  "ymax": 480543.8617999995,
  "spatialReference": {
   "wkid": 2910,
   "latestWkid": 2910
  }
 },
 "sortableFields": "",
 "bandCount": 4,
 "pixelType": "U8",
 "minValues": [
  36,
  40,
  47,
  26
 ],
 "maxValues": [
  242,
  242,
  242,
  242
 ],
 "meanValues": [
  147.631154440494,
  139.10185476002027,
  125.836640967764,
  165.9231433903846
 ],
 "stdvValues": [
  18.132319290246624,
  15.891505548874699,
  13.54947173419018,
  22.077030689262433
 ],
 "serviceProperties": "NorthWest<\/MosaicMethod>First<\/MosaicOperator>true<\/SortAscending><\/LockImageID>Name<\/TileOrderField>0<\/TileOrderBase>600.000000<\/AvgImageSpacingX>300.000000<\/AvgImageSpacingY>0.0<\/ViewPointX>0.0<\/ViewPointY>0.0<\/ViewPointDefShiftX>0.0<\/ViewPointDefShiftY>JPEG<\/CompressionMethod>75<\/CompressionQuality>0.010000<\/CompressionTolerance>Bilinear<\/SamplingMethod><\/ImageServiceProperties><\/ImageServer>",
 "allowedFields": "Name,MinPS,MaxPS,LowPS,HighPS,Tag,GroupName,ProductName,CenterX,CenterY,ZOrder,Shape_Length,Shape_Area",
 "hasMultidimensions": false,
 "pixelSizeX": 0.41659999999999214,
 "pixelSizeY": 0.41659999999999203,
 "meanPixelSize": 0.1269796799999976,
 "datasetFormat": "AMD",
 "uncompressedSize": 354987505304,
 "blockWidth": 2048,
 "blockHeight": 256,
 "compressionType": "None",
 "bandNames": [
  "Band_1",
  "Band_2",
  "Band_3",
  "Band_4"
 ],
 "allowCopy": true,
 "allowAnalysis": true,
 "itemAccess": false,
 "inspectionCapabilities": "",
 "minPixelSize": 0,
 "maxPixelSize": 0,
 "copyrightText": "",
 "serviceDataType": "esriImageServiceDataTypeProcessed",
 "serviceSourceType": "esriImageServiceSourceTypeMosaicDataset",
 "objectIdField": "OBJECTID",
 "fields": [
  {
   "name": "OBJECTID",
   "type": "esriFieldTypeOID",
   "alias": "OBJECTID",
   "domain": null
  },
  {
   "name": "Shape",
   "type": "esriFieldTypeGeometry",
   "alias": "Shape",
   "domain": null
  },
  {
   "name": "Name",
   "type": "esriFieldTypeString",
   "alias": "Name",
   "domain": null,
   "length": 200
  },
  {
   "name": "MinPS",
   "type": "esriFieldTypeDouble",
   "alias": "MinPS",
   "domain": null
  },
  {
   "name": "MaxPS",
   "type": "esriFieldTypeDouble",
   "alias": "MaxPS",
   "domain": null
  },
  {
   "name": "LowPS",
   "type": "esriFieldTypeDouble",
   "alias": "LowPS",
   "domain": null
  },
  {
   "name": "HighPS",
   "type": "esriFieldTypeDouble",
   "alias": "HighPS",
   "domain": null
  },
  {
   "name": "Category",
   "type": "esriFieldTypeInteger",
   "alias": "Category",
   "domain": {
    "type": "codedValue",
    "name": "MosaicCatalogItemCategoryDomain",
    "description": "Catalog item categories.",
    "codedValues": [
     {
      "name": "Unknown",
      "code": 0
     },
     {
      "name": "Primary",
      "code": 1
     },
     {
      "name": "Overview",
      "code": 2
     },
     {
      "name": "Unprocessed Overview",
      "code": 3
     },
     {
      "name": "Partial Overview",
      "code": 4
     },
     {
      "name": "Uploaded",
      "code": 253
     },
     {
      "name": "Incomplete",
      "code": 254
     },
     {
      "name": "Custom",
      "code": 255
     }
    ],
    "mergePolicy": "esriMPTDefaultValue",
    "splitPolicy": "esriSPTDefaultValue"
   }
  },
  {
   "name": "Tag",
   "type": "esriFieldTypeString",
   "alias": "Tag",
   "domain": null,
   "length": 100
  },
  {
   "name": "GroupName",
   "type": "esriFieldTypeString",
   "alias": "GroupName",
   "domain": null,
   "length": 100
  },
  {
   "name": "ProductName",
   "type": "esriFieldTypeString",
   "alias": "ProductName",
   "domain": null,
   "length": 100
  },
  {
   "name": "CenterX",
   "type": "esriFieldTypeDouble",
   "alias": "CenterX",
   "domain": null
  },
  {
   "name": "CenterY",
   "type": "esriFieldTypeDouble",
   "alias": "CenterY",
   "domain": null
  },
  {
   "name": "ZOrder",
   "type": "esriFieldTypeInteger",
   "alias": "ZOrder",
   "domain": null
  },
  {
   "name": "Shape_Length",
   "type": "esriFieldTypeDouble",
   "alias": "Shape_Length",
   "domain": null
  },
  {
   "name": "Shape_Area",
   "type": "esriFieldTypeDouble",
   "alias": "Shape_Area",
   "domain": null
  }
 ],
 "capabilities": "Catalog,Image,Metadata",
 "defaultMosaicMethod": "Northwest",
 "allowedMosaicMethods": "NorthWest,Center,LockRaster,ByAttribute,Nadir,Viewpoint,Seamline,None",
 "sortField": "",
 "sortValue": null,
 "sortAscending": true,
 "mosaicOperator": "First",
 "maxDownloadSizeLimit": 2048,
 "defaultCompressionQuality": 75,
 "defaultResamplingMethod": "Bilinear",
 "maxImageHeight": 4100,
 "maxImageWidth": 15000,
 "maxRecordCount": 1000,
 "maxDownloadImageCount": 20,
 "maxMosaicImageCount": 20,
 "allowRasterFunction": true,
 "rasterFunctionInfos": [
  {
   "name": "None",
   "description": "",
   "help": ""
  }
 ],
 "rasterTypeInfos": [
  {
   "name": "Raster Dataset",
   "description": "Supports all ArcGIS Raster Datasets",
   "help": ""
  }
 ],
 "mensurationCapabilities": "None",
 "hasHistograms": true,
 "hasColormap": false,
 "hasRasterAttributeTable": false,
 "minScale": 0,
 "maxScale": 0,
 "exportTilesAllowed": false,
 "supportsStatistics": true,
 "supportsAdvancedQueries": true,
 "editFieldsInfo": null,
 "ownershipBasedAccessControlForRasters": null,
 "allowComputeTiePoints": false,
 "useStandardizedQueries": true,
 "advancedQueryCapabilities": {
  "useStandardizedQueries": true,
  "supportsStatistics": true,
  "supportsOrderBy": true,
  "supportsDistinct": true,
  "supportsPagination": true
 },
 "spatialReference": {
  "wkid": 2910,
  "latestWkid": 2910
 },
 "resampling": false
}
