This orthoimagery data set includes 0.25-foot digital orthoimages in 8-bit 4-band GeoTIFF; MrSID Mosaic files (20:1 compression) and (50:1 compression) along with ECW files. The geographic extent of Bismarck-Mandan MPO covers approximately 394 total square miles.Dataset Description: The Bismarck-Mandan MPO, ND 2023 Digital Orthoimagery project comprised of planning, acquisition, processing, and derived products of imagery data collected at a ground sample distance (GSD) of 0.25-foot. Project specifications are based on the American Society of Photogrammetry and Remote Sensing (ASPRS) standards. The data were developed based on a horizontal projection/datum of NAD83(2011) State Plane North Dakota South Zone, Int. Feet. Imagery data were delivered as 0.25-foot 8-bit 4-band GeoTIFF; MrSID RGB (MG3,20:1 compression); MrSID mosaic files (MG4, 20:1 and 50:1 compression) and ECW compressed files. Deliverables contained 1560 individual irregular tiles. Ground Conditions: Imagery was collected on May 3, 2023 , while minimal snow piles were present in shelter belts and protected areas due to a near record snowfall during the winter of 2023. Water levels were at or below acceptable levels. In order to post process the imagery data to meet task order specifications and meet ASPRS horizontal accuracy guidelines, 95West Aerial Mapping utilized airborne GPS, along with a total of 27 targeted control points to tie imagery to the ground and 15 feature identifiable check points to assess the horizontal accuracy of the Aerial Triangulation (AT) and resulting ortho imagery.<\/SPAN><\/P><\/DIV><\/DIV><\/DIV>",
"name": "Imagery/AerialImage_BisMan_2023",
"description": "This orthoimagery data set includes 0.25-foot digital orthoimages in 8-bit 4-band GeoTIFF; MrSID Mosaic files (20:1 compression) and (50:1 compression) along with ECW files. The geographic extent of Bismarck-Mandan MPO covers approximately 394 total square miles.Dataset Description: The Bismarck-Mandan MPO, ND 2023 Digital Orthoimagery project comprised of planning, acquisition, processing, and derived products of imagery data collected at a ground sample distance (GSD) of 0.25-foot. Project specifications are based on the American Society of Photogrammetry and Remote Sensing (ASPRS) standards. The data were developed based on a horizontal projection/datum of NAD83(2011) State Plane North Dakota South Zone, Int. Feet. Imagery data were delivered as 0.25-foot 8-bit 4-band GeoTIFF; MrSID RGB (MG3,20:1 compression); MrSID mosaic files (MG4, 20:1 and 50:1 compression) and ECW compressed files. Deliverables contained 1560 individual irregular tiles. Ground Conditions: Imagery was collected on May 3, 2023 , while minimal snow piles were present in shelter belts and protected areas due to a near record snowfall during the winter of 2023. Water levels were at or below acceptable levels. In order to post process the imagery data to meet task order specifications and meet ASPRS horizontal accuracy guidelines, 95West Aerial Mapping utilized airborne GPS, along with a total of 27 targeted control points to tie imagery to the ground and 15 feature identifiable check points to assess the horizontal accuracy of the Aerial Triangulation (AT) and resulting ortho imagery.<\/SPAN><\/P><\/DIV><\/DIV><\/DIV>",
"extent": {
"xmin": 1820050,
"ymin": 360147,
"xmax": 1948045,
"ymax": 480556,
"spatialReference": {
"wkid": 103126,
"latestWkid": 6547
}
},
"initialExtent": {
"xmin": 1820050,
"ymin": 360147,
"xmax": 1948045,
"ymax": 480556,
"spatialReference": {
"wkid": 103126,
"latestWkid": 6547
}
},
"fullExtent": {
"xmin": 1820050,
"ymin": 360147,
"xmax": 1948045,
"ymax": 480556,
"spatialReference": {
"wkid": 103126,
"latestWkid": 6547
}
},
"sortableFields": "MinPS,MaxPS,LowPS,HighPS,CenterX,CenterY,ZOrder,Shape_Length,Shape_Area",
"bandCount": 3,
"pixelType": "U8",
"minValues": [
0,
0,
0
],
"maxValues": [
255,
255,
255
],
"meanValues": [
152.0111897908884,
145.47706137771394,
144.54122643160167
],
"stdvValues": [
16.205331260054223,
15.00534964873701,
12.992012944983568
],
"serviceProperties": "NorthWest<\/MosaicMethod>First<\/MosaicOperator>true<\/SortAscending><\/LockImageID>Name<\/TileOrderField>0<\/TileOrderBase>600.000000<\/AvgImageSpacingX>300.000000<\/AvgImageSpacingY>0.0<\/ViewPointX>0.0<\/ViewPointY>0.0<\/ViewPointDefShiftX>0.0<\/ViewPointDefShiftY>LZ77<\/CompressionMethod>75<\/CompressionQuality>0.010000<\/CompressionTolerance>Bilinear<\/SamplingMethod><\/ImageServiceProperties><\/ImageServer>",
"allowedFields": "Name,MinPS,MaxPS,LowPS,HighPS,Tag,GroupName,ProductName,CenterX,CenterY,ZOrder,Shape_Length,Shape_Area",
"hasMultidimensions": false,
"pixelSizeX": 0.25,
"pixelSizeY": 0.25,
"meanPixelSize": 0.0762,
"datasetFormat": "AMD",
"uncompressedSize": 739763997840,
"blockWidth": 2048,
"blockHeight": 256,
"compressionType": "None",
"bandNames": [
"Red",
"Green",
"Blue"
],
"allowCopy": true,
"allowAnalysis": true,
"itemAccess": false,
"inspectionCapabilities": "",
"minPixelSize": 0,
"maxPixelSize": 0,
"copyrightText": "95West Aerial Mapping",
"serviceDataType": "esriImageServiceDataTypeProcessed",
"serviceSourceType": "esriImageServiceSourceTypeMosaicDataset",
"objectIdField": "OBJECTID",
"fields": [
{
"name": "OBJECTID",
"type": "esriFieldTypeOID",
"alias": "OBJECTID",
"domain": null
},
{
"name": "Shape",
"type": "esriFieldTypeGeometry",
"alias": "Shape",
"domain": null
},
{
"name": "Name",
"type": "esriFieldTypeString",
"alias": "Name",
"domain": null,
"length": 200
},
{
"name": "MinPS",
"type": "esriFieldTypeDouble",
"alias": "MinPS",
"domain": null
},
{
"name": "MaxPS",
"type": "esriFieldTypeDouble",
"alias": "MaxPS",
"domain": null
},
{
"name": "LowPS",
"type": "esriFieldTypeDouble",
"alias": "LowPS",
"domain": null
},
{
"name": "HighPS",
"type": "esriFieldTypeDouble",
"alias": "HighPS",
"domain": null
},
{
"name": "Category",
"type": "esriFieldTypeInteger",
"alias": "Category",
"domain": {
"type": "codedValue",
"name": "MosaicCatalogItemCategoryDomain",
"description": "Catalog item categories.",
"codedValues": [
{
"name": "Unknown",
"code": 0
},
{
"name": "Primary",
"code": 1
},
{
"name": "Overview",
"code": 2
},
{
"name": "Unprocessed Overview",
"code": 3
},
{
"name": "Partial Overview",
"code": 4
},
{
"name": "Inactive",
"code": 5
},
{
"name": "Uploaded",
"code": 253
},
{
"name": "Incomplete",
"code": 254
},
{
"name": "Custom",
"code": 255
}
],
"mergePolicy": "esriMPTDefaultValue",
"splitPolicy": "esriSPTDefaultValue"
}
},
{
"name": "Tag",
"type": "esriFieldTypeString",
"alias": "Tag",
"domain": null,
"length": 100
},
{
"name": "GroupName",
"type": "esriFieldTypeString",
"alias": "GroupName",
"domain": null,
"length": 100
},
{
"name": "ProductName",
"type": "esriFieldTypeString",
"alias": "ProductName",
"domain": null,
"length": 100
},
{
"name": "CenterX",
"type": "esriFieldTypeDouble",
"alias": "CenterX",
"domain": null
},
{
"name": "CenterY",
"type": "esriFieldTypeDouble",
"alias": "CenterY",
"domain": null
},
{
"name": "ZOrder",
"type": "esriFieldTypeInteger",
"alias": "ZOrder",
"domain": null
},
{
"name": "Shape_Length",
"type": "esriFieldTypeDouble",
"alias": "Shape_Length",
"domain": null
},
{
"name": "Shape_Area",
"type": "esriFieldTypeDouble",
"alias": "Shape_Area",
"domain": null
}
],
"capabilities": "Image,Metadata,Catalog",
"defaultMosaicMethod": "Northwest",
"allowedMosaicMethods": "NorthWest,Center,LockRaster,ByAttribute,Nadir,Viewpoint,Seamline,None",
"sortField": "",
"sortValue": null,
"sortAscending": true,
"mosaicOperator": "First",
"maxDownloadSizeLimit": 2048,
"defaultCompressionQuality": 75,
"defaultResamplingMethod": "Bilinear",
"maxImageHeight": 4100,
"maxImageWidth": 15000,
"maxRecordCount": 1000,
"maxDownloadImageCount": 20,
"maxMosaicImageCount": 80,
"allowRasterFunction": true,
"rasterFunctionInfos": [
{
"name": "None",
"description": "",
"help": ""
}
],
"rasterTypeInfos": [
{
"name": "Raster Dataset",
"description": "Supports all ArcGIS Raster Datasets",
"help": ""
}
],
"mensurationCapabilities": "None",
"hasHistograms": true,
"hasColormap": false,
"hasRasterAttributeTable": false,
"minScale": 0,
"maxScale": 0,
"exportTilesAllowed": false,
"supportsStatistics": true,
"supportsAdvancedQueries": true,
"editFieldsInfo": null,
"ownershipBasedAccessControlForRasters": null,
"allowComputeTiePoints": false,
"useStandardizedQueries": true,
"advancedQueryCapabilities": {
"useStandardizedQueries": true,
"supportsStatistics": true,
"supportsOrderBy": true,
"supportsDistinct": true,
"supportsPagination": true
},
"spatialReference": {
"wkid": 103126,
"latestWkid": 6547
}
}