{
 "currentVersion": 10.91,
 "serviceDescription": "This image data is the result of private and government entities working together under the guidance of Cass County, ND. Fugro USA, Inc. acquired Digital Imagery with sensor   Leica geosystems ADS100 for the Cass County, ND ortho project area April 22 - April 28, 2021. The project encompassed an area of approximately 1,768 square miles. A Leica ADS100 Digital Camera system   including an inertial measuring unit (IMU) and a dual frequency airborne GPS receiver was used for the digital image acquisition. Imagery acquisition was performed April 22 - April 28, 2021 at 6200 feet AMT   (above mean terrain), with 30 percent sidelap between the flight lines. Ground control survey was provided by the KLJ, Inc. and supplemented with existing control provided by Cass County.   Digital orthophotos in GeoTIFF format were produced with a resolution of 0.5 foot utilizing the ADS100 imagery and newly-acquired LiDAR data provided by the North Dakota State Water Commission and NRCS.   Delivery was on an External Hard Drive. Credits:  Cass County, North Dakota",
 "name": "Imagery/AerialImage_Cass_2021",
 "description": "This image data is the result of private and government entities working together under the guidance of Cass County, ND. Fugro USA, Inc. acquired Digital Imagery with sensor   Leica geosystems ADS100 for the Cass County, ND ortho project area April 22 - April 28, 2021. The project encompassed an area of approximately 1,768 square miles. A Leica ADS100 Digital Camera system   including an inertial measuring unit (IMU) and a dual frequency airborne GPS receiver was used for the digital image acquisition. Imagery acquisition was performed April 22 - April 28, 2021 at 6200 feet AMT   (above mean terrain), with 30 percent sidelap between the flight lines. Ground control survey was provided by the KLJ, Inc. and supplemented with existing control provided by Cass County.   Digital orthophotos in GeoTIFF format were produced with a resolution of 0.5 foot utilizing the ADS100 imagery and newly-acquired LiDAR data provided by the North Dakota State Water Commission and NRCS.   Delivery was on an External Hard Drive. Credits:  Cass County, North Dakota",
 "extent": {
  "xmin": 2657788.9999201447,
  "ymin": 361200.4999153167,
  "xmax": 2906810.9999201447,
  "ymax": 599813.4999153167,
  "spatialReference": {
   "wkid": 102721,
   "latestWkid": 102721
  }
 },
 "initialExtent": {
  "xmin": 2657788.9999201447,
  "ymin": 361200.4999153167,
  "xmax": 2906810.9999201447,
  "ymax": 599813.4999153167,
  "spatialReference": {
   "wkid": 102721,
   "latestWkid": 102721
  }
 },
 "fullExtent": {
  "xmin": 2657788.9999201447,
  "ymin": 361200.4999153167,
  "xmax": 2906810.9999201447,
  "ymax": 599813.4999153167,
  "spatialReference": {
   "wkid": 102721,
   "latestWkid": 102721
  }
 },
 "hasMultidimensions": false,
 "pixelSizeX": 0.5,
 "pixelSizeY": 0.5,
 "datasetFormat": "AMD",
 "uncompressedSize": 950718183776,
 "blockWidth": 2048,
 "blockHeight": 256,
 "compressionType": "None",
 "bandNames": [
  "Band_1",
  "Band_2",
  "Band_3",
  "Band_4"
 ],
 "allowCopy": true,
 "allowAnalysis": true,
 "bandCount": 4,
 "pixelType": "U8",
 "minPixelSize": 0,
 "maxPixelSize": 0,
 "copyrightText": "",
 "serviceDataType": "esriImageServiceDataTypeProcessed",
 "serviceSourceType": "esriImageServiceSourceTypeMosaicDataset",
 "minValues": [
  0,
  0,
  0,
  0
 ],
 "maxValues": [
  255,
  255,
  255,
  255
 ],
 "meanValues": [
  189.72350665520125,
  188.43559783024412,
  185.59446709159857,
  195.47377962456443
 ],
 "stdvValues": [
  82.12544671938241,
  83.57071258059297,
  86.62765971780249,
  76.46625552757669
 ],
 "objectIdField": "OBJECTID",
 "fields": [
  {
   "name": "OBJECTID",
   "type": "esriFieldTypeOID",
   "alias": "OBJECTID",
   "domain": null
  },
  {
   "name": "Shape",
   "type": "esriFieldTypeGeometry",
   "alias": "Shape",
   "domain": null
  },
  {
   "name": "Name",
   "type": "esriFieldTypeString",
   "alias": "Name",
   "domain": null,
   "length": 200
  },
  {
   "name": "MinPS",
   "type": "esriFieldTypeDouble",
   "alias": "MinPS",
   "domain": null
  },
  {
   "name": "MaxPS",
   "type": "esriFieldTypeDouble",
   "alias": "MaxPS",
   "domain": null
  },
  {
   "name": "LowPS",
   "type": "esriFieldTypeDouble",
   "alias": "LowPS",
   "domain": null
  },
  {
   "name": "HighPS",
   "type": "esriFieldTypeDouble",
   "alias": "HighPS",
   "domain": null
  },
  {
   "name": "Category",
   "type": "esriFieldTypeInteger",
   "alias": "Category",
   "domain": {
    "type": "codedValue",
    "name": "MosaicCatalogItemCategoryDomain",
    "description": "Catalog item categories.",
    "codedValues": [
     {
      "name": "Unknown",
      "code": 0
     },
     {
      "name": "Primary",
      "code": 1
     },
     {
      "name": "Overview",
      "code": 2
     },
     {
      "name": "Unprocessed Overview",
      "code": 3
     },
     {
      "name": "Partial Overview",
      "code": 4
     },
     {
      "name": "Inactive",
      "code": 5
     },
     {
      "name": "Uploaded",
      "code": 253
     },
     {
      "name": "Incomplete",
      "code": 254
     },
     {
      "name": "Custom",
      "code": 255
     }
    ],
    "mergePolicy": "esriMPTDefaultValue",
    "splitPolicy": "esriSPTDefaultValue"
   }
  },
  {
   "name": "Tag",
   "type": "esriFieldTypeString",
   "alias": "Tag",
   "domain": null,
   "length": 100
  },
  {
   "name": "GroupName",
   "type": "esriFieldTypeString",
   "alias": "GroupName",
   "domain": null,
   "length": 100
  },
  {
   "name": "ProductName",
   "type": "esriFieldTypeString",
   "alias": "ProductName",
   "domain": null,
   "length": 100
  },
  {
   "name": "CenterX",
   "type": "esriFieldTypeDouble",
   "alias": "CenterX",
   "domain": null
  },
  {
   "name": "CenterY",
   "type": "esriFieldTypeDouble",
   "alias": "CenterY",
   "domain": null
  },
  {
   "name": "ZOrder",
   "type": "esriFieldTypeInteger",
   "alias": "ZOrder",
   "domain": null
  },
  {
   "name": "Shape_Length",
   "type": "esriFieldTypeDouble",
   "alias": "Shape_Length",
   "domain": null
  },
  {
   "name": "Shape_Area",
   "type": "esriFieldTypeDouble",
   "alias": "Shape_Area",
   "domain": null
  }
 ],
 "capabilities": "Image,Metadata,Catalog",
 "defaultMosaicMethod": "Northwest",
 "allowedMosaicMethods": "NorthWest,Center,LockRaster,ByAttribute,Nadir,Viewpoint,Seamline,None",
 "sortField": "",
 "sortValue": null,
 "sortAscending": true,
 "mosaicOperator": "First",
 "maxDownloadSizeLimit": 2048,
 "defaultCompressionQuality": 75,
 "defaultResamplingMethod": "Bilinear",
 "maxImageHeight": 4100,
 "maxImageWidth": 15000,
 "maxRecordCount": 1000,
 "maxDownloadImageCount": 20,
 "maxMosaicImageCount": 20,
 "allowRasterFunction": true,
 "rasterFunctionInfos": [
  {
   "name": "None",
   "description": "A No-Op Function.",
   "help": ""
  }
 ],
 "rasterTypeInfos": [
  {
   "name": "Raster Dataset",
   "description": "Supports all ArcGIS Raster Datasets",
   "help": ""
  }
 ],
 "mensurationCapabilities": "None",
 "hasHistograms": true,
 "hasColormap": false,
 "hasRasterAttributeTable": false,
 "minScale": 0,
 "maxScale": 0,
 "exportTilesAllowed": false,
 "supportsStatistics": true,
 "supportsAdvancedQueries": true,
 "editFieldsInfo": null,
 "ownershipBasedAccessControlForRasters": null,
 "allowComputeTiePoints": false,
 "useStandardizedQueries": true,
 "advancedQueryCapabilities": {
  "useStandardizedQueries": true,
  "supportsStatistics": true,
  "supportsOrderBy": true,
  "supportsDistinct": true,
  "supportsPagination": true
 },
 "spatialReference": {
  "wkid": 102721,
  "latestWkid": 102721
 }
}