{
 "currentVersion": 11.5,
 "serviceDescription": "This imagery is derived from NDDOT interim working data and is used to digitize road centerline vector information for the DES Base Map Project. The imagery was collected from November 2009 through November 2013. Image processing was completed in January 2015.The digitized centerlines will be created with a \"sub-meter\" accuracy. The imagery will be collected during optimum viewing conditions whenever possible, however maximizing flight mission time is also a major priority. Ideal flying conditions would be during spring and fall seasons when tree and foliage cover is reduced, thus optimizing the viewing accuracy of roadway centerlines. Other factors affecting image quality can be sun angle, haze, wind speed, turbulence and cloud cover. The flight missions are also prioritized to capture certain PSAP (Public Safety Answering Point) areas ahead of other counties; However once again, weather conditions dictate where and when the flight crew can collect data.Certain image anomalies will be visible within the mosaics. These small warpages were addressed during the digitizing phase by using imagery imported from other stages of the process. It is the intent of NDDOT to eventually address all of these anomalies but at this stage of the project, production speed is a higher priority.Pixel size is approximately 0.9-feet, data is processed to UTM-14, NAD83The Base Map missions are created at a flight height above ground (HAG) of 9,000' (2743.2 meters) which creates imagery with a .90'(27.432 cm) ground sample distance (GSD). The resultant imagery covers a base corridor 12,400' (3779.52 meters) wide.Image collection dates:McHenry County (pilot project): Nov. 20, 24, 27, 30, 2009Block 46096N: 11/6/10-11/7/10Block 46096S: 5/10/12-6/12/12Block 46097N: 11/7/10-9/8/11Block 46097S: 7/11/11-11/9/11Block 46098N: 6/16/10-8/26/10Block 46098S: 6/16/10-8/27/10Block 46099N: 11/12/10-8/24/10Block 46099S: 8/13/10-9/12/10Block 46100N: 11/5/10-5/2/11Block 46100S: 8/13/10-10/4/10Block 46101N: 9/13/10-5/3/11Block 46101S: 6/24/10-8/24/10Block 46102N: 9/7/10-6/13/11Block 46102S: 6/21/10-8/6/10Block 46103N: 8/5/10-9/7/10Block 46103S: 6/9/10-7/16/10Block 47096S: 9/8/11-9/9/11Block 47097N: 11/17/11-8/10/12Block 47097S: 9/15/11-10/21/11Block 47098N: 6/2/10-5/9/13Block 47098S: 7/12/11-9/6/11Block 47099N: 9/8/10-10/5/10Block 47099S: 9/13/10-5/3/11Block 47100N: 10/2/10-8/22/11Block 47100S: 9/8/10-7/25/11Block 47101N: 10/31/11-5/17/12Block 47101S: 8/22/11-5/3/12Block 47102N: 8/13/12-8/30/12Block 47102S: 5/11/12-6/15/12Block 47103N: 8/26/11-11/29/11Block 47103S: 7/30/10-10/4/11Block 48097N: 8/29/12-8/1/13Block 48097S: 11/17/11-7/29/13Block 48098N: 7/27/12-8/1/13Block 48098S: 6/2/10-7/29/13Block 48099N: 6/14/10-11/13/13Block 48099S: 7/26/10-7/19/13Block 48100N: 6/14/10-6/19/13Block 48100S: 11/20/09-11/30/09, 6/14/10-7/26/10Block 48101N: 8/2/12-6/11/13Block 48101S: 8/2/12-8/17/12Block 48102N: 7/21/10-11/4/11Block 48102S: 9/14/12-11/17/12Block 48103N: 7/29/10-4/25/11Block 48103S: 9/27/11-5/9/12",
 "name": "Imagery/AerialImage_DES_BaseMap",
 "description": "This imagery is derived from NDDOT interim working data and is used to digitize road centerline vector information for the DES Base Map Project. The imagery was collected from November 2009 through November 2013. Image processing was completed in January 2015.The digitized centerlines will be created with a \"sub-meter\" accuracy. The imagery will be collected during optimum viewing conditions whenever possible, however maximizing flight mission time is also a major priority. Ideal flying conditions would be during spring and fall seasons when tree and foliage cover is reduced, thus optimizing the viewing accuracy of roadway centerlines. Other factors affecting image quality can be sun angle, haze, wind speed, turbulence and cloud cover. The flight missions are also prioritized to capture certain PSAP (Public Safety Answering Point) areas ahead of other counties; However once again, weather conditions dictate where and when the flight crew can collect data.Certain image anomalies will be visible within the mosaics. These small warpages were addressed during the digitizing phase by using imagery imported from other stages of the process. It is the intent of NDDOT to eventually address all of these anomalies but at this stage of the project, production speed is a higher priority.Pixel size is approximately 0.9-feet, data is processed to UTM-14, NAD83The Base Map missions are created at a flight height above ground (HAG) of 9,000' (2743.2 meters) which creates imagery with a .90'(27.432 cm) ground sample distance (GSD). The resultant imagery covers a base corridor 12,400' (3779.52 meters) wide.Image collection dates:McHenry County (pilot project): Nov. 20, 24, 27, 30, 2009Block 46096N: 11/6/10-11/7/10Block 46096S: 5/10/12-6/12/12Block 46097N: 11/7/10-9/8/11Block 46097S: 7/11/11-11/9/11Block 46098N: 6/16/10-8/26/10Block 46098S: 6/16/10-8/27/10Block 46099N: 11/12/10-8/24/10Block 46099S: 8/13/10-9/12/10Block 46100N: 11/5/10-5/2/11Block 46100S: 8/13/10-10/4/10Block 46101N: 9/13/10-5/3/11Block 46101S: 6/24/10-8/24/10Block 46102N: 9/7/10-6/13/11Block 46102S: 6/21/10-8/6/10Block 46103N: 8/5/10-9/7/10Block 46103S: 6/9/10-7/16/10Block 47096S: 9/8/11-9/9/11Block 47097N: 11/17/11-8/10/12Block 47097S: 9/15/11-10/21/11Block 47098N: 6/2/10-5/9/13Block 47098S: 7/12/11-9/6/11Block 47099N: 9/8/10-10/5/10Block 47099S: 9/13/10-5/3/11Block 47100N: 10/2/10-8/22/11Block 47100S: 9/8/10-7/25/11Block 47101N: 10/31/11-5/17/12Block 47101S: 8/22/11-5/3/12Block 47102N: 8/13/12-8/30/12Block 47102S: 5/11/12-6/15/12Block 47103N: 8/26/11-11/29/11Block 47103S: 7/30/10-10/4/11Block 48097N: 8/29/12-8/1/13Block 48097S: 11/17/11-7/29/13Block 48098N: 7/27/12-8/1/13Block 48098S: 6/2/10-7/29/13Block 48099N: 6/14/10-11/13/13Block 48099S: 7/26/10-7/19/13Block 48100N: 6/14/10-6/19/13Block 48100S: 11/20/09-11/30/09, 6/14/10-7/26/10Block 48101N: 8/2/12-6/11/13Block 48101S: 8/2/12-8/17/12Block 48102N: 7/21/10-11/4/11Block 48102S: 9/14/12-11/17/12Block 48103N: 7/29/10-4/25/11Block 48103S: 9/27/11-5/9/12",
 "extent": {
  "xmin": 107854.05356366333,
  "ymin": 5084144.975847524,
  "xmax": 690114.4006847567,
  "ymax": 5440421.98562221,
  "spatialReference": {
   "wkid": 26914,
   "latestWkid": 26914
  }
 },
 "initialExtent": {
  "xmin": 107854.05356366333,
  "ymin": 5084144.975847524,
  "xmax": 690114.4006847567,
  "ymax": 5440421.98562221,
  "spatialReference": {
   "wkid": 26914,
   "latestWkid": 26914
  }
 },
 "fullExtent": {
  "xmin": 107854.05356366333,
  "ymin": 5084144.975847524,
  "xmax": 690114.4006847567,
  "ymax": 5440421.98562221,
  "spatialReference": {
   "wkid": 26914,
   "latestWkid": 26914
  }
 },
 "sortableFields": "",
 "bandCount": 3,
 "pixelType": "U8",
 "minValues": [
  0,
  0,
  0
 ],
 "maxValues": [
  255,
  252,
  252
 ],
 "meanValues": [
  106.68556657068022,
  107.6334600683651,
  100.61365304377296
 ],
 "stdvValues": [
  31.397714203809166,
  21.69348647542664,
  19.089219066203448
 ],
 "serviceProperties": "Center<\/MosaicMethod>First<\/MosaicOperator>true<\/SortAscending><\/LockImageID>Name<\/TileOrderField>0<\/TileOrderBase>600.000000<\/AvgImageSpacingX>300.000000<\/AvgImageSpacingY>0.0<\/ViewPointX>0.0<\/ViewPointY>0.0<\/ViewPointDefShiftX>0.0<\/ViewPointDefShiftY>JPEG<\/CompressionMethod>75<\/CompressionQuality>0.010000<\/CompressionTolerance>Bilinear<\/SamplingMethod><\/ImageServiceProperties><\/ImageServer>",
 "allowedFields": "Name,MinPS,MaxPS,LowPS,HighPS,Tag,GroupName,ProductName,CenterX,CenterY,ZOrder,SOrder,StereoID,Shape_Length,Shape_Area",
 "hasMultidimensions": false,
 "pixelSizeX": 0.27313059426771036,
 "pixelSizeY": 0.27313059426771036,
 "meanPixelSize": 0.27313059426771036,
 "datasetFormat": "AMD",
 "uncompressedSize": 8342295494520,
 "blockWidth": 2048,
 "blockHeight": 256,
 "compressionType": "None",
 "bandNames": [
  "Band_1",
  "Band_2",
  "Band_3"
 ],
 "allowCopy": true,
 "allowAnalysis": true,
 "itemAccess": false,
 "inspectionCapabilities": "",
 "minPixelSize": 0,
 "maxPixelSize": 0,
 "copyrightText": "Department of Emergency Services, Department of Transportation, ND GIS Hub",
 "serviceDataType": "esriImageServiceDataTypeProcessed",
 "serviceSourceType": "esriImageServiceSourceTypeMosaicDataset",
 "objectIdField": "OBJECTID",
 "fields": [
  {
   "name": "OBJECTID",
   "type": "esriFieldTypeOID",
   "alias": "OBJECTID",
   "domain": null
  },
  {
   "name": "Shape",
   "type": "esriFieldTypeGeometry",
   "alias": "Shape",
   "domain": null
  },
  {
   "name": "Name",
   "type": "esriFieldTypeString",
   "alias": "Name",
   "domain": null,
   "length": 50
  },
  {
   "name": "MinPS",
   "type": "esriFieldTypeDouble",
   "alias": "MinPS",
   "domain": null
  },
  {
   "name": "MaxPS",
   "type": "esriFieldTypeDouble",
   "alias": "MaxPS",
   "domain": null
  },
  {
   "name": "LowPS",
   "type": "esriFieldTypeDouble",
   "alias": "LowPS",
   "domain": null
  },
  {
   "name": "HighPS",
   "type": "esriFieldTypeDouble",
   "alias": "HighPS",
   "domain": null
  },
  {
   "name": "Category",
   "type": "esriFieldTypeInteger",
   "alias": "Category",
   "domain": null
  },
  {
   "name": "Tag",
   "type": "esriFieldTypeString",
   "alias": "Tag",
   "domain": null,
   "length": 20
  },
  {
   "name": "GroupName",
   "type": "esriFieldTypeString",
   "alias": "GroupName",
   "domain": null,
   "length": 50
  },
  {
   "name": "ProductName",
   "type": "esriFieldTypeString",
   "alias": "ProductName",
   "domain": null,
   "length": 50
  },
  {
   "name": "CenterX",
   "type": "esriFieldTypeDouble",
   "alias": "CenterX",
   "domain": null
  },
  {
   "name": "CenterY",
   "type": "esriFieldTypeDouble",
   "alias": "CenterY",
   "domain": null
  },
  {
   "name": "ZOrder",
   "type": "esriFieldTypeInteger",
   "alias": "ZOrder",
   "domain": null
  },
  {
   "name": "SOrder",
   "type": "esriFieldTypeInteger",
   "alias": "SOrder",
   "domain": null
  },
  {
   "name": "StereoID",
   "type": "esriFieldTypeString",
   "alias": "StereoID",
   "domain": null,
   "length": 50
  },
  {
   "name": "Shape_Length",
   "type": "esriFieldTypeDouble",
   "alias": "Shape_Length",
   "domain": null
  },
  {
   "name": "Shape_Area",
   "type": "esriFieldTypeDouble",
   "alias": "Shape_Area",
   "domain": null
  }
 ],
 "capabilities": "Catalog,Mensuration,Image,Metadata",
 "defaultMosaicMethod": "Center",
 "allowedMosaicMethods": "Center,NorthWest,LockRaster,ByAttribute,Nadir,Viewpoint,Seamline,None",
 "sortField": "",
 "sortValue": null,
 "sortAscending": true,
 "mosaicOperator": "First",
 "maxDownloadSizeLimit": 0,
 "defaultCompressionQuality": 75,
 "defaultResamplingMethod": "Bilinear",
 "maxImageHeight": 4100,
 "maxImageWidth": 15000,
 "maxRecordCount": 1000,
 "maxDownloadImageCount": 20,
 "maxMosaicImageCount": 20,
 "allowRasterFunction": true,
 "rasterFunctionInfos": [
  {
   "name": "None",
   "description": "",
   "help": ""
  }
 ],
 "rasterTypeInfos": [
  {
   "name": "Raster Dataset",
   "description": "Supports all ArcGIS Raster Datasets",
   "help": ""
  }
 ],
 "mensurationCapabilities": "Basic",
 "hasHistograms": true,
 "hasColormap": false,
 "hasRasterAttributeTable": false,
 "minScale": 0,
 "maxScale": 0,
 "exportTilesAllowed": false,
 "supportsStatistics": true,
 "supportsAdvancedQueries": true,
 "editFieldsInfo": null,
 "ownershipBasedAccessControlForRasters": null,
 "allowComputeTiePoints": false,
 "useStandardizedQueries": true,
 "advancedQueryCapabilities": {
  "useStandardizedQueries": true,
  "supportsStatistics": true,
  "supportsOrderBy": true,
  "supportsDistinct": true,
  "supportsPagination": true
 },
 "spatialReference": {
  "wkid": 26914,
  "latestWkid": 26914
 },
 "resampling": false
}
