{ "currentVersion": 10.91, "serviceDescription": "

This aerial photography is the result of a joint project between the City of Devils Lake and Ramsey County, ND. The imagery was collected May 22, 2013 and was flown at at 3600\u2019 AGL with leaf off. The pixel resolution of the orthos is .25 feet. The project encompassed an area of approximately 74 square miles.<\/span><\/p>
<\/p><\/div><\/div><\/div>", "name": "Imagery/AerialImage_DevilsLake_2013", "description": "

This aerial photography is the result of a joint project between the City of Devils Lake and Ramsey County, ND. The imagery was collected May 22, 2013 and was flown at at 3600\u2019 AGL with leaf off. The pixel resolution of the orthos is .25 feet. The project encompassed an area of approximately 74 square miles.<\/span><\/p>
<\/p><\/div><\/div><\/div>", "extent": { "xmin": 2324068.5, "ymin": 378664.5, "xmax": 2408000, "ymax": 427619.25, "spatialReference": { "wkid": 102720, "latestWkid": 102720 } }, "initialExtent": { "xmin": 2324068.5, "ymin": 378664.5, "xmax": 2408000, "ymax": 427619.25, "spatialReference": { "wkid": 102720, "latestWkid": 102720 } }, "fullExtent": { "xmin": 2324068.5, "ymin": 378664.5, "xmax": 2408000, "ymax": 427619.25, "spatialReference": { "wkid": 102720, "latestWkid": 102720 } }, "hasMultidimensions": false, "pixelSizeX": 0.25, "pixelSizeY": 0.25, "datasetFormat": "AMD", "uncompressedSize": 197224588782, "blockWidth": 2048, "blockHeight": 256, "compressionType": "None", "bandNames": [ "Band_1", "Band_2", "Band_3" ], "allowCopy": true, "allowAnalysis": true, "bandCount": 3, "pixelType": "U8", "minPixelSize": 0, "maxPixelSize": 0, "copyrightText": "Ramsey County, City of Devils Lake", "serviceDataType": "esriImageServiceDataTypeProcessed", "serviceSourceType": "esriImageServiceSourceTypeMosaicDataset", "minValues": [ 0, 0, 0 ], "maxValues": [ 255, 255, 255 ], "meanValues": [ 136.15587619067375, 139.28809448824836, 125.07546009840325 ], "stdvValues": [ 45.19288811680809, 42.59651328910477, 46.025371335471775 ], "objectIdField": "OBJECTID", "fields": [ { "name": "OBJECTID", "type": "esriFieldTypeOID", "alias": "OBJECTID", "domain": null }, { "name": "Shape", "type": "esriFieldTypeGeometry", "alias": "Shape", "domain": null }, { "name": "Name", "type": "esriFieldTypeString", "alias": "Name", "domain": null, "length": 50 }, { "name": "MinPS", "type": "esriFieldTypeDouble", "alias": "MinPS", "domain": null }, { "name": "MaxPS", "type": "esriFieldTypeDouble", "alias": "MaxPS", "domain": null }, { "name": "LowPS", "type": "esriFieldTypeDouble", "alias": "LowPS", "domain": null }, { "name": "HighPS", "type": "esriFieldTypeDouble", "alias": "HighPS", "domain": null }, { "name": "Category", "type": "esriFieldTypeInteger", "alias": "Category", "domain": { "type": "codedValue", "name": "MosaicCatalogItemCategoryDomain", "description": "Catalog item categories.", "codedValues": [ { "name": "Unknown", "code": 0 }, { "name": "Primary", "code": 1 }, { "name": "Overview", "code": 2 }, { "name": "Unprocessed Overview", "code": 3 }, { "name": "Partial Overview", "code": 4 }, { "name": "Uploaded", "code": 253 }, { "name": "Incomplete", "code": 254 }, { "name": "Custom", "code": 255 } ], "mergePolicy": "esriMPTDefaultValue", "splitPolicy": "esriSPTDefaultValue" } }, { "name": "Tag", "type": "esriFieldTypeString", "alias": "Tag", "domain": null, "length": 20 }, { "name": "GroupName", "type": "esriFieldTypeString", "alias": "GroupName", "domain": null, "length": 50 }, { "name": "ProductName", "type": "esriFieldTypeString", "alias": "ProductName", "domain": null, "length": 50 }, { "name": "CenterX", "type": "esriFieldTypeDouble", "alias": "CenterX", "domain": null }, { "name": "CenterY", "type": "esriFieldTypeDouble", "alias": "CenterY", "domain": null }, { "name": "ZOrder", "type": "esriFieldTypeInteger", "alias": "ZOrder", "domain": null }, { "name": "SOrder", "type": "esriFieldTypeInteger", "alias": "SOrder", "domain": null }, { "name": "StereoID", "type": "esriFieldTypeString", "alias": "StereoID", "domain": null, "length": 50 }, { "name": "Shape_Length", "type": "esriFieldTypeDouble", "alias": "Shape_Length", "domain": null }, { "name": "Shape_Area", "type": "esriFieldTypeDouble", "alias": "Shape_Area", "domain": null } ], "capabilities": "Catalog,Image,Metadata", "defaultMosaicMethod": "Center", "allowedMosaicMethods": "Center,NorthWest,LockRaster,ByAttribute,Nadir,Viewpoint,Seamline,None", "sortField": "", "sortValue": null, "sortAscending": true, "mosaicOperator": "First", "maxDownloadSizeLimit": 0, "defaultCompressionQuality": 75, "defaultResamplingMethod": "Bilinear", "maxImageHeight": 4100, "maxImageWidth": 15000, "maxRecordCount": 1000, "maxDownloadImageCount": 20, "maxMosaicImageCount": 20, "allowRasterFunction": true, "rasterFunctionInfos": [ { "name": "None", "description": "", "help": "" } ], "rasterTypeInfos": [ { "name": "Raster Dataset", "description": "Supports all ArcGIS Raster Datasets", "help": "" } ], "mensurationCapabilities": "", "hasHistograms": true, "hasColormap": false, "hasRasterAttributeTable": false, "minScale": 0, "maxScale": 0, "exportTilesAllowed": false, "supportsStatistics": true, "supportsAdvancedQueries": true, "editFieldsInfo": null, "ownershipBasedAccessControlForRasters": null, "allowComputeTiePoints": false, "useStandardizedQueries": true, "advancedQueryCapabilities": { "useStandardizedQueries": true, "supportsStatistics": true, "supportsOrderBy": true, "supportsDistinct": true, "supportsPagination": true }, "spatialReference": { "wkid": 102720, "latestWkid": 102720 } }