{ "currentVersion": 11.5, "serviceDescription": "

Ayres Associates provided the Grand Forks \u2013 East Grand Forks Metropolitan Planning Organization with digital, color orthoimagery services in 2025. The aerial imagery was collected on April 20th and May 3rd using an UltraCam Osprey 4.1 sensor mounted in a fixed-wing aircraft equipped with Inertial Measurment Unit (IMU) and Airborne GPS. Aerial imagery was collected to support 0.25 foot ground sample distance (GSD) orthoimagery to meet the National Mapping Accuracy Standard (NMAS) for 1\"=50' scale mapping. The horizontal accuracy meets or exceeds NMAS requirements, stating that 90% of all test points be within 1/30th of an inch at mapping scale. Resultant orthoimagery was rectified to a DEM surface created from existing LiDAR data. Orthoimagery was delivered in PLSS quarter section GeoTIFF, ECW, and MrSID tiles and a project-wide ECW and MrSID mosaic. Additional Information: The Grand Forks \u2013 East Grand Forks Metropolitan Planning Organization is a certified planning entity in the State of North Dakota and Minnesota and is comprised of the cities of Grand Forks and East Grand Forks. The purpose of the MPO is to provide a forum for public officials, citizens, and other interested groups to establish policies and plans for effectively addressing various metropolitan transportation issues. The MPO has a planning process that supports metropolitan community development and social goals. These plans and programs shall lead to the development of an integrated, inter-modal metropolitan transportation system that facilitates the efficient, economic movement of people and goods.<\/SPAN><\/P>
This data covers the entirety of the 2025 Grand Forks \u2013 East Grand Forks Metropolitan Planning Organization Orthophotography Initiative. Photo positioning was obtained through the use of Inertial Measurement Unit (IMU), Airborne Global Positioning System (ABGPS) and ground-based GPS technology. The imagery was collected using an UltraCam Osprey 4.1 sensor at 7.25cm GSD. Imagery was captured in the absence of haze, fog, smoke, snow, ice, and dust, while streams were within the normal confines of their banks, and while clouds or cloud shadows were limited to 5% of the area of any one image; Image quality was verified during the post flight review phase. A rigorous Aerotriangulation process was performed and supplemented by the ground control. The triangulated strips were rectified using a DEM created from existing LiDAR data. The imagery was mosiacked using manual seamline generation and tone/color balanced to a project-wide consistency. PLSS quarter section RGBI tiles were extracted from the mosiac and each individual tile was reviewed for artifacts and anomalies and adjusted as part of quality control procedures. The images were reviewed for rectification problems such as bridge displacements and seamline issues caused by the underlying digital elevation model. When necessary, local corrections to the imagery were performed to minimize such effects. Images were color corrected to match adjacent flight lines. The resulting imagery was tonally adjusted in terms of contrast and color to form a radiometrically consistent orthophoto mosaic.<\/SPAN><\/P><\/DIV><\/DIV><\/DIV>", "name": "Imagery/AerialImage_GrandForks_2025", "description": "

Ayres Associates provided the Grand Forks \u2013 East Grand Forks Metropolitan Planning Organization with digital, color orthoimagery services in 2025. The aerial imagery was collected on April 20th and May 3rd using an UltraCam Osprey 4.1 sensor mounted in a fixed-wing aircraft equipped with Inertial Measurment Unit (IMU) and Airborne GPS. Aerial imagery was collected to support 0.25 foot ground sample distance (GSD) orthoimagery to meet the National Mapping Accuracy Standard (NMAS) for 1\"=50' scale mapping. The horizontal accuracy meets or exceeds NMAS requirements, stating that 90% of all test points be within 1/30th of an inch at mapping scale. Resultant orthoimagery was rectified to a DEM surface created from existing LiDAR data. Orthoimagery was delivered in PLSS quarter section GeoTIFF, ECW, and MrSID tiles and a project-wide ECW and MrSID mosaic. Additional Information: The Grand Forks \u2013 East Grand Forks Metropolitan Planning Organization is a certified planning entity in the State of North Dakota and Minnesota and is comprised of the cities of Grand Forks and East Grand Forks. The purpose of the MPO is to provide a forum for public officials, citizens, and other interested groups to establish policies and plans for effectively addressing various metropolitan transportation issues. The MPO has a planning process that supports metropolitan community development and social goals. These plans and programs shall lead to the development of an integrated, inter-modal metropolitan transportation system that facilitates the efficient, economic movement of people and goods.<\/SPAN><\/P>
This data covers the entirety of the 2025 Grand Forks \u2013 East Grand Forks Metropolitan Planning Organization Orthophotography Initiative. Photo positioning was obtained through the use of Inertial Measurement Unit (IMU), Airborne Global Positioning System (ABGPS) and ground-based GPS technology. The imagery was collected using an UltraCam Osprey 4.1 sensor at 7.25cm GSD. Imagery was captured in the absence of haze, fog, smoke, snow, ice, and dust, while streams were within the normal confines of their banks, and while clouds or cloud shadows were limited to 5% of the area of any one image; Image quality was verified during the post flight review phase. A rigorous Aerotriangulation process was performed and supplemented by the ground control. The triangulated strips were rectified using a DEM created from existing LiDAR data. The imagery was mosiacked using manual seamline generation and tone/color balanced to a project-wide consistency. PLSS quarter section RGBI tiles were extracted from the mosiac and each individual tile was reviewed for artifacts and anomalies and adjusted as part of quality control procedures. The images were reviewed for rectification problems such as bridge displacements and seamline issues caused by the underlying digital elevation model. When necessary, local corrections to the imagery were performed to minimize such effects. Images were color corrected to match adjacent flight lines. The resulting imagery was tonally adjusted in terms of contrast and color to form a radiometrically consistent orthophoto mosaic.<\/SPAN><\/P><\/DIV><\/DIV><\/DIV>", "extent": { "xmin": 2771471.3588514775, "ymin": 314743.55708655715, "xmax": 2844528.3588514775, "ymax": 387461.05708655715, "spatialReference": { "wkt2": "PROJCRS[\"NAD_1983_2011_North_Dakota_North_ft\",BASEGEOGCRS[\"GCS_NAD_1983_2011\",DATUM[\"D_NAD_1983_2011\",ELLIPSOID[\"GRS_1980\",6378137.0,298.257222101,LENGTHUNIT[\"Meter\",1.0]]],PRIMEM[\"Greenwich\",0.0,ANGLEUNIT[\"Degree\",0.0174532925199433]],CS[ellipsoidal,2],AXIS[\"Latitude (lat)\",north,ORDER[1]],AXIS[\"Longitude (lon)\",east,ORDER[2]],ANGLEUNIT[\"Degree\",0.0174532925199433]],CONVERSION[\"Lambert_Conformal_Conic\",METHOD[\"Lambert_Conformal_Conic\"],PARAMETER[\"False_Easting\",1968500.0,LENGTHUNIT[\"Foot_US\",0.3048006096012192]],PARAMETER[\"False_Northing\",0.0,LENGTHUNIT[\"Foot_US\",0.3048006096012192]],PARAMETER[\"Central_Meridian\",-100.5,ANGLEUNIT[\"Degree\",0.0174532925199433]],PARAMETER[\"Standard_Parallel_1\",47.4333333333333,ANGLEUNIT[\"Degree\",0.0174532925199433]],PARAMETER[\"Standard_Parallel_2\",48.7333333333333,ANGLEUNIT[\"Degree\",0.0174532925199433]],PARAMETER[\"Latitude_Of_Origin\",47.0,ANGLEUNIT[\"Degree\",0.0174532925199433]]],CS[Cartesian,2],AXIS[\"Easting (X)\",east,ORDER[1]],AXIS[\"Northing (Y)\",north,ORDER[2]],LENGTHUNIT[\"Foot_US\",0.3048006096012192]]", "wkt": "PROJCS[\"NAD_1983_2011_North_Dakota_North_ft\",GEOGCS[\"GCS_NAD_1983_2011\",DATUM[\"D_NAD_1983_2011\",SPHEROID[\"GRS_1980\",6378137.0,298.257222101]],PRIMEM[\"Greenwich\",0.0],UNIT[\"Degree\",0.0174532925199433]],PROJECTION[\"Lambert_Conformal_Conic\"],PARAMETER[\"False_Easting\",1968500.0],PARAMETER[\"False_Northing\",0.0],PARAMETER[\"Central_Meridian\",-100.5],PARAMETER[\"Standard_Parallel_1\",47.4333333333333],PARAMETER[\"Standard_Parallel_2\",48.7333333333333],PARAMETER[\"Latitude_Of_Origin\",47.0],UNIT[\"Foot_US\",0.3048006096012192]]" } }, "initialExtent": { "xmin": 2771471.3588514775, "ymin": 314743.55708655715, "xmax": 2844528.3588514775, "ymax": 387461.05708655715, "spatialReference": { "wkt2": "PROJCRS[\"NAD_1983_2011_North_Dakota_North_ft\",BASEGEOGCRS[\"GCS_NAD_1983_2011\",DATUM[\"D_NAD_1983_2011\",ELLIPSOID[\"GRS_1980\",6378137.0,298.257222101,LENGTHUNIT[\"Meter\",1.0]]],PRIMEM[\"Greenwich\",0.0,ANGLEUNIT[\"Degree\",0.0174532925199433]],CS[ellipsoidal,2],AXIS[\"Latitude (lat)\",north,ORDER[1]],AXIS[\"Longitude (lon)\",east,ORDER[2]],ANGLEUNIT[\"Degree\",0.0174532925199433]],CONVERSION[\"Lambert_Conformal_Conic\",METHOD[\"Lambert_Conformal_Conic\"],PARAMETER[\"False_Easting\",1968500.0,LENGTHUNIT[\"Foot_US\",0.3048006096012192]],PARAMETER[\"False_Northing\",0.0,LENGTHUNIT[\"Foot_US\",0.3048006096012192]],PARAMETER[\"Central_Meridian\",-100.5,ANGLEUNIT[\"Degree\",0.0174532925199433]],PARAMETER[\"Standard_Parallel_1\",47.4333333333333,ANGLEUNIT[\"Degree\",0.0174532925199433]],PARAMETER[\"Standard_Parallel_2\",48.7333333333333,ANGLEUNIT[\"Degree\",0.0174532925199433]],PARAMETER[\"Latitude_Of_Origin\",47.0,ANGLEUNIT[\"Degree\",0.0174532925199433]]],CS[Cartesian,2],AXIS[\"Easting (X)\",east,ORDER[1]],AXIS[\"Northing (Y)\",north,ORDER[2]],LENGTHUNIT[\"Foot_US\",0.3048006096012192]]", "wkt": "PROJCS[\"NAD_1983_2011_North_Dakota_North_ft\",GEOGCS[\"GCS_NAD_1983_2011\",DATUM[\"D_NAD_1983_2011\",SPHEROID[\"GRS_1980\",6378137.0,298.257222101]],PRIMEM[\"Greenwich\",0.0],UNIT[\"Degree\",0.0174532925199433]],PROJECTION[\"Lambert_Conformal_Conic\"],PARAMETER[\"False_Easting\",1968500.0],PARAMETER[\"False_Northing\",0.0],PARAMETER[\"Central_Meridian\",-100.5],PARAMETER[\"Standard_Parallel_1\",47.4333333333333],PARAMETER[\"Standard_Parallel_2\",48.7333333333333],PARAMETER[\"Latitude_Of_Origin\",47.0],UNIT[\"Foot_US\",0.3048006096012192]]" } }, "fullExtent": { "xmin": 2771471.3588514775, "ymin": 314743.55708655715, "xmax": 2844528.3588514775, "ymax": 387461.05708655715, "spatialReference": { "wkt2": "PROJCRS[\"NAD_1983_2011_North_Dakota_North_ft\",BASEGEOGCRS[\"GCS_NAD_1983_2011\",DATUM[\"D_NAD_1983_2011\",ELLIPSOID[\"GRS_1980\",6378137.0,298.257222101,LENGTHUNIT[\"Meter\",1.0]]],PRIMEM[\"Greenwich\",0.0,ANGLEUNIT[\"Degree\",0.0174532925199433]],CS[ellipsoidal,2],AXIS[\"Latitude (lat)\",north,ORDER[1]],AXIS[\"Longitude (lon)\",east,ORDER[2]],ANGLEUNIT[\"Degree\",0.0174532925199433]],CONVERSION[\"Lambert_Conformal_Conic\",METHOD[\"Lambert_Conformal_Conic\"],PARAMETER[\"False_Easting\",1968500.0,LENGTHUNIT[\"Foot_US\",0.3048006096012192]],PARAMETER[\"False_Northing\",0.0,LENGTHUNIT[\"Foot_US\",0.3048006096012192]],PARAMETER[\"Central_Meridian\",-100.5,ANGLEUNIT[\"Degree\",0.0174532925199433]],PARAMETER[\"Standard_Parallel_1\",47.4333333333333,ANGLEUNIT[\"Degree\",0.0174532925199433]],PARAMETER[\"Standard_Parallel_2\",48.7333333333333,ANGLEUNIT[\"Degree\",0.0174532925199433]],PARAMETER[\"Latitude_Of_Origin\",47.0,ANGLEUNIT[\"Degree\",0.0174532925199433]]],CS[Cartesian,2],AXIS[\"Easting (X)\",east,ORDER[1]],AXIS[\"Northing (Y)\",north,ORDER[2]],LENGTHUNIT[\"Foot_US\",0.3048006096012192]]", "wkt": "PROJCS[\"NAD_1983_2011_North_Dakota_North_ft\",GEOGCS[\"GCS_NAD_1983_2011\",DATUM[\"D_NAD_1983_2011\",SPHEROID[\"GRS_1980\",6378137.0,298.257222101]],PRIMEM[\"Greenwich\",0.0],UNIT[\"Degree\",0.0174532925199433]],PROJECTION[\"Lambert_Conformal_Conic\"],PARAMETER[\"False_Easting\",1968500.0],PARAMETER[\"False_Northing\",0.0],PARAMETER[\"Central_Meridian\",-100.5],PARAMETER[\"Standard_Parallel_1\",47.4333333333333],PARAMETER[\"Standard_Parallel_2\",48.7333333333333],PARAMETER[\"Latitude_Of_Origin\",47.0],UNIT[\"Foot_US\",0.3048006096012192]]" } }, "sortableFields": "MinPS,MaxPS,LowPS,HighPS,CenterX,CenterY,ZOrder,Shape_Length,Shape_Area", "bandCount": 4, "pixelType": "U8", "minValues": [ 0, 0, 0, 0 ], "maxValues": [ 255, 255, 255, 255 ], "meanValues": [ 98.07085127226902, 91.46069439789605, 82.37539744945575, 114.46330037725912 ], "stdvValues": [ 24.739439053128745, 23.2968694193916, 20.00979206968064, 29.757185288183102 ], "serviceProperties": "NorthWest<\/MosaicMethod>First<\/MosaicOperator>true<\/SortAscending><\/LockImageID>Name<\/TileOrderField>0<\/TileOrderBase>600.000000<\/AvgImageSpacingX>300.000000<\/AvgImageSpacingY>0.0<\/ViewPointX>0.0<\/ViewPointY>0.0<\/ViewPointDefShiftX>0.0<\/ViewPointDefShiftY>JPEG<\/CompressionMethod>75<\/CompressionQuality>0.010000<\/CompressionTolerance>Bilinear<\/SamplingMethod><\/ImageServiceProperties><\/ImageServer>", "allowedFields": "Name,MinPS,MaxPS,LowPS,HighPS,Tag,GroupName,ProductName,CenterX,CenterY,ZOrder,Shape_Length,Shape_Area", "hasMultidimensions": false, "pixelSizeX": 0.25, "pixelSizeY": 0.25, "meanPixelSize": 0.07620015240030481, "datasetFormat": "AMD", "uncompressedSize": 340001433440, "blockWidth": 2048, "blockHeight": 256, "compressionType": "None", "bandNames": [ "Red", "Green", "Blue", "Infrared" ], "allowCopy": true, "allowAnalysis": true, "itemAccess": false, "inspectionCapabilities": "", "minPixelSize": 0, "maxPixelSize": 0, "copyrightText": "Grand Forks/East Grand Forks Metropolitan Planning Organization (MPO)", "serviceDataType": "esriImageServiceDataTypeProcessed", "serviceSourceType": "esriImageServiceSourceTypeMosaicDataset", "objectIdField": "OBJECTID", "fields": [ { "name": "OBJECTID", "type": "esriFieldTypeOID", "alias": "OBJECTID", "domain": null }, { "name": "Shape", "type": "esriFieldTypeGeometry", "alias": "Shape", "domain": null }, { "name": "Name", "type": "esriFieldTypeString", "alias": "Name", "domain": null, "length": 200 }, { "name": "MinPS", "type": "esriFieldTypeDouble", "alias": "MinPS", "domain": null }, { "name": "MaxPS", "type": "esriFieldTypeDouble", "alias": "MaxPS", "domain": null }, { "name": "LowPS", "type": "esriFieldTypeDouble", "alias": "LowPS", "domain": null }, { "name": "HighPS", "type": "esriFieldTypeDouble", "alias": "HighPS", "domain": null }, { "name": "Category", "type": "esriFieldTypeInteger", "alias": "Category", "domain": { "type": "codedValue", "name": "MosaicCatalogItemCategoryDomain", "description": "Catalog item categories.", "codedValues": [ { "name": "Unknown", "code": 0 }, { "name": "Primary", "code": 1 }, { "name": "Overview", "code": 2 }, { "name": "Unprocessed Overview", "code": 3 }, { "name": "Partial Overview", "code": 4 }, { "name": "Inactive", "code": 5 }, { "name": "Uploaded", "code": 253 }, { "name": "Incomplete", "code": 254 }, { "name": "Custom", "code": 255 } ], "mergePolicy": "esriMPTDefaultValue", "splitPolicy": "esriSPTDefaultValue" } }, { "name": "Tag", "type": "esriFieldTypeString", "alias": "Tag", "domain": null, "length": 100 }, { "name": "GroupName", "type": "esriFieldTypeString", "alias": "GroupName", "domain": null, "length": 100 }, { "name": "ProductName", "type": "esriFieldTypeString", "alias": "ProductName", "domain": null, "length": 100 }, { "name": "CenterX", "type": "esriFieldTypeDouble", "alias": "CenterX", "domain": null }, { "name": "CenterY", "type": "esriFieldTypeDouble", "alias": "CenterY", "domain": null }, { "name": "ZOrder", "type": "esriFieldTypeInteger", "alias": "ZOrder", "domain": null }, { "name": "Shape_Length", "type": "esriFieldTypeDouble", "alias": "Shape_Length", "domain": null }, { "name": "Shape_Area", "type": "esriFieldTypeDouble", "alias": "Shape_Area", "domain": null } ], "capabilities": "Image,Metadata,Catalog", "defaultMosaicMethod": "Northwest", "allowedMosaicMethods": "NorthWest,Center,LockRaster,ByAttribute,Nadir,Viewpoint,Seamline,None", "sortField": "", "sortValue": null, "sortAscending": true, "mosaicOperator": "First", "maxDownloadSizeLimit": 2048, "defaultCompressionQuality": 75, "defaultResamplingMethod": "Bilinear", "maxImageHeight": 4100, "maxImageWidth": 15000, "maxRecordCount": 1000, "maxDownloadImageCount": 20, "maxMosaicImageCount": 20, "allowRasterFunction": true, "rasterFunctionInfos": [ { "name": "None", "description": "", "help": "" } ], "rasterTypeInfos": [ { "name": "Raster Dataset", "description": "Supports all ArcGIS Raster Datasets", "help": "" } ], "mensurationCapabilities": "None", "hasHistograms": true, "hasColormap": false, "hasRasterAttributeTable": false, "minScale": 0, "maxScale": 0, "exportTilesAllowed": false, "supportsStatistics": true, "supportsAdvancedQueries": true, "editFieldsInfo": null, "ownershipBasedAccessControlForRasters": null, "allowComputeTiePoints": false, "useStandardizedQueries": true, "advancedQueryCapabilities": { "useStandardizedQueries": true, "supportsStatistics": true, "supportsOrderBy": true, "supportsDistinct": true, "supportsPagination": true }, "spatialReference": { "wkt2": "PROJCRS[\"NAD_1983_2011_North_Dakota_North_ft\",BASEGEOGCRS[\"GCS_NAD_1983_2011\",DATUM[\"D_NAD_1983_2011\",ELLIPSOID[\"GRS_1980\",6378137.0,298.257222101,LENGTHUNIT[\"Meter\",1.0]]],PRIMEM[\"Greenwich\",0.0,ANGLEUNIT[\"Degree\",0.0174532925199433]],CS[ellipsoidal,2],AXIS[\"Latitude (lat)\",north,ORDER[1]],AXIS[\"Longitude (lon)\",east,ORDER[2]],ANGLEUNIT[\"Degree\",0.0174532925199433]],CONVERSION[\"Lambert_Conformal_Conic\",METHOD[\"Lambert_Conformal_Conic\"],PARAMETER[\"False_Easting\",1968500.0,LENGTHUNIT[\"Foot_US\",0.3048006096012192]],PARAMETER[\"False_Northing\",0.0,LENGTHUNIT[\"Foot_US\",0.3048006096012192]],PARAMETER[\"Central_Meridian\",-100.5,ANGLEUNIT[\"Degree\",0.0174532925199433]],PARAMETER[\"Standard_Parallel_1\",47.4333333333333,ANGLEUNIT[\"Degree\",0.0174532925199433]],PARAMETER[\"Standard_Parallel_2\",48.7333333333333,ANGLEUNIT[\"Degree\",0.0174532925199433]],PARAMETER[\"Latitude_Of_Origin\",47.0,ANGLEUNIT[\"Degree\",0.0174532925199433]]],CS[Cartesian,2],AXIS[\"Easting (X)\",east,ORDER[1]],AXIS[\"Northing (Y)\",north,ORDER[2]],LENGTHUNIT[\"Foot_US\",0.3048006096012192]]", "wkt": "PROJCS[\"NAD_1983_2011_North_Dakota_North_ft\",GEOGCS[\"GCS_NAD_1983_2011\",DATUM[\"D_NAD_1983_2011\",SPHEROID[\"GRS_1980\",6378137.0,298.257222101]],PRIMEM[\"Greenwich\",0.0],UNIT[\"Degree\",0.0174532925199433]],PROJECTION[\"Lambert_Conformal_Conic\"],PARAMETER[\"False_Easting\",1968500.0],PARAMETER[\"False_Northing\",0.0],PARAMETER[\"Central_Meridian\",-100.5],PARAMETER[\"Standard_Parallel_1\",47.4333333333333],PARAMETER[\"Standard_Parallel_2\",48.7333333333333],PARAMETER[\"Latitude_Of_Origin\",47.0],UNIT[\"Foot_US\",0.3048006096012192]]" } }