This imagery was collected on October 26th 2013 and covers a corridor of the Missouri River system from the northern border of Emmons County (northern Lake Oahe) north to Garrison Dam. This resolution of this imagery is sub foot (~10 inches). The fall discharge level of 13,100 cfs (Garrison)/ 14,9000 cfs (Bismarck) on the Missouri river provided an opportunity for comparison with the 2010 discharge level of 13,900 cfs (Garrison)/ 15,400 cfs (Bismarck) available on the 2010 NAIP imagery.<\/span><\/p><\/div><\/div><\/div>",
 "name": "Imagery/AerialImage_MissouriRiver_2013",
 "description": "This imagery was collected on October 26th 2013 and covers a corridor of the Missouri River system from the northern border of Emmons County (northern Lake Oahe) north to Garrison Dam. This resolution of this imagery is sub foot (~10 inches). The fall discharge level of 13,100 cfs (Garrison)/ 14,9000 cfs (Bismarck) on the Missouri river provided an opportunity for comparison with the 2010 discharge level of 13,900 cfs (Garrison)/ 15,400 cfs (Bismarck) available on the 2010 NAIP imagery.<\/span><\/p><\/div><\/div><\/div>",
 "extent": {
  "xmin": 1729917.0748262445,
  "ymin": 341016.0649838839,
  "xmax": 1952975.4026432603,
  "ymax": 681354.342502333,
  "spatialReference": {
   "wkid": 2266,
   "latestWkid": 2266
  }
 },
 "initialExtent": {
  "xmin": 1729917.0748262445,
  "ymin": 341016.0649838839,
  "xmax": 1952975.4026432603,
  "ymax": 681354.342502333,
  "spatialReference": {
   "wkid": 2266,
   "latestWkid": 2266
  }
 },
 "fullExtent": {
  "xmin": 1729917.0748262445,
  "ymin": 341016.0649838839,
  "xmax": 1952975.4026432603,
  "ymax": 681354.342502333,
  "spatialReference": {
   "wkid": 2266,
   "latestWkid": 2266
  }
 },
 "sortableFields": "",
 "bandCount": 3,
 "pixelType": "U8",
 "minValues": [
  39,
  45,
  51
 ],
 "maxValues": [
  250,
  252,
  255
 ],
 "meanValues": [
  111.0422853371913,
  110.44871697251199,
  106.20576664382345
 ],
 "stdvValues": [
  24.066775425245904,
  19.041225636295696,
  15.756897828465727
 ],
 "serviceProperties": "Center<\/MosaicMethod>First<\/MosaicOperator>true<\/SortAscending><\/LockImageID>Name<\/TileOrderField>0<\/TileOrderBase>600.000000<\/AvgImageSpacingX>300.000000<\/AvgImageSpacingY>0.0<\/ViewPointX>0.0<\/ViewPointY>0.0<\/ViewPointDefShiftX>0.0<\/ViewPointDefShiftY>JPEG<\/CompressionMethod>75<\/CompressionQuality>0.010000<\/CompressionTolerance>Bilinear<\/SamplingMethod><\/ImageServiceProperties><\/ImageServer>",
 "allowedFields": "Name,MinPS,MaxPS,LowPS,HighPS,Tag,GroupName,ProductName,CenterX,CenterY,ZOrder,SOrder,StereoID,Shape_Length,Shape_Area",
 "hasMultidimensions": false,
 "pixelSizeX": 0.7363362090813581,
 "pixelSizeY": 0.7363362090813581,
 "meanPixelSize": 0.22443527652799797,
 "datasetFormat": "AMD",
 "uncompressedSize": 420047281950,
 "blockWidth": 2048,
 "blockHeight": 256,
 "compressionType": "None",
 "bandNames": [
  "Band_1",
  "Band_2",
  "Band_3"
 ],
 "allowCopy": true,
 "allowAnalysis": true,
 "itemAccess": false,
 "inspectionCapabilities": "",
 "minPixelSize": 0,
 "maxPixelSize": 0,
 "copyrightText": "North Dakota Game and Fish Department, North Dakota Department of Transportation, ND GIS Hub",
 "serviceDataType": "esriImageServiceDataTypeProcessed",
 "serviceSourceType": "esriImageServiceSourceTypeMosaicDataset",
 "objectIdField": "OBJECTID",
 "fields": [
  {
   "name": "OBJECTID",
   "type": "esriFieldTypeOID",
   "alias": "OBJECTID",
   "domain": null
  },
  {
   "name": "Shape",
   "type": "esriFieldTypeGeometry",
   "alias": "Shape",
   "domain": null
  },
  {
   "name": "Name",
   "type": "esriFieldTypeString",
   "alias": "Name",
   "domain": null,
   "length": 50
  },
  {
   "name": "MinPS",
   "type": "esriFieldTypeDouble",
   "alias": "MinPS",
   "domain": null
  },
  {
   "name": "MaxPS",
   "type": "esriFieldTypeDouble",
   "alias": "MaxPS",
   "domain": null
  },
  {
   "name": "LowPS",
   "type": "esriFieldTypeDouble",
   "alias": "LowPS",
   "domain": null
  },
  {
   "name": "HighPS",
   "type": "esriFieldTypeDouble",
   "alias": "HighPS",
   "domain": null
  },
  {
   "name": "Category",
   "type": "esriFieldTypeInteger",
   "alias": "Category",
   "domain": null
  },
  {
   "name": "Tag",
   "type": "esriFieldTypeString",
   "alias": "Tag",
   "domain": null,
   "length": 20
  },
  {
   "name": "GroupName",
   "type": "esriFieldTypeString",
   "alias": "GroupName",
   "domain": null,
   "length": 50
  },
  {
   "name": "ProductName",
   "type": "esriFieldTypeString",
   "alias": "ProductName",
   "domain": null,
   "length": 50
  },
  {
   "name": "CenterX",
   "type": "esriFieldTypeDouble",
   "alias": "CenterX",
   "domain": null
  },
  {
   "name": "CenterY",
   "type": "esriFieldTypeDouble",
   "alias": "CenterY",
   "domain": null
  },
  {
   "name": "ZOrder",
   "type": "esriFieldTypeInteger",
   "alias": "ZOrder",
   "domain": null
  },
  {
   "name": "SOrder",
   "type": "esriFieldTypeInteger",
   "alias": "SOrder",
   "domain": null
  },
  {
   "name": "StereoID",
   "type": "esriFieldTypeString",
   "alias": "StereoID",
   "domain": null,
   "length": 50
  },
  {
   "name": "Shape_Length",
   "type": "esriFieldTypeDouble",
   "alias": "Shape_Length",
   "domain": null
  },
  {
   "name": "Shape_Area",
   "type": "esriFieldTypeDouble",
   "alias": "Shape_Area",
   "domain": null
  }
 ],
 "capabilities": "Catalog,Image,Metadata",
 "defaultMosaicMethod": "Center",
 "allowedMosaicMethods": "Center,NorthWest,LockRaster,ByAttribute,Nadir,Viewpoint,Seamline,None",
 "sortField": "",
 "sortValue": null,
 "sortAscending": true,
 "mosaicOperator": "First",
 "maxDownloadSizeLimit": 0,
 "defaultCompressionQuality": 75,
 "defaultResamplingMethod": "Bilinear",
 "maxImageHeight": 4100,
 "maxImageWidth": 15000,
 "maxRecordCount": 1000,
 "maxDownloadImageCount": 20,
 "maxMosaicImageCount": 20,
 "allowRasterFunction": true,
 "rasterFunctionInfos": [
  {
   "name": "None",
   "description": "",
   "help": ""
  }
 ],
 "rasterTypeInfos": [
  {
   "name": "Raster Dataset",
   "description": "Supports all ArcGIS Raster Datasets",
   "help": ""
  }
 ],
 "mensurationCapabilities": "",
 "hasHistograms": true,
 "hasColormap": false,
 "hasRasterAttributeTable": false,
 "minScale": 0,
 "maxScale": 0,
 "exportTilesAllowed": false,
 "supportsStatistics": true,
 "supportsAdvancedQueries": true,
 "editFieldsInfo": null,
 "ownershipBasedAccessControlForRasters": null,
 "allowComputeTiePoints": false,
 "useStandardizedQueries": true,
 "advancedQueryCapabilities": {
  "useStandardizedQueries": true,
  "supportsStatistics": true,
  "supportsOrderBy": true,
  "supportsDistinct": true,
  "supportsPagination": true
 },
 "spatialReference": {
  "wkid": 2266,
  "latestWkid": 2266
 },
 "resampling": false
}