{
 "currentVersion": 11.5,
 "serviceDescription": "Digital Orthophoto Quarter Quadrangles for North Dakota. The aerial image files in this archive are copies of standard digital orthophoto quarter quadrangles (DOQQ) received from the Natural Resource and Conservation Service which they obtained from the US Geological Survey. We have also updated the mosaic with DOQQs obtained directly from the USGS. The projection for the mosaic is UTM, NAD83, Zone 14. Dates range from approximately 1995 on the western side of the state thru 1998 on the eastern side of the state. An index is available within the feature class called QuadIndex_Poly. The field within the attribute table which gives the date of photography for any particular quarter-quadrangle is DOQQ_DATE. DOQ images were acquired in native BSQ or TIFF format and either 1) left in UTM, NAD83, Zone 14 format, or 2) reprojected from UTM NAD83 Zone 13 to Zone 14 using ArcInfo Workstation vers. 8.2, 8.3, and 9.0; They were then clipped to USGS 3.75' quarter quadrangles before being mosaiced into state-wide image; Resampling for SDE pyramids was done using bilinear interpolation. The work was done June 2002 thru September 2004Image acquisition scale: 1:40,000 (1\"=3,333 feet); Map scale: Meets national map accuracy standards for the scale of 1:12,000 (1\"=1000 feet); Accuracy: +/- 33.3 feet; Pixel size: 1 meter x 1 meter.\n Credits: State Water Commission, U.S. Geological Survey, Natural Resources and Conservation Service",
 "name": "Imagery/AerialImage_ND_19951998",
 "description": "Digital Orthophoto Quarter Quadrangles for North Dakota. The aerial image files in this archive are copies of standard digital orthophoto quarter quadrangles (DOQQ) received from the Natural Resource and Conservation Service which they obtained from the US Geological Survey. We have also updated the mosaic with DOQQs obtained directly from the USGS. The projection for the mosaic is UTM, NAD83, Zone 14. Dates range from approximately 1995 on the western side of the state thru 1998 on the eastern side of the state. An index is available within the feature class called QuadIndex_Poly. The field within the attribute table which gives the date of photography for any particular quarter-quadrangle is DOQQ_DATE. DOQ images were acquired in native BSQ or TIFF format and either 1) left in UTM, NAD83, Zone 14 format, or 2) reprojected from UTM NAD83 Zone 13 to Zone 14 using ArcInfo Workstation vers. 8.2, 8.3, and 9.0; They were then clipped to USGS 3.75' quarter quadrangles before being mosaiced into state-wide image; Resampling for SDE pyramids was done using bilinear interpolation. The work was done June 2002 thru September 2004Image acquisition scale: 1:40,000 (1\"=3,333 feet); Map scale: Meets national map accuracy standards for the scale of 1:12,000 (1\"=1000 feet); Accuracy: +/- 33.3 feet; Pixel size: 1 meter x 1 meter.\n Credits: State Water Commission, U.S. Geological Survey, Natural Resources and Conservation Service",
 "extent": {
  "xmin": 101844.0000000064,
  "ymin": 5080155,
  "xmax": 694098,
  "ymax": 5439820.999999996,
  "spatialReference": {
   "wkid": 26914,
   "latestWkid": 26914
  }
 },
 "initialExtent": {
  "xmin": 101844.0000000064,
  "ymin": 5080155,
  "xmax": 694098,
  "ymax": 5439820.999999996,
  "spatialReference": {
   "wkid": 26914,
   "latestWkid": 26914
  }
 },
 "fullExtent": {
  "xmin": 101844.0000000064,
  "ymin": 5080155,
  "xmax": 694098,
  "ymax": 5439820.999999996,
  "spatialReference": {
   "wkid": 26914,
   "latestWkid": 26914
  }
 },
 "sortableFields": "",
 "bandCount": 3,
 "pixelType": "U8",
 "minValues": [
  0,
  0,
  0
 ],
 "maxValues": [
  255,
  255,
  255
 ],
 "meanValues": [
  117.90890298226594,
  117.90890298226594,
  117.90890298226594
 ],
 "stdvValues": [
  34.76377970235709,
  34.76377970235709,
  34.76377970235709
 ],
 "serviceProperties": "NorthWest<\/MosaicMethod>First<\/MosaicOperator>true<\/SortAscending><\/LockImageID>Name<\/TileOrderField>0<\/TileOrderBase>600.000000<\/AvgImageSpacingX>300.000000<\/AvgImageSpacingY>0.0<\/ViewPointX>0.0<\/ViewPointY>0.0<\/ViewPointDefShiftX>0.0<\/ViewPointDefShiftY>JPEG<\/CompressionMethod>75<\/CompressionQuality>0.010000<\/CompressionTolerance>Bilinear<\/SamplingMethod><\/ImageServiceProperties><\/ImageServer>",
 "allowedFields": "Name,MinPS,MaxPS,LowPS,HighPS,Tag,GroupName,ProductName,CenterX,CenterY,ZOrder,Shape_Length,Shape_Area,kill",
 "hasMultidimensions": false,
 "pixelSizeX": 0.9999999999999892,
 "pixelSizeY": 0.9999999999999897,
 "meanPixelSize": 0.9999999999999895,
 "datasetFormat": "AMD",
 "uncompressedSize": 639040881492,
 "blockWidth": 2048,
 "blockHeight": 256,
 "compressionType": "None",
 "bandNames": [
  "Band_1",
  "Band_2",
  "Band_3"
 ],
 "allowCopy": true,
 "allowAnalysis": true,
 "itemAccess": false,
 "inspectionCapabilities": "",
 "minPixelSize": 0,
 "maxPixelSize": 0,
 "copyrightText": "",
 "serviceDataType": "esriImageServiceDataTypeProcessed",
 "serviceSourceType": "esriImageServiceSourceTypeMosaicDataset",
 "objectIdField": "OBJECTID",
 "fields": [
  {
   "name": "OBJECTID",
   "type": "esriFieldTypeOID",
   "alias": "OBJECTID",
   "domain": null
  },
  {
   "name": "Shape",
   "type": "esriFieldTypeGeometry",
   "alias": "Shape",
   "domain": null
  },
  {
   "name": "Name",
   "type": "esriFieldTypeString",
   "alias": "Name",
   "domain": null,
   "length": 200
  },
  {
   "name": "MinPS",
   "type": "esriFieldTypeDouble",
   "alias": "MinPS",
   "domain": null
  },
  {
   "name": "MaxPS",
   "type": "esriFieldTypeDouble",
   "alias": "MaxPS",
   "domain": null
  },
  {
   "name": "LowPS",
   "type": "esriFieldTypeDouble",
   "alias": "LowPS",
   "domain": null
  },
  {
   "name": "HighPS",
   "type": "esriFieldTypeDouble",
   "alias": "HighPS",
   "domain": null
  },
  {
   "name": "Category",
   "type": "esriFieldTypeInteger",
   "alias": "Category",
   "domain": {
    "type": "codedValue",
    "name": "MosaicCatalogItemCategoryDomain",
    "description": "Catalog item categories.",
    "codedValues": [
     {
      "name": "Unknown",
      "code": 0
     },
     {
      "name": "Primary",
      "code": 1
     },
     {
      "name": "Overview",
      "code": 2
     },
     {
      "name": "Unprocessed Overview",
      "code": 3
     },
     {
      "name": "Partial Overview",
      "code": 4
     },
     {
      "name": "Uploaded",
      "code": 253
     },
     {
      "name": "Incomplete",
      "code": 254
     },
     {
      "name": "Custom",
      "code": 255
     }
    ],
    "mergePolicy": "esriMPTDefaultValue",
    "splitPolicy": "esriSPTDefaultValue"
   }
  },
  {
   "name": "Tag",
   "type": "esriFieldTypeString",
   "alias": "Tag",
   "domain": null,
   "length": 100
  },
  {
   "name": "GroupName",
   "type": "esriFieldTypeString",
   "alias": "GroupName",
   "domain": null,
   "length": 100
  },
  {
   "name": "ProductName",
   "type": "esriFieldTypeString",
   "alias": "ProductName",
   "domain": null,
   "length": 100
  },
  {
   "name": "CenterX",
   "type": "esriFieldTypeDouble",
   "alias": "CenterX",
   "domain": null
  },
  {
   "name": "CenterY",
   "type": "esriFieldTypeDouble",
   "alias": "CenterY",
   "domain": null
  },
  {
   "name": "ZOrder",
   "type": "esriFieldTypeInteger",
   "alias": "ZOrder",
   "domain": null
  },
  {
   "name": "Shape_Length",
   "type": "esriFieldTypeDouble",
   "alias": "Shape_Length",
   "domain": null
  },
  {
   "name": "Shape_Area",
   "type": "esriFieldTypeDouble",
   "alias": "Shape_Area",
   "domain": null
  },
  {
   "name": "kill",
   "type": "esriFieldTypeString",
   "alias": "kill",
   "domain": null,
   "length": 5
  }
 ],
 "capabilities": "Catalog,Image,Metadata",
 "defaultMosaicMethod": "Northwest",
 "allowedMosaicMethods": "NorthWest,Center,LockRaster,ByAttribute,Nadir,Viewpoint,Seamline,None",
 "sortField": "",
 "sortValue": null,
 "sortAscending": true,
 "mosaicOperator": "First",
 "maxDownloadSizeLimit": 2048,
 "defaultCompressionQuality": 75,
 "defaultResamplingMethod": "Bilinear",
 "maxImageHeight": 4100,
 "maxImageWidth": 15000,
 "maxRecordCount": 1000,
 "maxDownloadImageCount": 20,
 "maxMosaicImageCount": 20,
 "allowRasterFunction": true,
 "rasterFunctionInfos": [
  {
   "name": "None",
   "description": "",
   "help": ""
  }
 ],
 "rasterTypeInfos": [
  {
   "name": "Raster Dataset",
   "description": "Supports all ArcGIS Raster Datasets",
   "help": ""
  }
 ],
 "mensurationCapabilities": "None",
 "hasHistograms": true,
 "hasColormap": false,
 "hasRasterAttributeTable": false,
 "minScale": 0,
 "maxScale": 0,
 "exportTilesAllowed": false,
 "supportsStatistics": true,
 "supportsAdvancedQueries": true,
 "editFieldsInfo": null,
 "ownershipBasedAccessControlForRasters": null,
 "allowComputeTiePoints": false,
 "useStandardizedQueries": true,
 "advancedQueryCapabilities": {
  "useStandardizedQueries": true,
  "supportsStatistics": true,
  "supportsOrderBy": true,
  "supportsDistinct": true,
  "supportsPagination": true
 },
 "spatialReference": {
  "wkid": 26914,
  "latestWkid": 26914
 },
 "resampling": false
}
