One-meter pixel resolution. In 2008, the Bureau of Reclamation\u2019s Remote Sensing and Geographic Information Group (RSGIG) in collaboration with the Bureau of Land Management Miles City Field Office mapped sagebrush and other land cover in a study area in and around the Cedar Creek Anticline within the Williston Basin. The study area fell within portions of NW South Dakota, SW North Dakota and SE Montana representing approximately 1,132,000 acres. The project utilized the recently developed methodology of combining high resolution multi-band color infrared digital imagery along with object oriented image processing for the identification and mapping of sagebrush over a large area in a cost effective manner. The objective of the project was to cost effectively collect and analyze imagery to determine the extent of sagebrush vegetation communities at a level of detail to assess vegetation community relationships. The costs incurred by using the methodology represented in this project to map 10 land classes have been estimated at $.40 to $.80 per-acre compared to the $2.00 to $3.00 per-acre using traditional methodologies.<\/span><\/p><\/div><\/div><\/div>",
"name": "Imagery/AerialImage_SouthWest_2007_CIR",
"description": "One-meter pixel resolution. In 2008, the Bureau of Reclamation\u2019s Remote Sensing and Geographic Information Group (RSGIG) in collaboration with the Bureau of Land Management Miles City Field Office mapped sagebrush and other land cover in a study area in and around the Cedar Creek Anticline within the Williston Basin. The study area fell within portions of NW South Dakota, SW North Dakota and SE Montana representing approximately 1,132,000 acres. The project utilized the recently developed methodology of combining high resolution multi-band color infrared digital imagery along with object oriented image processing for the identification and mapping of sagebrush over a large area in a cost effective manner. The objective of the project was to cost effectively collect and analyze imagery to determine the extent of sagebrush vegetation communities at a level of detail to assess vegetation community relationships. The costs incurred by using the methodology represented in this project to map 10 land classes have been estimated at $.40 to $.80 per-acre compared to the $2.00 to $3.00 per-acre using traditional methodologies.<\/span><\/p><\/div><\/div><\/div>",
"extent": {
"xmin": 533598.3000000002,
"ymin": 5072429.7,
"xmax": 610690.5000000001,
"ymax": 5173997.4,
"spatialReference": {
"wkid": 26913,
"latestWkid": 26913
}
},
"initialExtent": {
"xmin": 533598.3000000002,
"ymin": 5072429.7,
"xmax": 610690.5000000001,
"ymax": 5173997.4,
"spatialReference": {
"wkid": 26913,
"latestWkid": 26913
}
},
"fullExtent": {
"xmin": 533598.3000000002,
"ymin": 5072429.7,
"xmax": 610690.5000000001,
"ymax": 5173997.4,
"spatialReference": {
"wkid": 26913,
"latestWkid": 26913
}
},
"sortableFields": "",
"bandCount": 3,
"pixelType": "U8",
"minValues": [
0,
0,
0
],
"maxValues": [
249,
255,
255
],
"meanValues": [
103.47432655037449,
104.01445357194056,
99.23197259406926
],
"stdvValues": [
67.5380692469537,
68.52763647150094,
65.51047170623877
],
"serviceProperties": "Center<\/MosaicMethod>First<\/MosaicOperator>true<\/SortAscending><\/LockImageID>Name<\/TileOrderField>0<\/TileOrderBase>600.000000<\/AvgImageSpacingX>300.000000<\/AvgImageSpacingY>0.0<\/ViewPointX>0.0<\/ViewPointY>0.0<\/ViewPointDefShiftX>0.0<\/ViewPointDefShiftY>JPEG<\/CompressionMethod>75<\/CompressionQuality>0.010000<\/CompressionTolerance>Bilinear<\/SamplingMethod><\/ImageServiceProperties><\/ImageServer>",
"allowedFields": "Name,MinPS,MaxPS,LowPS,HighPS,Tag,GroupName,ProductName,CenterX,CenterY,ZOrder,SOrder,StereoID,Shape_Length,Shape_Area",
"hasMultidimensions": false,
"pixelSizeX": 0.8999999999999995,
"pixelSizeY": 0.9000000000000017,
"meanPixelSize": 0.9000000000000006,
"datasetFormat": "AMD",
"uncompressedSize": 29000286822,
"blockWidth": 2048,
"blockHeight": 256,
"compressionType": "None",
"bandNames": [
"Band_1",
"Band_2",
"Band_3"
],
"allowCopy": true,
"allowAnalysis": true,
"itemAccess": false,
"inspectionCapabilities": "",
"minPixelSize": 0,
"maxPixelSize": 0,
"copyrightText": "Bureau of Reclamation, Bureau of Land Management, ND GIS Hub",
"serviceDataType": "esriImageServiceDataTypeProcessed",
"serviceSourceType": "esriImageServiceSourceTypeMosaicDataset",
"objectIdField": "OBJECTID",
"fields": [
{
"name": "OBJECTID",
"type": "esriFieldTypeOID",
"alias": "OBJECTID",
"domain": null
},
{
"name": "Shape",
"type": "esriFieldTypeGeometry",
"alias": "Shape",
"domain": null
},
{
"name": "Name",
"type": "esriFieldTypeString",
"alias": "Name",
"domain": null,
"length": 50
},
{
"name": "MinPS",
"type": "esriFieldTypeDouble",
"alias": "MinPS",
"domain": null
},
{
"name": "MaxPS",
"type": "esriFieldTypeDouble",
"alias": "MaxPS",
"domain": null
},
{
"name": "LowPS",
"type": "esriFieldTypeDouble",
"alias": "LowPS",
"domain": null
},
{
"name": "HighPS",
"type": "esriFieldTypeDouble",
"alias": "HighPS",
"domain": null
},
{
"name": "Category",
"type": "esriFieldTypeInteger",
"alias": "Category",
"domain": {
"type": "codedValue",
"name": "MosaicCatalogItemCategoryDomain",
"description": "Catalog item categories.",
"codedValues": [
{
"name": "Unknown",
"code": 0
},
{
"name": "Primary",
"code": 1
},
{
"name": "Overview",
"code": 2
},
{
"name": "Unprocessed Overview",
"code": 3
},
{
"name": "Partial Overview",
"code": 4
},
{
"name": "Uploaded",
"code": 253
},
{
"name": "Incomplete",
"code": 254
},
{
"name": "Custom",
"code": 255
}
],
"mergePolicy": "esriMPTDefaultValue",
"splitPolicy": "esriSPTDefaultValue"
}
},
{
"name": "Tag",
"type": "esriFieldTypeString",
"alias": "Tag",
"domain": null,
"length": 20
},
{
"name": "GroupName",
"type": "esriFieldTypeString",
"alias": "GroupName",
"domain": null,
"length": 50
},
{
"name": "ProductName",
"type": "esriFieldTypeString",
"alias": "ProductName",
"domain": null,
"length": 50
},
{
"name": "CenterX",
"type": "esriFieldTypeDouble",
"alias": "CenterX",
"domain": null
},
{
"name": "CenterY",
"type": "esriFieldTypeDouble",
"alias": "CenterY",
"domain": null
},
{
"name": "ZOrder",
"type": "esriFieldTypeInteger",
"alias": "ZOrder",
"domain": null
},
{
"name": "SOrder",
"type": "esriFieldTypeInteger",
"alias": "SOrder",
"domain": null
},
{
"name": "StereoID",
"type": "esriFieldTypeString",
"alias": "StereoID",
"domain": null,
"length": 50
},
{
"name": "Shape_Length",
"type": "esriFieldTypeDouble",
"alias": "Shape_Length",
"domain": null
},
{
"name": "Shape_Area",
"type": "esriFieldTypeDouble",
"alias": "Shape_Area",
"domain": null
}
],
"capabilities": "Catalog,Image,Metadata",
"defaultMosaicMethod": "Center",
"allowedMosaicMethods": "Center,NorthWest,LockRaster,ByAttribute,Nadir,Viewpoint,Seamline,None",
"sortField": "",
"sortValue": null,
"sortAscending": true,
"mosaicOperator": "First",
"maxDownloadSizeLimit": 0,
"defaultCompressionQuality": 75,
"defaultResamplingMethod": "Bilinear",
"maxImageHeight": 4100,
"maxImageWidth": 15000,
"maxRecordCount": 1000,
"maxDownloadImageCount": 20,
"maxMosaicImageCount": 20,
"allowRasterFunction": true,
"rasterFunctionInfos": [
{
"name": "None",
"description": "",
"help": ""
}
],
"rasterTypeInfos": [
{
"name": "Raster Dataset",
"description": "Supports all ArcGIS Raster Datasets",
"help": ""
}
],
"mensurationCapabilities": "",
"hasHistograms": true,
"hasColormap": false,
"hasRasterAttributeTable": false,
"minScale": 0,
"maxScale": 0,
"exportTilesAllowed": false,
"supportsStatistics": true,
"supportsAdvancedQueries": true,
"editFieldsInfo": null,
"ownershipBasedAccessControlForRasters": null,
"allowComputeTiePoints": false,
"useStandardizedQueries": true,
"advancedQueryCapabilities": {
"useStandardizedQueries": true,
"supportsStatistics": true,
"supportsOrderBy": true,
"supportsDistinct": true,
"supportsPagination": true
},
"spatialReference": {
"wkid": 26913,
"latestWkid": 26913
},
"resampling": false
}