This 3-inch pixel resolution aerial photography is the result of private and government entities working together under the guidance of the City of Wahpeton, ND. <\/span><\/p>Fugro Earthdata, Inc. acquired digital imagery with sensor ADS80 SH82 for areas of Wahpeton, ND project area April 11, 2012. The project encompassed an area of approximately 24 square miles.<\/span><\/p><\/div><\/div><\/div>",
 "name": "Imagery/AerialImage_Wahpeton_2012",
 "description": "This 3-inch pixel resolution aerial photography is the result of private and government entities working together under the guidance of the City of Wahpeton, ND. <\/span><\/p>Fugro Earthdata, Inc. acquired digital imagery with sensor ADS80 SH82 for areas of Wahpeton, ND project area April 11, 2012. The project encompassed an area of approximately 24 square miles.<\/span><\/p><\/div><\/div><\/div>",
 "extent": {
  "xmin": 2934552,
  "ymin": 222230,
  "xmax": 2961241,
  "ymax": 275172,
  "spatialReference": {
   "wkid": 102721,
   "latestWkid": 102721
  }
 },
 "initialExtent": {
  "xmin": 2934552,
  "ymin": 222230,
  "xmax": 2961241,
  "ymax": 275172,
  "spatialReference": {
   "wkid": 102721,
   "latestWkid": 102721
  }
 },
 "fullExtent": {
  "xmin": 2934552,
  "ymin": 222230,
  "xmax": 2961241,
  "ymax": 275172,
  "spatialReference": {
   "wkid": 102721,
   "latestWkid": 102721
  }
 },
 "sortableFields": "",
 "bandCount": 3,
 "pixelType": "U8",
 "minValues": [
  0,
  0,
  0
 ],
 "maxValues": [
  255,
  255,
  255
 ],
 "meanValues": [
  82.75287996691583,
  83.99056234074176,
  81.76651093746332
 ],
 "stdvValues": [
  31.049266459619336,
  28.550920477569623,
  22.727204134043074
 ],
 "serviceProperties": "Center<\/MosaicMethod>First<\/MosaicOperator>true<\/SortAscending><\/LockImageID>Name<\/TileOrderField>0<\/TileOrderBase>600.000000<\/AvgImageSpacingX>300.000000<\/AvgImageSpacingY>0.0<\/ViewPointX>0.0<\/ViewPointY>0.0<\/ViewPointDefShiftX>0.0<\/ViewPointDefShiftY>JPEG<\/CompressionMethod>75<\/CompressionQuality>0.010000<\/CompressionTolerance>Bilinear<\/SamplingMethod><\/ImageServiceProperties><\/ImageServer>",
 "allowedFields": "Name,MinPS,MaxPS,LowPS,HighPS,Tag,GroupName,ProductName,CenterX,CenterY,ZOrder,SOrder,StereoID,Shape_Length,Shape_Area",
 "hasMultidimensions": false,
 "pixelSizeX": 0.25,
 "pixelSizeY": 0.25,
 "meanPixelSize": 0.07620015240030481,
 "datasetFormat": "AMD",
 "uncompressedSize": 67822513824,
 "blockWidth": 2048,
 "blockHeight": 256,
 "compressionType": "None",
 "bandNames": [
  "Band_1",
  "Band_2",
  "Band_3"
 ],
 "allowCopy": true,
 "allowAnalysis": true,
 "itemAccess": false,
 "inspectionCapabilities": "",
 "minPixelSize": 0,
 "maxPixelSize": 0,
 "copyrightText": "City of Wahpeton, ND GIS Hub",
 "serviceDataType": "esriImageServiceDataTypeProcessed",
 "serviceSourceType": "esriImageServiceSourceTypeMosaicDataset",
 "objectIdField": "OBJECTID",
 "fields": [
  {
   "name": "OBJECTID",
   "type": "esriFieldTypeOID",
   "alias": "OBJECTID",
   "domain": null
  },
  {
   "name": "Shape",
   "type": "esriFieldTypeGeometry",
   "alias": "Shape",
   "domain": null
  },
  {
   "name": "Name",
   "type": "esriFieldTypeString",
   "alias": "Name",
   "domain": null,
   "length": 50
  },
  {
   "name": "MinPS",
   "type": "esriFieldTypeDouble",
   "alias": "MinPS",
   "domain": null
  },
  {
   "name": "MaxPS",
   "type": "esriFieldTypeDouble",
   "alias": "MaxPS",
   "domain": null
  },
  {
   "name": "LowPS",
   "type": "esriFieldTypeDouble",
   "alias": "LowPS",
   "domain": null
  },
  {
   "name": "HighPS",
   "type": "esriFieldTypeDouble",
   "alias": "HighPS",
   "domain": null
  },
  {
   "name": "Category",
   "type": "esriFieldTypeInteger",
   "alias": "Category",
   "domain": {
    "type": "codedValue",
    "name": "MosaicCatalogItemCategoryDomain",
    "description": "Catalog item categories.",
    "codedValues": [
     {
      "name": "Unknown",
      "code": 0
     },
     {
      "name": "Primary",
      "code": 1
     },
     {
      "name": "Overview",
      "code": 2
     },
     {
      "name": "Unprocessed Overview",
      "code": 3
     },
     {
      "name": "Partial Overview",
      "code": 4
     },
     {
      "name": "Uploaded",
      "code": 253
     },
     {
      "name": "Incomplete",
      "code": 254
     },
     {
      "name": "Custom",
      "code": 255
     }
    ],
    "mergePolicy": "esriMPTDefaultValue",
    "splitPolicy": "esriSPTDefaultValue"
   }
  },
  {
   "name": "Tag",
   "type": "esriFieldTypeString",
   "alias": "Tag",
   "domain": null,
   "length": 20
  },
  {
   "name": "GroupName",
   "type": "esriFieldTypeString",
   "alias": "GroupName",
   "domain": null,
   "length": 50
  },
  {
   "name": "ProductName",
   "type": "esriFieldTypeString",
   "alias": "ProductName",
   "domain": null,
   "length": 50
  },
  {
   "name": "CenterX",
   "type": "esriFieldTypeDouble",
   "alias": "CenterX",
   "domain": null
  },
  {
   "name": "CenterY",
   "type": "esriFieldTypeDouble",
   "alias": "CenterY",
   "domain": null
  },
  {
   "name": "ZOrder",
   "type": "esriFieldTypeInteger",
   "alias": "ZOrder",
   "domain": null
  },
  {
   "name": "SOrder",
   "type": "esriFieldTypeInteger",
   "alias": "SOrder",
   "domain": null
  },
  {
   "name": "StereoID",
   "type": "esriFieldTypeString",
   "alias": "StereoID",
   "domain": null,
   "length": 50
  },
  {
   "name": "Shape_Length",
   "type": "esriFieldTypeDouble",
   "alias": "Shape_Length",
   "domain": null
  },
  {
   "name": "Shape_Area",
   "type": "esriFieldTypeDouble",
   "alias": "Shape_Area",
   "domain": null
  }
 ],
 "capabilities": "Catalog,Image,Metadata",
 "defaultMosaicMethod": "Center",
 "allowedMosaicMethods": "Center,NorthWest,LockRaster,ByAttribute,Nadir,Viewpoint,Seamline,None",
 "sortField": "",
 "sortValue": null,
 "sortAscending": true,
 "mosaicOperator": "First",
 "maxDownloadSizeLimit": 0,
 "defaultCompressionQuality": 75,
 "defaultResamplingMethod": "Bilinear",
 "maxImageHeight": 4100,
 "maxImageWidth": 15000,
 "maxRecordCount": 1000,
 "maxDownloadImageCount": 20,
 "maxMosaicImageCount": 20,
 "allowRasterFunction": true,
 "rasterFunctionInfos": [
  {
   "name": "None",
   "description": "",
   "help": ""
  }
 ],
 "rasterTypeInfos": [
  {
   "name": "Raster Dataset",
   "description": "Supports all ArcGIS Raster Datasets",
   "help": ""
  }
 ],
 "mensurationCapabilities": "",
 "hasHistograms": true,
 "hasColormap": false,
 "hasRasterAttributeTable": false,
 "minScale": 0,
 "maxScale": 0,
 "exportTilesAllowed": false,
 "supportsStatistics": true,
 "supportsAdvancedQueries": true,
 "editFieldsInfo": null,
 "ownershipBasedAccessControlForRasters": null,
 "allowComputeTiePoints": false,
 "useStandardizedQueries": true,
 "advancedQueryCapabilities": {
  "useStandardizedQueries": true,
  "supportsStatistics": true,
  "supportsOrderBy": true,
  "supportsDistinct": true,
  "supportsPagination": true
 },
 "spatialReference": {
  "wkid": 102721,
  "latestWkid": 102721
 },
 "resampling": false
}