{
 "currentVersion": 10.91,
 "cimVersion": "2.9.0",
 "serviceDescription": "This imagery is derived from NDDOT interim working data and is used to digitize road centerline vector information for the DES Base Map Project.\n\nThe digitized centerlines will be created with a \"sub-meter\" accuracy. The imagery will be collected during optimum viewing conditions whenever possible, however maximizing flight mission time is also a major priority. Ideal flying conditions would be during spring and fall seasons when tree and foliage cover is reduced, thus optimizing the viewing accuracy of roadway centerlines. Other factors affecting image quality can be sun angle, haze, wind speed, turbulence and cloud cover. The flight missions are also prioritized to capture certain PSAP (Public Safety Answering Point) areas ahead of other counties; However once again, weather conditions dictate where and when the flight crew can collect data.\n\nCertain image anomalies will be visible within the mosaics. These small warpages were addressed during the digitizing phase by using imagery imported from other stages of the process. It is the intent of NDDOT to eventually address all of these anomalies but at this stage of the project, production speed is a higher priority.\n\nPixel size is approximately 0.9-feet, data is processed to UTM-14, NAD83\n\nThe Base Map missions are created at a flight height above ground (HAG) of 9,000' (2743.2 meters) which creates imagery with a .90'(27.432 cm) ground sample distance (GSD). The resultant imagery covers a base corridor 12,400' (3779.52 meters) wide.",
 "mapName": "Layers",
 "description": "This is interim data which has not yet passed NDDOT QA and may contain minor anomalies, it is therefore not to be distributed. \n\nThis imagery is derived from NDDOT interim working data and is used to digitize road centerline vector information for the DES Base Map Project.\n\nThe digitized centerlines will be created with a \"sub-meter\" accuracy. The imagery will be collected during optimum viewing conditions whenever possible, however maximizing flight mission time is also a major priority. Ideal flying conditions would be during spring and fall seasons when tree and foliage cover is reduced, thus optimizing the viewing accuracy of roadway centerlines. Other factors affecting image quality can be sun angle, haze, wind speed, turbulence and cloud cover. The flight missions are also prioritized to capture certain PSAP (Public Safety Answering Point) areas ahead of other counties; However once again, weather conditions dictate where and when the flight crew can collect data.\n\nCertain image anomalies will be visible within the mosaics. These small warpages were addressed during the digitizing phase by using imagery imported from other stages of the process. It is the intent of NDDOT to eventually address all of these anomalies but at this stage of the project, production speed is a higher priority.\n\nPixel size is approximately 0.9-feet, data is processed to UTM-14, NAD83\n\nThe Base Map missions are created at a flight height above ground (HAG) of 9,000' (2743.2 meters) which creates imagery with a .90'(27.432 cm) ground sample distance (GSD). The resultant imagery covers a base corridor 12,400' (3779.52 meters) wide.",
 "copyrightText": "ND Dept. of Transportation, ND Dept. of Emergency Services, and the ND GIS Hub",
 "supportsDynamicLayers": true,
 "layers": [
  {
   "id": 0,
   "name": "DES Base Map",
   "parentLayerId": -1,
   "defaultVisibility": true,
   "subLayerIds": [
    1,
    2,
    3
   ],
   "minScale": 0,
   "maxScale": 0,
   "type": "Mosaic Layer",
   "supportsDynamicLegends": false
  },
  {
   "id": 1,
   "name": "Boundary",
   "parentLayerId": 0,
   "defaultVisibility": false,
   "subLayerIds": null,
   "minScale": 0,
   "maxScale": 0,
   "type": "Feature Layer",
   "geometryType": "esriGeometryPolygon",
   "supportsDynamicLegends": true
  },
  {
   "id": 2,
   "name": "Footprint",
   "parentLayerId": 0,
   "defaultVisibility": false,
   "subLayerIds": null,
   "minScale": 0,
   "maxScale": 0,
   "type": "Feature Layer",
   "geometryType": "esriGeometryPolygon",
   "supportsDynamicLegends": true
  },
  {
   "id": 3,
   "name": "Image",
   "parentLayerId": 0,
   "defaultVisibility": true,
   "subLayerIds": null,
   "minScale": 0,
   "maxScale": 0,
   "type": "Raster Layer",
   "supportsDynamicLegends": true
  }
 ],
 "tables": [],
 "spatialReference": {
  "wkid": 102100,
  "latestWkid": 3857,
  "xyTolerance": 0.001,
  "zTolerance": 0.001,
  "mTolerance": 0.001,
  "falseX": -20037700,
  "falseY": -30241100,
  "xyUnits": 10000,
  "falseZ": -100000,
  "zUnits": 10000,
  "falseM": -100000,
  "mUnits": 10000
 },
 "singleFusedMapCache": true,
 "tileInfo": {
  "rows": 256,
  "cols": 256,
  "dpi": 96,
  "format": "MIXED",
  "compressionQuality": 75,
  "origin": {
   "x": -2.0037508342787E7,
   "y": 2.0037508342787E7
  },
  "spatialReference": {
   "wkid": 102100,
   "latestWkid": 3857,
   "xyTolerance": 0.001,
   "zTolerance": 2.0E-4,
   "mTolerance": 2.0E-4,
   "falseX": -20037700,
   "falseY": -30241100,
   "xyUnits": 1.4892314192838538E8,
   "falseZ": -100000,
   "zUnits": 10000,
   "falseM": -100000,
   "mUnits": 10000
  },
  "lods": [
   {
    "level": 0,
    "resolution": 156543.03392800014,
    "scale": 5.91657527591555E8
   },
   {
    "level": 1,
    "resolution": 78271.51696399994,
    "scale": 2.95828763795777E8
   },
   {
    "level": 2,
    "resolution": 39135.75848200009,
    "scale": 1.47914381897889E8
   },
   {
    "level": 3,
    "resolution": 19567.87924099992,
    "scale": 7.3957190948944E7
   },
   {
    "level": 4,
    "resolution": 9783.93962049996,
    "scale": 3.6978595474472E7
   },
   {
    "level": 5,
    "resolution": 4891.96981024998,
    "scale": 1.8489297737236E7
   },
   {
    "level": 6,
    "resolution": 2445.98490512499,
    "scale": 9244648.868618
   },
   {
    "level": 7,
    "resolution": 1222.992452562495,
    "scale": 4622324.434309
   },
   {
    "level": 8,
    "resolution": 611.4962262813797,
    "scale": 2311162.217155
   },
   {
    "level": 9,
    "resolution": 305.74811314055756,
    "scale": 1155581.108577
   },
   {
    "level": 10,
    "resolution": 152.87405657041106,
    "scale": 577790.554289
   },
   {
    "level": 11,
    "resolution": 76.43702828507324,
    "scale": 288895.277144
   },
   {
    "level": 12,
    "resolution": 38.21851414253662,
    "scale": 144447.638572
   },
   {
    "level": 13,
    "resolution": 19.10925707126831,
    "scale": 72223.819286
   },
   {
    "level": 14,
    "resolution": 9.554628535634155,
    "scale": 36111.909643
   },
   {
    "level": 15,
    "resolution": 4.77731426794937,
    "scale": 18055.954822
   },
   {
    "level": 16,
    "resolution": 2.388657133974685,
    "scale": 9027.977411
   },
   {
    "level": 17,
    "resolution": 1.1943285668550503,
    "scale": 4513.988705
   },
   {
    "level": 18,
    "resolution": 0.5971642835598172,
    "scale": 2256.994353
   },
   {
    "level": 19,
    "resolution": 0.29858214164761665,
    "scale": 1128.497176
   },
   {
    "level": 20,
    "resolution": 0.14929107082380833,
    "scale": 564.248588
   },
   {
    "level": 21,
    "resolution": 0.07464553541190416,
    "scale": 282.124294
   }
  ]
 },
 "storageInfo": {
  "storageFormat": "esriMapCacheStorageModeCompact",
  "packetSize": 128
 },
 "initialExtent": {
  "xmin": -1.1663744834593063E7,
  "ymin": 5650807.089749773,
  "xmax": -1.071684806410732E7,
  "ymax": 6390937.319782055,
  "spatialReference": {
   "wkid": 102100,
   "latestWkid": 3857,
   "xyTolerance": 0.001,
   "zTolerance": 0.001,
   "mTolerance": 0.001,
   "falseX": -20037700,
   "falseY": -30241100,
   "xyUnits": 10000,
   "falseZ": -100000,
   "zUnits": 10000,
   "falseM": -100000,
   "mUnits": 10000
  }
 },
 "fullExtent": {
  "xmin": -1.1617481891018216E7,
  "ymin": 5748245.065708501,
  "xmax": -1.0730763602479242E7,
  "ymax": 6294675.613103433,
  "spatialReference": {
   "wkid": 102100,
   "latestWkid": 3857,
   "xyTolerance": 0.001,
   "zTolerance": 0.001,
   "mTolerance": 0.001,
   "falseX": -20037700,
   "falseY": -30241100,
   "xyUnits": 10000,
   "falseZ": -100000,
   "zUnits": 10000,
   "falseM": -100000,
   "mUnits": 10000
  }
 },
 "datesInUnknownTimezone": false,
 "minScale": 5.91657527591555E8,
 "maxScale": 282.124294,
 "units": "esriMeters",
 "supportedImageFormatTypes": "PNG32,PNG24,PNG,JPG,DIB,TIFF,EMF,PS,PDF,GIF,SVG,SVGZ,BMP",
 "documentInfo": {
  "Title": "Untitled.aprx",
  "Author": "",
  "Comments": "This is interim data which has not yet passed NDDOT QA and may contain minor anomalies, it is therefore not to be distributed. \n\nThis imagery is derived from NDDOT interim working data and is used to digitize road centerline vector information for the DES Base Map Project.\n\nThe digitized centerlines will be created with a \"sub-meter\" accuracy. The imagery will be collected during optimum viewing conditions whenever possible, however maximizing flight mission time is also a major priority. Ideal flying conditions would be during spring and fall seasons when tree and foliage cover is reduced, thus optimizing the viewing accuracy of roadway centerlines. Other factors affecting image quality can be sun angle, haze, wind speed, turbulence and cloud cover. The flight missions are also prioritized to capture certain PSAP (Public Safety Answering Point) areas ahead of other counties; However once again, weather conditions dictate where and when the flight crew can collect data.\n\nCertain image anomalies will be visible within the mosaics. These small warpages were addressed during the digitizing phase by using imagery imported from other stages of the process. It is the intent of NDDOT to eventually address all of these anomalies but at this stage of the project, production speed is a higher priority.\n\nPixel size is approximately 0.9-feet, data is processed to UTM-14, NAD83\n\nThe Base Map missions are created at a flight height above ground (HAG) of 9,000' (2743.2 meters) which creates imagery with a .90'(27.432 cm) ground sample distance (GSD). The resultant imagery covers a base corridor 12,400' (3779.52 meters) wide.",
  "Subject": "This imagery is derived from NDDOT interim working data and which is used to digitize road centerline vector information for the DES Base Map Project",
  "Category": "",
  "AntialiasingMode": "Fast",
  "TextAntialiasingMode": "Force",
  "Version": "2.9.0",
  "Keywords": "North Dakota,ND,GIS Hub,NDGIS,NDGISHub,aerial,imagery,photo,base map,DES"
 },
 "capabilities": "Map,Query,Data",
 "supportedQueryFormats": "JSON, geoJSON, PBF",
 "exportTilesAllowed": false,
 "referenceScale": 0.0,
 "datumTransformations": [
  {
   "geoTransforms": [
    {
     "wkid": 108001,
     "latestWkid": 1241,
     "transformForward": true,
     "name": "NAD_1927_To_NAD_1983_NADCON"
    }
   ]
  },
  {
   "geoTransforms": [
    {
     "wkid": 108001,
     "latestWkid": 1241,
     "transformForward": false,
     "name": "NAD_1927_To_NAD_1983_NADCON"
    }
   ]
  }
 ],
 "supportsDatumTransformation": true,
 "archivingInfo": {
  "supportsHistoricMoment": false
 },
 "supportsClipping": true,
 "supportsSpatialFilter": true,
 "supportsTimeRelation": true,
 "supportsQueryDataElements": true,
 "maxRecordCount": 2000,
 "maxImageHeight": 4096,
 "maxImageWidth": 4096,
 "supportedExtensions": "",
 "resampling": false
}
