{ "currentVersion": 11.5, "serviceDescription": "

Horizons, Inc. was contracted by the Bismarck-Mandan Metropolitan Planning Organization to provide accurate 6\" pixel resolution color digital orthophotography, update 2 1/2 sections of existing 2' contour data and collect new DTM data for the generation on 2' contours on 39 new sections. The project encompassed an area of approximately 197 square miles. A Leica ADS40 Digital Camera system including an inertial measuring unit (IMU) and a dual frequency airborne GPS receiver was used for the digital image acquisition. Imagery acquisition was performed on April 17th and April 22nd of 2005 at 4800' AMT. Ground control survey was conducted by Kadrmas, Lee and Jackson of Bismarck, North Dakota. A survey report summarizing methodology and results was submitted in hardcopy and a digital file in PDF format. GPS data was collected on two new monuments and 11 existing MPO monuments. The resulting coordinates for each new station are referenced to NAD 83(96) datum in North Dakota State Coordinate System, South Zone (3302). The horizontal units were international feet. The GPS Orthometric Heights were determined by calculating the Ellipsoid-Geoid separation using Geoid 99 model and are based on NGVD 1929 international feet. The existing DTM data which Horizons had collected in 2001 was updated to support 2' contours where requested. New mapping was performed on 40 sections and an additional 30 sections of DTM collection was done for ortho rectification only. Contour were generated from the updated and new DTM data and delivered in ARC Shape file format in one contiguous file. The DTM data including breaklines, random points and spot elevation points were also delivered in ARC Shape file format. Color digital orthophotos in TIFF format with .TWF files were produced with a resolution of 6\" utilizing the ADS40 imagery and the updated DTM. <\/span><\/p><\/div><\/div><\/div>", "name": "Imagery/AerialImage_BisMan_2005", "description": "

Horizons, Inc. was contracted by the Bismarck-Mandan Metropolitan Planning Organization to provide accurate 6\" pixel resolution color digital orthophotography, update 2 1/2 sections of existing 2' contour data and collect new DTM data for the generation on 2' contours on 39 new sections. The project encompassed an area of approximately 197 square miles. A Leica ADS40 Digital Camera system including an inertial measuring unit (IMU) and a dual frequency airborne GPS receiver was used for the digital image acquisition. Imagery acquisition was performed on April 17th and April 22nd of 2005 at 4800' AMT. Ground control survey was conducted by Kadrmas, Lee and Jackson of Bismarck, North Dakota. A survey report summarizing methodology and results was submitted in hardcopy and a digital file in PDF format. GPS data was collected on two new monuments and 11 existing MPO monuments. The resulting coordinates for each new station are referenced to NAD 83(96) datum in North Dakota State Coordinate System, South Zone (3302). The horizontal units were international feet. The GPS Orthometric Heights were determined by calculating the Ellipsoid-Geoid separation using Geoid 99 model and are based on NGVD 1929 international feet. The existing DTM data which Horizons had collected in 2001 was updated to support 2' contours where requested. New mapping was performed on 40 sections and an additional 30 sections of DTM collection was done for ortho rectification only. Contour were generated from the updated and new DTM data and delivered in ARC Shape file format in one contiguous file. The DTM data including breaklines, random points and spot elevation points were also delivered in ARC Shape file format. Color digital orthophotos in TIFF format with .TWF files were produced with a resolution of 6\" utilizing the ADS40 imagery and the updated DTM. <\/span><\/p><\/div><\/div><\/div>", "extent": { "xmin": 1835729, "ymin": 373846, "xmax": 1937547, "ymax": 459399, "spatialReference": { "wkid": 2266, "latestWkid": 2266 } }, "initialExtent": { "xmin": 1835729, "ymin": 373846, "xmax": 1937547, "ymax": 459399, "spatialReference": { "wkid": 2266, "latestWkid": 2266 } }, "fullExtent": { "xmin": 1835729, "ymin": 373846, "xmax": 1937547, "ymax": 459399, "spatialReference": { "wkid": 2266, "latestWkid": 2266 } }, "sortableFields": "", "bandCount": 3, "pixelType": "U8", "minValues": [ 0, 0, 0 ], "maxValues": [ 255, 255, 255 ], "meanValues": [ 0, 0, 0 ], "stdvValues": [ -1, -1, -1 ], "serviceProperties": "NorthWest<\/MosaicMethod>First<\/MosaicOperator>true<\/SortAscending><\/LockImageID>Name<\/TileOrderField>0<\/TileOrderBase>600.000000<\/AvgImageSpacingX>300.000000<\/AvgImageSpacingY>0.0<\/ViewPointX>0.0<\/ViewPointY>0.0<\/ViewPointDefShiftX>0.0<\/ViewPointDefShiftY>JPEG<\/CompressionMethod>75<\/CompressionQuality>0.010000<\/CompressionTolerance>Bilinear<\/SamplingMethod><\/ImageServiceProperties><\/ImageServer>", "allowedFields": "Name,MinPS,MaxPS,LowPS,HighPS,Tag,GroupName,ProductName,CenterX,CenterY,ZOrder,Shape_Length,Shape_Area", "hasMultidimensions": false, "pixelSizeX": 0.5, "pixelSizeY": 0.5, "meanPixelSize": 0.1524, "datasetFormat": "AMD", "uncompressedSize": 104530024248, "blockWidth": 2048, "blockHeight": 256, "compressionType": "None", "bandNames": [ "Red", "Green", "Blue" ], "allowCopy": true, "allowAnalysis": true, "itemAccess": false, "inspectionCapabilities": "", "minPixelSize": 0, "maxPixelSize": 0, "copyrightText": "Bismarck-Mandan MPO", "serviceDataType": "esriImageServiceDataTypeProcessed", "serviceSourceType": "esriImageServiceSourceTypeMosaicDataset", "objectIdField": "OBJECTID", "fields": [ { "name": "OBJECTID", "type": "esriFieldTypeOID", "alias": "OBJECTID", "domain": null }, { "name": "Shape", "type": "esriFieldTypeGeometry", "alias": "Shape", "domain": null }, { "name": "Name", "type": "esriFieldTypeString", "alias": "Name", "domain": null, "length": 200 }, { "name": "MinPS", "type": "esriFieldTypeDouble", "alias": "MinPS", "domain": null }, { "name": "MaxPS", "type": "esriFieldTypeDouble", "alias": "MaxPS", "domain": null }, { "name": "LowPS", "type": "esriFieldTypeDouble", "alias": "LowPS", "domain": null }, { "name": "HighPS", "type": "esriFieldTypeDouble", "alias": "HighPS", "domain": null }, { "name": "Category", "type": "esriFieldTypeInteger", "alias": "Category", "domain": { "type": "codedValue", "name": "MosaicCatalogItemCategoryDomain", "description": "Catalog item categories.", "codedValues": [ { "name": "Unknown", "code": 0 }, { "name": "Primary", "code": 1 }, { "name": "Overview", "code": 2 }, { "name": "Unprocessed Overview", "code": 3 }, { "name": "Partial Overview", "code": 4 }, { "name": "Inactive", "code": 5 }, { "name": "Uploaded", "code": 253 }, { "name": "Incomplete", "code": 254 }, { "name": "Custom", "code": 255 } ], "mergePolicy": "esriMPTDefaultValue", "splitPolicy": "esriSPTDefaultValue" } }, { "name": "Tag", "type": "esriFieldTypeString", "alias": "Tag", "domain": null, "length": 100 }, { "name": "GroupName", "type": "esriFieldTypeString", "alias": "GroupName", "domain": null, "length": 100 }, { "name": "ProductName", "type": "esriFieldTypeString", "alias": "ProductName", "domain": null, "length": 100 }, { "name": "CenterX", "type": "esriFieldTypeDouble", "alias": "CenterX", "domain": null }, { "name": "CenterY", "type": "esriFieldTypeDouble", "alias": "CenterY", "domain": null }, { "name": "ZOrder", "type": "esriFieldTypeInteger", "alias": "ZOrder", "domain": null }, { "name": "Shape_Length", "type": "esriFieldTypeDouble", "alias": "Shape_Length", "domain": null }, { "name": "Shape_Area", "type": "esriFieldTypeDouble", "alias": "Shape_Area", "domain": null } ], "capabilities": "Catalog,Image,Metadata", "defaultMosaicMethod": "Northwest", "allowedMosaicMethods": "NorthWest,Center,LockRaster,ByAttribute,Nadir,Viewpoint,Seamline,None", "sortField": "", "sortValue": null, "sortAscending": true, "mosaicOperator": "First", "maxDownloadSizeLimit": 2048, "defaultCompressionQuality": 75, "defaultResamplingMethod": "Bilinear", "maxImageHeight": 4100, "maxImageWidth": 15000, "maxRecordCount": 1000, "maxDownloadImageCount": 20, "maxMosaicImageCount": 20, "allowRasterFunction": true, "rasterFunctionInfos": [ { "name": "None", "description": "A No-Op Function.", "help": "" } ], "rasterTypeInfos": [ { "name": "Raster Dataset", "description": "Supports all ArcGIS Raster Datasets", "help": "" } ], "mensurationCapabilities": "None", "hasHistograms": false, "hasColormap": false, "hasRasterAttributeTable": false, "minScale": 0, "maxScale": 0, "exportTilesAllowed": false, "supportsStatistics": true, "supportsAdvancedQueries": true, "editFieldsInfo": null, "ownershipBasedAccessControlForRasters": null, "allowComputeTiePoints": false, "useStandardizedQueries": true, "advancedQueryCapabilities": { "useStandardizedQueries": true, "supportsStatistics": true, "supportsOrderBy": true, "supportsDistinct": true, "supportsPagination": true }, "spatialReference": { "wkid": 2266, "latestWkid": 2266 }, "resampling": false }