{ "currentVersion": 10.91, "serviceDescription": "

The primary area is the Bismarck-Mandan Metropolitan Planning Organization (MPO) and vicinity (approximately 400 square miles). The May 6, 2009 aerial photography is courtesy of a partnership between the Bismarck/Mandan MPO, the State of North Dakota, the City of Bismarck, the City of Lincoln, the City of Mandan, Burleigh County, and Morton County. <\/span><\/p><\/div><\/div><\/div>", "name": "Imagery/AerialImage_BisMan_2009", "description": "

The primary area is the Bismarck-Mandan Metropolitan Planning Organization (MPO) and vicinity (approximately 400 square miles). The May 6, 2009 aerial photography is courtesy of a partnership between the Bismarck/Mandan MPO, the State of North Dakota, the City of Bismarck, the City of Lincoln, the City of Mandan, Burleigh County, and Morton County. <\/span><\/p><\/div><\/div><\/div>", "extent": { "xmin": 1820071.1900013387, "ymin": 360161.210363633, "xmax": 1948017.9340271144, "ymax": 480542.969524152, "spatialReference": { "wkid": 102721, "latestWkid": 102721 } }, "initialExtent": { "xmin": 1820071.1900013387, "ymin": 360161.210363633, "xmax": 1948017.9340271144, "ymax": 480542.969524152, "spatialReference": { "wkid": 102721, "latestWkid": 102721 } }, "fullExtent": { "xmin": 1820071.1900013387, "ymin": 360161.210363633, "xmax": 1948017.9340271144, "ymax": 480542.969524152, "spatialReference": { "wkid": 102721, "latestWkid": 102721 } }, "hasMultidimensions": false, "pixelSizeX": 0.49999899968649403, "pixelSizeY": 0.4999989996864938, "datasetFormat": "AMD", "uncompressedSize": 184830189048, "blockWidth": 2048, "blockHeight": 256, "compressionType": "None", "bandNames": [ "Band_1", "Band_2", "Band_3" ], "allowCopy": true, "allowAnalysis": true, "bandCount": 3, "pixelType": "U8", "minPixelSize": 0, "maxPixelSize": 0, "copyrightText": "Bismarck-Mandan MPO, State of North Dakota, City of Bismarck, City of Mandan, City of Lincoln, Burleigh and Morton County", "serviceDataType": "esriImageServiceDataTypeProcessed", "serviceSourceType": "esriImageServiceSourceTypeMosaicDataset", "minValues": [ 0, 0, 0 ], "maxValues": [ 255, 255, 255 ], "meanValues": [ 85.34268624449251, 85.90253480004513, 78.78947800977033 ], "stdvValues": [ 22.13678236987328, 20.768351432591803, 18.270968380221134 ], "objectIdField": "OBJECTID", "fields": [ { "name": "OBJECTID", "type": "esriFieldTypeOID", "alias": "OBJECTID", "domain": null }, { "name": "Shape", "type": "esriFieldTypeGeometry", "alias": "Shape", "domain": null }, { "name": "Name", "type": "esriFieldTypeString", "alias": "Name", "domain": null, "length": 50 }, { "name": "MinPS", "type": "esriFieldTypeDouble", "alias": "MinPS", "domain": null }, { "name": "MaxPS", "type": "esriFieldTypeDouble", "alias": "MaxPS", "domain": null }, { "name": "LowPS", "type": "esriFieldTypeDouble", "alias": "LowPS", "domain": null }, { "name": "HighPS", "type": "esriFieldTypeDouble", "alias": "HighPS", "domain": null }, { "name": "Category", "type": "esriFieldTypeInteger", "alias": "Category", "domain": null }, { "name": "Tag", "type": "esriFieldTypeString", "alias": "Tag", "domain": null, "length": 20 }, { "name": "GroupName", "type": "esriFieldTypeString", "alias": "GroupName", "domain": null, "length": 50 }, { "name": "ProductName", "type": "esriFieldTypeString", "alias": "ProductName", "domain": null, "length": 50 }, { "name": "CenterX", "type": "esriFieldTypeDouble", "alias": "CenterX", "domain": null }, { "name": "CenterY", "type": "esriFieldTypeDouble", "alias": "CenterY", "domain": null }, { "name": "ZOrder", "type": "esriFieldTypeInteger", "alias": "ZOrder", "domain": null }, { "name": "SOrder", "type": "esriFieldTypeInteger", "alias": "SOrder", "domain": null }, { "name": "StereoID", "type": "esriFieldTypeString", "alias": "StereoID", "domain": null, "length": 50 }, { "name": "Shape_Length", "type": "esriFieldTypeDouble", "alias": "Shape_Length", "domain": null }, { "name": "Shape_Area", "type": "esriFieldTypeDouble", "alias": "Shape_Area", "domain": null } ], "capabilities": "Catalog,Image,Metadata", "defaultMosaicMethod": "Center", "allowedMosaicMethods": "Center,NorthWest,LockRaster,ByAttribute,Nadir,Viewpoint,Seamline,None", "sortField": "", "sortValue": null, "sortAscending": true, "mosaicOperator": "First", "maxDownloadSizeLimit": 0, "defaultCompressionQuality": 75, "defaultResamplingMethod": "Bilinear", "maxImageHeight": 4100, "maxImageWidth": 15000, "maxRecordCount": 1000, "maxDownloadImageCount": 20, "maxMosaicImageCount": 20, "allowRasterFunction": true, "rasterFunctionInfos": [ { "name": "None", "description": "", "help": "" } ], "rasterTypeInfos": [ { "name": "Raster Dataset", "description": "Supports all ArcGIS Raster Datasets", "help": "" } ], "mensurationCapabilities": "", "hasHistograms": true, "hasColormap": false, "hasRasterAttributeTable": false, "minScale": 0, "maxScale": 0, "exportTilesAllowed": false, "supportsStatistics": true, "supportsAdvancedQueries": true, "editFieldsInfo": null, "ownershipBasedAccessControlForRasters": null, "allowComputeTiePoints": false, "useStandardizedQueries": true, "advancedQueryCapabilities": { "useStandardizedQueries": true, "supportsStatistics": true, "supportsOrderBy": true, "supportsDistinct": true, "supportsPagination": true }, "spatialReference": { "wkid": 102721, "latestWkid": 102721 } }