{ "currentVersion": 10.91, "serviceDescription": "

The project encompassed an area of approximately 1304 square miles. A Leica ADS40/SH52 Digital Camera system including an inertial measuring unit (IMU) and a dual frequency airborne GPS receiver was used for the digital image acquisition. Imagery acquisition was performed May 15-17, 2011 at 4800' AMT (above mean terrain), with 30 percent sidelap between the flight lines. Digital orthophotos in TIFF format were produced with a resolution of 0.5 foot utilizing the ADS40/SH52 imagery and Red River Basin LiDAR Elevation DEM. <\/SPAN><\/P><\/DIV><\/DIV><\/DIV>", "name": "Imagery/AerialImage_Cass_2011", "description": "

The project encompassed an area of approximately 1304 square miles. A Leica ADS40/SH52 Digital Camera system including an inertial measuring unit (IMU) and a dual frequency airborne GPS receiver was used for the digital image acquisition. Imagery acquisition was performed May 15-17, 2011 at 4800' AMT (above mean terrain), with 30 percent sidelap between the flight lines. Digital orthophotos in TIFF format were produced with a resolution of 0.5 foot utilizing the ADS40/SH52 imagery and Red River Basin LiDAR Elevation DEM. <\/SPAN><\/P><\/DIV><\/DIV><\/DIV>", "extent": { "xmin": 2660990.5, "ymin": 362654.5, "xmax": 2905731.5, "ymax": 595457.5, "spatialReference": { "wkid": 102721, "latestWkid": 102721 } }, "initialExtent": { "xmin": 2660990.5, "ymin": 362654.5, "xmax": 2905731.5, "ymax": 595457.5, "spatialReference": { "wkid": 102721, "latestWkid": 102721 } }, "fullExtent": { "xmin": 2660990.5, "ymin": 362654.5, "xmax": 2905731.5, "ymax": 595457.5, "spatialReference": { "wkid": 102721, "latestWkid": 102721 } }, "hasMultidimensions": false, "pixelSizeX": 0.5, "pixelSizeY": 0.5, "datasetFormat": "AMD", "uncompressedSize": 683717268276, "blockWidth": 2048, "blockHeight": 256, "compressionType": "None", "bandNames": [ "Band_1", "Band_2", "Band_3" ], "allowCopy": true, "allowAnalysis": true, "bandCount": 3, "pixelType": "U8", "minPixelSize": 0, "maxPixelSize": 0, "copyrightText": "Cass County, North Dakota", "serviceDataType": "esriImageServiceDataTypeProcessed", "serviceSourceType": "esriImageServiceSourceTypeMosaicDataset", "minValues": [ 0, 0, 0 ], "maxValues": [ 255, 255, 255 ], "meanValues": [ 97.72626103853995, 100.1175305084993, 98.20301264769009 ], "stdvValues": [ 55.09103319063972, 51.268199178405006, 47.62359402150067 ], "objectIdField": "OBJECTID", "fields": [ { "name": "OBJECTID", "type": "esriFieldTypeOID", "alias": "OBJECTID", "domain": null }, { "name": "Shape", "type": "esriFieldTypeGeometry", "alias": "Shape", "domain": null }, { "name": "Name", "type": "esriFieldTypeString", "alias": "Name", "domain": null, "length": 50 }, { "name": "MinPS", "type": "esriFieldTypeDouble", "alias": "MinPS", "domain": null }, { "name": "MaxPS", "type": "esriFieldTypeDouble", "alias": "MaxPS", "domain": null }, { "name": "LowPS", "type": "esriFieldTypeDouble", "alias": "LowPS", "domain": null }, { "name": "HighPS", "type": "esriFieldTypeDouble", "alias": "HighPS", "domain": null }, { "name": "Category", "type": "esriFieldTypeInteger", "alias": "Category", "domain": { "type": "codedValue", "name": "MosaicCatalogItemCategoryDomain", "description": "Catalog item categories.", "codedValues": [ { "name": "Unknown", "code": 0 }, { "name": "Primary", "code": 1 }, { "name": "Overview", "code": 2 }, { "name": "Unprocessed Overview", "code": 3 }, { "name": "Partial Overview", "code": 4 }, { "name": "Uploaded", "code": 253 }, { "name": "Incomplete", "code": 254 }, { "name": "Custom", "code": 255 } ], "mergePolicy": "esriMPTDefaultValue", "splitPolicy": "esriSPTDefaultValue" } }, { "name": "Tag", "type": "esriFieldTypeString", "alias": "Tag", "domain": null, "length": 20 }, { "name": "GroupName", "type": "esriFieldTypeString", "alias": "GroupName", "domain": null, "length": 50 }, { "name": "ProductName", "type": "esriFieldTypeString", "alias": "ProductName", "domain": null, "length": 50 }, { "name": "CenterX", "type": "esriFieldTypeDouble", "alias": "CenterX", "domain": null }, { "name": "CenterY", "type": "esriFieldTypeDouble", "alias": "CenterY", "domain": null }, { "name": "ZOrder", "type": "esriFieldTypeInteger", "alias": "ZOrder", "domain": null }, { "name": "SOrder", "type": "esriFieldTypeInteger", "alias": "SOrder", "domain": null }, { "name": "StereoID", "type": "esriFieldTypeString", "alias": "StereoID", "domain": null, "length": 50 }, { "name": "Shape_Length", "type": "esriFieldTypeDouble", "alias": "Shape_Length", "domain": null }, { "name": "Shape_Area", "type": "esriFieldTypeDouble", "alias": "Shape_Area", "domain": null } ], "capabilities": "Image,Metadata,Catalog", "defaultMosaicMethod": "Center", "allowedMosaicMethods": "Center,NorthWest,LockRaster,ByAttribute,Nadir,Viewpoint,Seamline,None", "sortField": "", "sortValue": null, "sortAscending": true, "mosaicOperator": "First", "maxDownloadSizeLimit": 0, "defaultCompressionQuality": 75, "defaultResamplingMethod": "Bilinear", "maxImageHeight": 4100, "maxImageWidth": 15000, "maxRecordCount": 1000, "maxDownloadImageCount": 20, "maxMosaicImageCount": 20, "allowRasterFunction": true, "rasterFunctionInfos": [ { "name": "None", "description": "", "help": "" } ], "rasterTypeInfos": [ { "name": "Raster Dataset", "description": "Supports all ArcGIS Raster Datasets", "help": "" } ], "mensurationCapabilities": "", "hasHistograms": true, "hasColormap": false, "hasRasterAttributeTable": false, "minScale": 0, "maxScale": 0, "exportTilesAllowed": false, "supportsStatistics": true, "supportsAdvancedQueries": true, "editFieldsInfo": null, "ownershipBasedAccessControlForRasters": null, "allowComputeTiePoints": false, "useStandardizedQueries": true, "advancedQueryCapabilities": { "useStandardizedQueries": true, "supportsStatistics": true, "supportsOrderBy": true, "supportsDistinct": true, "supportsPagination": true }, "spatialReference": { "wkid": 102721, "latestWkid": 102721 } }