{ "currentVersion": 10.91, "serviceDescription": "

This dataset consists of 6-inch resolution color ortho imagery of Fargo, ND, flown in the Spring of 2006. The imagery was produced by Merrick & Company and was delivered in December 2006. <\/SPAN><\/P><\/DIV><\/DIV><\/DIV>", "name": "Imagery/AerialImage_Fargo_2006", "description": "

This dataset consists of 6-inch resolution color ortho imagery of Fargo, ND, flown in the Spring of 2006. The imagery was produced by Merrick & Company and was delivered in December 2006. <\/SPAN><\/P><\/DIV><\/DIV><\/DIV>", "extent": { "xmin": 2852408.05, "ymin": 381762.05, "xmax": 2909036.05, "ymax": 510007.05, "spatialReference": { "wkid": 102721, "latestWkid": 102721 } }, "initialExtent": { "xmin": 2852408.05, "ymin": 381762.05, "xmax": 2909036.05, "ymax": 510007.05, "spatialReference": { "wkid": 102721, "latestWkid": 102721 } }, "fullExtent": { "xmin": 2852408.05, "ymin": 381762.05, "xmax": 2909036.05, "ymax": 510007.05, "spatialReference": { "wkid": 102721, "latestWkid": 102721 } }, "hasMultidimensions": false, "pixelSizeX": 0.5, "pixelSizeY": 0.5, "datasetFormat": "AMD", "uncompressedSize": 87147094320, "blockWidth": 2048, "blockHeight": 256, "compressionType": "None", "bandNames": [ "Band_1", "Band_2", "Band_3" ], "allowCopy": true, "allowAnalysis": true, "bandCount": 3, "pixelType": "U8", "minPixelSize": 0, "maxPixelSize": 0, "copyrightText": "City of Fargo", "serviceDataType": "esriImageServiceDataTypeProcessed", "serviceSourceType": "esriImageServiceSourceTypeMosaicDataset", "minValues": [ 27, 29, 30 ], "maxValues": [ 255, 255, 255 ], "meanValues": [ 117.19872979971461, 107.27386578917643, 85.8549024030758 ], "stdvValues": [ 25.53233653902441, 23.630523067663763, 18.948699010667784 ], "objectIdField": "OBJECTID", "fields": [ { "name": "OBJECTID", "type": "esriFieldTypeOID", "alias": "OBJECTID", "domain": null }, { "name": "Shape", "type": "esriFieldTypeGeometry", "alias": "Shape", "domain": null }, { "name": "Name", "type": "esriFieldTypeString", "alias": "Name", "domain": null, "length": 200 }, { "name": "MinPS", "type": "esriFieldTypeDouble", "alias": "MinPS", "domain": null }, { "name": "MaxPS", "type": "esriFieldTypeDouble", "alias": "MaxPS", "domain": null }, { "name": "LowPS", "type": "esriFieldTypeDouble", "alias": "LowPS", "domain": null }, { "name": "HighPS", "type": "esriFieldTypeDouble", "alias": "HighPS", "domain": null }, { "name": "Category", "type": "esriFieldTypeInteger", "alias": "Category", "domain": { "type": "codedValue", "name": "MosaicCatalogItemCategoryDomain", "description": "Catalog item categories.", "codedValues": [ { "name": "Unknown", "code": 0 }, { "name": "Primary", "code": 1 }, { "name": "Overview", "code": 2 }, { "name": "Unprocessed Overview", "code": 3 }, { "name": "Partial Overview", "code": 4 }, { "name": "Inactive", "code": 5 }, { "name": "Uploaded", "code": 253 }, { "name": "Incomplete", "code": 254 }, { "name": "Custom", "code": 255 } ], "mergePolicy": "esriMPTDefaultValue", "splitPolicy": "esriSPTDefaultValue" } }, { "name": "Tag", "type": "esriFieldTypeString", "alias": "Tag", "domain": null, "length": 100 }, { "name": "GroupName", "type": "esriFieldTypeString", "alias": "GroupName", "domain": null, "length": 100 }, { "name": "ProductName", "type": "esriFieldTypeString", "alias": "ProductName", "domain": null, "length": 100 }, { "name": "CenterX", "type": "esriFieldTypeDouble", "alias": "CenterX", "domain": null }, { "name": "CenterY", "type": "esriFieldTypeDouble", "alias": "CenterY", "domain": null }, { "name": "ZOrder", "type": "esriFieldTypeInteger", "alias": "ZOrder", "domain": null }, { "name": "Shape_Length", "type": "esriFieldTypeDouble", "alias": "Shape_Length", "domain": null }, { "name": "Shape_Area", "type": "esriFieldTypeDouble", "alias": "Shape_Area", "domain": null } ], "capabilities": "Image,Metadata,Catalog", "defaultMosaicMethod": "Northwest", "allowedMosaicMethods": "NorthWest,Center,Nadir,Viewpoint,LockRaster,ByAttribute,Seamline,None", "sortField": "", "sortValue": null, "sortAscending": true, "mosaicOperator": "First", "maxDownloadSizeLimit": 2048, "defaultCompressionQuality": 75, "defaultResamplingMethod": "Bilinear", "maxImageHeight": 4100, "maxImageWidth": 15000, "maxRecordCount": 2000, "maxDownloadImageCount": 50, "maxMosaicImageCount": 50, "allowRasterFunction": true, "rasterFunctionInfos": [ { "name": "None", "description": "A No-Op Function.", "help": "" } ], "rasterTypeInfos": [ { "name": "Raster Dataset", "description": "Supports all ArcGIS Raster Datasets", "help": "" } ], "mensurationCapabilities": "None", "hasHistograms": true, "hasColormap": false, "hasRasterAttributeTable": false, "minScale": 0, "maxScale": 0, "exportTilesAllowed": false, "supportsStatistics": true, "supportsAdvancedQueries": true, "editFieldsInfo": null, "ownershipBasedAccessControlForRasters": null, "allowComputeTiePoints": false, "useStandardizedQueries": true, "advancedQueryCapabilities": { "useStandardizedQueries": true, "supportsStatistics": true, "supportsOrderBy": true, "supportsDistinct": true, "supportsPagination": true }, "spatialReference": { "wkid": 102721, "latestWkid": 102721 } }