View In:
ArcGIS JavaScript
ArcGIS Online Map Viewer
ArcGIS Earth
ArcGIS Pro
Service Description: The North Dakota Game and Fish Departments Fishing Waters web service provides users access to Department fishing waters, stocking information, lake bathymetry, fishing facilities including boat ramps, fish cleaning stations and fishing piers, and more. This service may be consumed in a number of ways including web, mobile and desktop applications and viewed with various base information including aerial imagery, transportation and other services.
Map Name: NDGFFishingWatersCached
Legend
All Layers and Tables
Dynamic Legend
Dynamic All Layers
Layers:
Description: The North Dakota Game and Fish Departments Fishing Waters web service provides users access to Department fishing waters, stocking information, lake bathymetry, fishing facilities including boat ramps, fish cleaning stations and fishing piers, and more. This service may be consumed in a number of ways including web, mobile and desktop applications and viewed with various base information including aerial imagery, transportation and other services.
Copyright Text: North Dakota Game and Fish Department and the ND GIS Hub
Spatial Reference:
102100
(3857)
LatestVCSWkid(0)
Single Fused Map Cache: true
Tile Info:
- Height: 256.0
- Width: 256.0
- DPI: 96.0
-
Levels of Detail: 24
-
Level ID: 1
[ Start Tile, End Tile ]
- Resolution: 78271.5169639999
- Scale: 2.95828763795777E8
-
Level ID: 2
[ Start Tile, End Tile ]
- Resolution: 39135.7584820001
- Scale: 1.47914381897889E8
-
Level ID: 3
[ Start Tile, End Tile ]
- Resolution: 19567.8792409999
- Scale: 7.3957190948944E7
-
Level ID: 4
[ Start Tile, End Tile ]
- Resolution: 9783.93962049996
- Scale: 3.6978595474472E7
-
Level ID: 5
[ Start Tile, End Tile ]
- Resolution: 4891.96981024998
- Scale: 1.8489297737236E7
- Format: MIXED
- Compression Quality: 75.0
- Origin: X: -2.0037508342787E7
Y: 2.0037508342787E7
- Spatial Reference: 102100
(3857)
LatestVCSWkid(0)
Storage Info:
- Storage Format: esriMapCacheStorageModeCompactV2
- Packet Size: 128
Initial Extent:
XMin: -1.175100188023353E7
YMin: 5585608.4203352155
XMax: -1.0602095166731734E7
YMax: 6454181.895742572
Spatial Reference: 102100
(0)
LatestVCSWkid(0)
Full Extent:
XMin: -1.1582671214482307E7
YMin: 5769936.385445277
XMax: -1.0748396843865214E7
YMax: 6274962.284043414
Spatial Reference: 102100
(0)
LatestVCSWkid(0)
Units: esriMeters
Supported Image Format Types: PNG32,PNG24,PNG,JPG,DIB,TIFF,EMF,PS,PDF,GIF,SVG,SVGZ,BMP
Document Info:
Title: GNF_FishingWatersCached
Author:
Comments: The North Dakota Game and Fish Departments Fishing Waters web service provides users access to Department fishing waters, stocking information, lake bathymetry, fishing facilities including boat ramps, fish cleaning stations and fishing piers, and more. This service may be consumed in a number of ways including web, mobile and desktop applications and viewed with various base information including aerial imagery, transportation and other services.
Subject: North Dakota Game and Fish fishing waters
Category:
Keywords: North Dakota,ND,GIS Hub,NDGIS,NDGISHub,Game and Fish,fishing,waters,environment
AntialiasingMode: Fast
TextAntialiasingMode: Force
Supports Dynamic Layers: true
Resampling: false
MaxRecordCount: 2000
MaxSelectionCount: 2000
MaxImageHeight: 4096
MaxImageWidth: 4096
Supported Query Formats: JSON, geoJSON, PBF
Supports Query Data Elements: true
Min Scale: 5.91657527591555E8
Max Scale: 564.248588
Supports Datum Transformation: true
Child Resources:
Info
Dynamic Layer
Supported Operations:
Export Map
Identify
QueryLegends
QueryDomains
Find
Return Updates