View In:
  ArcGIS JavaScript
  ArcGIS Online Map Viewer
  ArcGIS Earth
  ArcGIS Pro
Service Description:  North Dakota Game and Fish Department PLOTS Guide
Map Name:  NDGFPLOTSGuideCached
Legend
All Layers and Tables
Dynamic Legend
Dynamic All Layers
Layers: 
Description:  North Dakota Game and Fish Department PLOTS Guide
Copyright Text:  North Dakota Game and Fish Department and the ND GIS Hub 
Spatial Reference: 
102100
 (3857)
 LatestVCSWkid(0)
Single Fused Map Cache:  true
Tile Info: 
- Height: 256.0
- Width: 256.0
- DPI: 96.0
- 
Levels of Detail:  24
- 
Level ID: 1
[ Start Tile, End Tile ]
- Resolution: 78271.5169639999
- Scale: 2.95828763795777E8
- 
Level ID: 2
[ Start Tile, End Tile ]
- Resolution: 39135.7584820001
- Scale: 1.47914381897889E8
- 
Level ID: 3
[ Start Tile, End Tile ]
- Resolution: 19567.8792409999
- Scale: 7.3957190948944E7
- 
Level ID: 4
[ Start Tile, End Tile ]
- Resolution: 9783.93962049996
- Scale: 3.6978595474472E7
- 
Level ID: 5
[ Start Tile, End Tile ]
- Resolution: 4891.96981024998
- Scale: 1.8489297737236E7
- Format: PNG
- Compression Quality: 0.0
- Origin: X:  -2.0037508342787E7
 Y:  2.0037508342787E7
 
- Spatial Reference: 102100
 (3857)
 LatestVCSWkid(0)
 
Storage Info:
- Storage Format: esriMapCacheStorageModeCompactV2
- Packet Size: 128
Initial Extent:
XMin: -1.1525159596225679E7
YMin: 5683159.181465813
XMax: -1.0973835823734004E7
YMax: 6202849.622748951
Spatial Reference: 102100
 (0)
 LatestVCSWkid(0)
Full Extent:
XMin: -1.1583081664626382E7
YMin: 5770008.748671433
XMax: -1.0776743453796294E7
YMax: 6277608.28579078
Spatial Reference: 102100
 (0)
 LatestVCSWkid(0)
Units: esriMeters
Supported Image Format Types:  PNG32,PNG24,PNG,JPG,DIB,TIFF,EMF,PS,PDF,GIF,SVG,SVGZ,BMP
Document Info: 
Title: PLOTS Guide
Author: 
Comments: North Dakota Game and Fish Department PLOTS Guide
Subject: North Dakota Department of Game and Fish PLOTS Guide
Category: 
Keywords: ndgf,PLOTS
AntialiasingMode: Fast
TextAntialiasingMode: Force
Supports Dynamic Layers: true
MaxRecordCount:  2000
MaxSelectionCount:  2000
MaxImageHeight:  4096
MaxImageWidth:  4096
Supported Query Formats:  JSON, geoJSON, PBF
Supports Query Data Elements:  true
Min Scale:  5.91657527591555E8
Max Scale:  1128.497176
Min LOD:  0
Max LOD:  19
Supports Datum Transformation:  true
Child Resources:
  
Info
  Dynamic Layer
 
Supported Operations:
  
Export Map
  Identify
  QueryLegends
  QueryDomains
  Find
  Return Updates