View In:
  ArcGIS JavaScript
  ArcGIS Online Map Viewer
  ArcGIS Earth
Service Description:  Imagery captured by the NDDOT, March 27 2009. Spatial accuracy could be off by several hundred feet because the data was needed quickly. Data provided as is.
 Flood/AerialImage_MissouriRiver_2009
Description:  Imagery captured by the NDDOT, March 27 2009. Spatial accuracy could be off by several hundred feet because the data was needed quickly. Data provided as is.
 false
Extent: 
XMin: 313530.084749748
YMin: 5088804.547770223
XMax: 386262.1922697479
YMax: 5264111.608890222
Spatial Reference: 26914
 (26914)
 LatestVCSWkid(0)
Initial Extent:
XMin: 313530.084749748
YMin: 5088804.547770223
XMax: 386262.1922697479
YMax: 5264111.608890222
Spatial Reference: 26914
 (26914)
 LatestVCSWkid(0)
Full Extent:
XMin: 313530.084749748
YMin: 5088804.547770223
XMax: 386262.1922697479
YMax: 5264111.608890222
Spatial Reference: 26914
 (26914)
 LatestVCSWkid(0)
Pixel Size X: 0.24383999999999967
Pixel Size Y:  0.24383999999999964
Band Count: 3
Pixel Type: U8
RasterFunction Infos:  {"rasterFunctionInfos": [{
 "name": "None",
 "description": "",
 "help": ""
}]}
Mensuration Capabilities: 
Inspection Capabilities: 
Has Histograms:  true
Has Colormap:  false
Has Multi Dimensions :  false
Rendering Rule: 
Min Scale:  0
Max Scale:  0
Resampling:  false
Copyright Text:  North Dakota Department of Transportation, ND GIS Hub
Service Data Type:  esriImageServiceDataTypeProcessed
Min Values:  4, 26, 24
Max Values:  255, 255, 255
Mean Values:  171.54815080422088, 190.6867295017587, 199.86929276371956
Standard Deviation Values:  45.25899961630613, 44.121369947305084, 47.21731656890665
Object ID Field:  OBJECTID
Fields: 
- 
OBJECTID
(
type: esriFieldTypeOID, alias: OBJECTID
)
- 
Shape
(
type: esriFieldTypeGeometry, alias: Shape
)
- 
Name
(
type: esriFieldTypeString, alias: Name, length: 50
)
- 
MinPS
(
type: esriFieldTypeDouble, alias: MinPS
)
- 
MaxPS
(
type: esriFieldTypeDouble, alias: MaxPS
)
- 
LowPS
(
type: esriFieldTypeDouble, alias: LowPS
)
- 
HighPS
(
type: esriFieldTypeDouble, alias: HighPS
)
- 
Category
(
type: esriFieldTypeInteger, alias: Category
)
- 
Tag
(
type: esriFieldTypeString, alias: Tag, length: 20
)
- 
GroupName
(
type: esriFieldTypeString, alias: GroupName, length: 50
)
- 
ProductName
(
type: esriFieldTypeString, alias: ProductName, length: 50
)
- 
CenterX
(
type: esriFieldTypeDouble, alias: CenterX
)
- 
CenterY
(
type: esriFieldTypeDouble, alias: CenterY
)
- 
ZOrder
(
type: esriFieldTypeInteger, alias: ZOrder
)
- 
SOrder
(
type: esriFieldTypeInteger, alias: SOrder
)
- 
StereoID
(
type: esriFieldTypeString, alias: StereoID, length: 50
)
- 
Shape_Length
(
type: esriFieldTypeDouble, alias: Shape_Length
)
- 
Shape_Area
(
type: esriFieldTypeDouble, alias: Shape_Area
)
Default Mosaic Method: Center
Allowed Mosaic Methods:  Center,NorthWest,LockRaster,ByAttribute,Nadir,Viewpoint,Seamline,None
SortField:  
SortValue:  null
Mosaic Operator:  First
Default Compression Quality:  75
Default Resampling Method:  Bilinear
Max Record Count:  1000
Max Image Height:  4100
Max Image Width:  15000
Max Download Image Count:  20
Max Mosaic Image Count:  20
Allow Raster Function:  true
Allow Copy:  true
Allow Analysis:  true
Allow Compute TiePoints:  false
Supports Statistics:  true
Supports Advanced Queries:  true
Use StandardizedQueries:  true
Raster Type Infos: 
Name: Raster Dataset
Description: Supports all ArcGIS Raster Datasets
Help: 
Has Raster Attribute Table: false
Edit Fields Info:  null
Ownership Based AccessControl For Rasters:  null
Child Resources:
  
Info
  Histograms
  Statistics
  Key Properties
  Legend
  Raster Function Infos
Supported Operations:
  
Export Image
  Query
  Identify
  Compute Histograms
  Compute Statistics Histograms
  Get Samples
  Compute Class Statistics
  Query GPS Info
  Find Images
  Image to Map
  Map to Image
  Measure from Image
  Image to Map Multiray
  Query Boundary
  Compute Pixel Location
  Compute Angles
  Validate
  Project