View In:
  ArcGIS JavaScript
  ArcGIS Online Map Viewer
  ArcGIS Earth
Service Description:  Imagery collected by the ND Department of Transportation on October 19, 2010 for the ND State Water Commission. The imagery extends from about 8 miles south of Bismarck to just north of the Garrison Dam. Pixel size is approximately 0.6-feet. Flow at Bismarck was 31,600 cfs at the time of the imagery collection.
 Flood/AerialImage_MissouriRiver_2010
Description:  Imagery collected by the ND Department of Transportation on October 19, 2010 for the ND State Water Commission. The imagery extends from about 8 miles south of Bismarck to just north of the Garrison Dam. Pixel size is approximately 0.6-feet. Flow at Bismarck was 31,600 cfs at the time of the imagery collection.
 false
Extent: 
XMin: 1702349.4690555
YMin: 364486.7568753714
XMax: 1915490.5318279963
YMax: 687715.8302724997
Spatial Reference: 2266
 (2266)
 LatestVCSWkid(0)
Initial Extent:
XMin: 1702349.4690555
YMin: 364486.7568753714
XMax: 1915490.5318279963
YMax: 687715.8302724997
Spatial Reference: 2266
 (2266)
 LatestVCSWkid(0)
Full Extent:
XMin: 1702349.4690555
YMin: 364486.7568753714
XMax: 1915490.5318279963
YMax: 687715.8302724997
Spatial Reference: 2266
 (2266)
 LatestVCSWkid(0)
Pixel Size X: 0.5716689807222833
Pixel Size Y:  0.5716689807222832
Band Count: 3
Pixel Type: U8
RasterFunction Infos:  {"rasterFunctionInfos": [{
 "name": "None",
 "description": "",
 "help": ""
}]}
Mensuration Capabilities: 
Inspection Capabilities: 
Has Histograms:  true
Has Colormap:  false
Has Multi Dimensions :  false
Rendering Rule: 
Min Scale:  0
Max Scale:  0
Resampling:  false
Copyright Text:  State Water Commission, Department of Transportation, GIS Hub
Service Data Type:  esriImageServiceDataTypeProcessed
Min Values:  16, 20, 13
Max Values:  254, 255, 255
Mean Values:  118.32342879108207, 115.75894676148376, 104.45594849125504
Standard Deviation Values:  38.97408974854161, 29.069600993837014, 24.135860202538957
Object ID Field:  OBJECTID
Fields: 
- 
OBJECTID
(
type: esriFieldTypeOID, alias: OBJECTID
)
- 
Shape
(
type: esriFieldTypeGeometry, alias: Shape
)
- 
Name
(
type: esriFieldTypeString, alias: Name, length: 50
)
- 
MinPS
(
type: esriFieldTypeDouble, alias: MinPS
)
- 
MaxPS
(
type: esriFieldTypeDouble, alias: MaxPS
)
- 
LowPS
(
type: esriFieldTypeDouble, alias: LowPS
)
- 
HighPS
(
type: esriFieldTypeDouble, alias: HighPS
)
- 
Category
(
type: esriFieldTypeInteger, alias: Category
)
- 
Tag
(
type: esriFieldTypeString, alias: Tag, length: 20
)
- 
GroupName
(
type: esriFieldTypeString, alias: GroupName, length: 50
)
- 
ProductName
(
type: esriFieldTypeString, alias: ProductName, length: 50
)
- 
CenterX
(
type: esriFieldTypeDouble, alias: CenterX
)
- 
CenterY
(
type: esriFieldTypeDouble, alias: CenterY
)
- 
ZOrder
(
type: esriFieldTypeInteger, alias: ZOrder
)
- 
SOrder
(
type: esriFieldTypeInteger, alias: SOrder
)
- 
StereoID
(
type: esriFieldTypeString, alias: StereoID, length: 50
)
- 
Shape_Length
(
type: esriFieldTypeDouble, alias: Shape_Length
)
- 
Shape_Area
(
type: esriFieldTypeDouble, alias: Shape_Area
)
Default Mosaic Method: Center
Allowed Mosaic Methods:  Center,NorthWest,LockRaster,ByAttribute,Nadir,Viewpoint,Seamline,None
SortField:  
SortValue:  null
Mosaic Operator:  First
Default Compression Quality:  75
Default Resampling Method:  Bilinear
Max Record Count:  1000
Max Image Height:  4100
Max Image Width:  15000
Max Download Image Count:  20
Max Mosaic Image Count:  20
Allow Raster Function:  true
Allow Copy:  true
Allow Analysis:  true
Allow Compute TiePoints:  false
Supports Statistics:  true
Supports Advanced Queries:  true
Use StandardizedQueries:  true
Raster Type Infos: 
Name: Raster Dataset
Description: Supports all ArcGIS Raster Datasets
Help: 
Has Raster Attribute Table: false
Edit Fields Info:  null
Ownership Based AccessControl For Rasters:  null
Child Resources:
  
Info
  Histograms
  Statistics
  Key Properties
  Legend
  Raster Function Infos
Supported Operations:
  
Export Image
  Query
  Identify
  Compute Histograms
  Compute Statistics Histograms
  Get Samples
  Compute Class Statistics
  Query GPS Info
  Find Images
  Image to Map
  Map to Image
  Measure from Image
  Image to Map Multiray
  Query Boundary
  Compute Pixel Location
  Compute Angles
  Validate
  Project