View In:
  ArcGIS JavaScript
  ArcGIS Online Map Viewer
  ArcGIS Earth
Service Description:  Imagery collected by the ND Department of Transportation on September 23, 2011, for the ND State Water Commission following flood conditions along the Missouri. The imagery extends from about 8 miles south of Bismarck to just north of the Garrison Dam. Pixel size is approximately 0.6-feet. Flow at Bismarck was 33,100 cfs at the time of the imagery collection.
 Flood/AerialImage_MissouriRiver_September_2011
Description:  Imagery collected by the ND Department of Transportation on September 23, 2011, for the ND State Water Commission following flood conditions along the Missouri. The imagery extends from about 8 miles south of Bismarck to just north of the Garrison Dam. Pixel size is approximately 0.6-feet. Flow at Bismarck was 33,100 cfs at the time of the imagery collection.
 false
Extent: 
XMin: 1721400.9526923604
YMin: -123778.20394684555
XMax: 1917468.352078364
YMax: 203786.46379804745
Spatial Reference: 2265
 (2265)
 LatestVCSWkid(0)
Initial Extent:
XMin: 1721400.9526923604
YMin: -123778.20394684555
XMax: 1917468.352078364
YMax: 203786.46379804745
Spatial Reference: 2265
 (2265)
 LatestVCSWkid(0)
Full Extent:
XMin: 1721400.9526923604
YMin: -123778.20394684555
XMax: 1917468.352078364
YMax: 203786.46379804745
Spatial Reference: 2265
 (2265)
 LatestVCSWkid(0)
Pixel Size X: 0.6298787559223704
Pixel Size Y:  0.6298787559223701
Band Count: 3
Pixel Type: U8
RasterFunction Infos:  {"rasterFunctionInfos": [{
 "name": "None",
 "description": "",
 "help": ""
}]}
Mensuration Capabilities: 
Inspection Capabilities: 
Has Histograms:  true
Has Colormap:  false
Has Multi Dimensions :  false
Rendering Rule: 
Min Scale:  0
Max Scale:  0
Resampling:  false
Copyright Text:  State Water Commission, Department of Transportation, ND GIS Hub
Service Data Type:  esriImageServiceDataTypeProcessed
Min Values:  0, 13, 6
Max Values:  221, 242, 232
Mean Values:  85.22074320576816, 112.13188089295619, 104.7775409040488
Standard Deviation Values:  27.838050901387422, 26.728678355132097, 24.58787183056188
Object ID Field:  OBJECTID
Fields: 
- 
OBJECTID
(
type: esriFieldTypeOID, alias: OBJECTID
)
- 
Shape
(
type: esriFieldTypeGeometry, alias: Shape
)
- 
Name
(
type: esriFieldTypeString, alias: Name, length: 50
)
- 
MinPS
(
type: esriFieldTypeDouble, alias: MinPS
)
- 
MaxPS
(
type: esriFieldTypeDouble, alias: MaxPS
)
- 
LowPS
(
type: esriFieldTypeDouble, alias: LowPS
)
- 
HighPS
(
type: esriFieldTypeDouble, alias: HighPS
)
- 
Category
(
type: esriFieldTypeInteger, alias: Category
)
- 
Tag
(
type: esriFieldTypeString, alias: Tag, length: 20
)
- 
GroupName
(
type: esriFieldTypeString, alias: GroupName, length: 50
)
- 
ProductName
(
type: esriFieldTypeString, alias: ProductName, length: 50
)
- 
CenterX
(
type: esriFieldTypeDouble, alias: CenterX
)
- 
CenterY
(
type: esriFieldTypeDouble, alias: CenterY
)
- 
ZOrder
(
type: esriFieldTypeInteger, alias: ZOrder
)
- 
SOrder
(
type: esriFieldTypeInteger, alias: SOrder
)
- 
StereoID
(
type: esriFieldTypeString, alias: StereoID, length: 50
)
- 
Shape_Length
(
type: esriFieldTypeDouble, alias: Shape_Length
)
- 
Shape_Area
(
type: esriFieldTypeDouble, alias: Shape_Area
)
Default Mosaic Method: Center
Allowed Mosaic Methods:  Center,NorthWest,LockRaster,ByAttribute,Nadir,Viewpoint,Seamline,None
SortField:  
SortValue:  null
Mosaic Operator:  First
Default Compression Quality:  75
Default Resampling Method:  Bilinear
Max Record Count:  1000
Max Image Height:  4100
Max Image Width:  15000
Max Download Image Count:  20
Max Mosaic Image Count:  20
Allow Raster Function:  true
Allow Copy:  true
Allow Analysis:  true
Allow Compute TiePoints:  false
Supports Statistics:  true
Supports Advanced Queries:  true
Use StandardizedQueries:  true
Raster Type Infos: 
Name: Raster Dataset
Description: Supports all ArcGIS Raster Datasets
Help: 
Has Raster Attribute Table: false
Edit Fields Info:  null
Ownership Based AccessControl For Rasters:  null
Child Resources:
  
Info
  Histograms
  Statistics
  Key Properties
  Legend
  Raster Function Infos
Supported Operations:
  
Export Image
  Query
  Identify
  Compute Histograms
  Compute Statistics Histograms
  Get Samples
  Compute Class Statistics
  Query GPS Info
  Find Images
  Image to Map
  Map to Image
  Measure from Image
  Image to Map Multiray
  Query Boundary
  Compute Pixel Location
  Compute Angles
  Validate
  Project