View In:
  ArcGIS JavaScript
  ArcGIS Online Map Viewer
  ArcGIS Earth
Service Description:  This 1-meter pixel resolution imagery was collected June 23, 2011 by the Civil Air Patrol with their ARCHER imagery system. 
 Flood/AerialImage_MouseRiver_June23_2011
Description:  This 1-meter pixel resolution imagery was collected June 23, 2011 by the Civil Air Patrol with their ARCHER imagery system. 
 false
Extent: 
XMin: 313092.5
YMin: 5313831.5
XMax: 371711.5
YMax: 5362483.5
Spatial Reference: 32614
 (32614)
 LatestVCSWkid(0)
Initial Extent:
XMin: 313092.5
YMin: 5313831.5
XMax: 371711.5
YMax: 5362483.5
Spatial Reference: 32614
 (32614)
 LatestVCSWkid(0)
Full Extent:
XMin: 313092.5
YMin: 5313831.5
XMax: 371711.5
YMax: 5362483.5
Spatial Reference: 32614
 (32614)
 LatestVCSWkid(0)
Pixel Size X: 1.0
Pixel Size Y:  1.0
Band Count: 3
Pixel Type: U8
RasterFunction Infos:  {"rasterFunctionInfos": [{
 "name": "None",
 "description": "",
 "help": ""
}]}
Mensuration Capabilities: 
Inspection Capabilities: 
Has Histograms:  true
Has Colormap:  false
Has Multi Dimensions :  false
Rendering Rule: 
Min Scale:  0
Max Scale:  0
Resampling:  false
Copyright Text:  North Dakota Department of Emergency Services and the North Dakota Civil Air Patrol, ND GIS Hub
Service Data Type:  esriImageServiceDataTypeProcessed
Min Values:  0, 0, 0
Max Values:  255, 255, 255
Mean Values:  126.76755238712465, 126.76817887232663, 126.60233311730396
Standard Deviation Values:  36.5488314591257, 37.37965598410112, 35.33765849592078
Object ID Field:  OBJECTID
Fields: 
- 
OBJECTID
(
type: esriFieldTypeOID, alias: OBJECTID
)
- 
Shape
(
type: esriFieldTypeGeometry, alias: Shape
)
- 
Name
(
type: esriFieldTypeString, alias: Name, length: 50
)
- 
MinPS
(
type: esriFieldTypeDouble, alias: MinPS
)
- 
MaxPS
(
type: esriFieldTypeDouble, alias: MaxPS
)
- 
LowPS
(
type: esriFieldTypeDouble, alias: LowPS
)
- 
HighPS
(
type: esriFieldTypeDouble, alias: HighPS
)
- 
Category
(
type: esriFieldTypeInteger, alias: Category
)
- 
Tag
(
type: esriFieldTypeString, alias: Tag, length: 20
)
- 
GroupName
(
type: esriFieldTypeString, alias: GroupName, length: 50
)
- 
ProductName
(
type: esriFieldTypeString, alias: ProductName, length: 50
)
- 
CenterX
(
type: esriFieldTypeDouble, alias: CenterX
)
- 
CenterY
(
type: esriFieldTypeDouble, alias: CenterY
)
- 
ZOrder
(
type: esriFieldTypeInteger, alias: ZOrder
)
- 
SOrder
(
type: esriFieldTypeInteger, alias: SOrder
)
- 
StereoID
(
type: esriFieldTypeString, alias: StereoID, length: 50
)
- 
Shape_Length
(
type: esriFieldTypeDouble, alias: Shape_Length
)
- 
Shape_Area
(
type: esriFieldTypeDouble, alias: Shape_Area
)
Default Mosaic Method: Center
Allowed Mosaic Methods:  Center,NorthWest,LockRaster,ByAttribute,Nadir,Viewpoint,Seamline,None
SortField:  
SortValue:  null
Mosaic Operator:  First
Default Compression Quality:  75
Default Resampling Method:  Bilinear
Max Record Count:  1000
Max Image Height:  4100
Max Image Width:  15000
Max Download Image Count:  20
Max Mosaic Image Count:  20
Allow Raster Function:  true
Allow Copy:  true
Allow Analysis:  true
Allow Compute TiePoints:  false
Supports Statistics:  true
Supports Advanced Queries:  true
Use StandardizedQueries:  true
Raster Type Infos: 
Name: Raster Dataset
Description: Supports all ArcGIS Raster Datasets
Help: 
Has Raster Attribute Table: false
Edit Fields Info:  null
Ownership Based AccessControl For Rasters:  null
Child Resources:
  
Info
  Histograms
  Statistics
  Key Properties
  Legend
  Raster Function Infos
Supported Operations:
  
Export Image
  Query
  Identify
  Compute Histograms
  Compute Statistics Histograms
  Get Samples
  Compute Class Statistics
  Query GPS Info
  Find Images
  Image to Map
  Map to Image
  Measure from Image
  Image to Map Multiray
  Query Boundary
  Compute Pixel Location
  Compute Angles
  Validate
  Project