View In:
  ArcGIS JavaScript
  ArcGIS Online Map Viewer
  ArcGIS Earth
Service Description:  Mosaic of Digital Orthophoto Quarter Quadrangles for the Bismarck and Mandan area. The projection for the mosaic is North Dakota State Plane South, NAD83, FIPS 3302 South. The coverage area is the city limits and the surrounding area. The photos used in this mosaic were obtained by the North Dakota Game and Fish Department from the cities of Bismarck and Mandan. 
The date of the photography is April 2001 and was completed by Horizons, Inc. of Rapid City, SD. The flight height was 3600 feet. The photo scale is 1"=600' with a pixel resolution of 0.5 feet. The original format was Black and White TIFF. 
 Imagery/AerialImage_BisMan_2001
Description:  Mosaic of Digital Orthophoto Quarter Quadrangles for the Bismarck and Mandan area. The projection for the mosaic is North Dakota State Plane South, NAD83, FIPS 3302 South. The coverage area is the city limits and the surrounding area. The photos used in this mosaic were obtained by the North Dakota Game and Fish Department from the cities of Bismarck and Mandan. 
The date of the photography is April 2001 and was completed by Horizons, Inc. of Rapid City, SD. The flight height was 3600 feet. The photo scale is 1"=600' with a pixel resolution of 0.5 feet. The original format was Black and White TIFF. 
 false
Extent: 
XMin: 1846321.692636001
YMin: 383970.7679400003
XMax: 1932255.8645039995
YMax: 448998.8979959992
Spatial Reference: 102721
 (102721)
 LatestVCSWkid(0)
Initial Extent:
XMin: 1846321.692636001
YMin: 383970.7679400003
XMax: 1932255.8645039995
YMax: 448998.8979959992
Spatial Reference: 102721
 (102721)
 LatestVCSWkid(0)
Full Extent:
XMin: 1846321.692636001
YMin: 383970.7679400003
XMax: 1932255.8645039995
YMax: 448998.8979959992
Spatial Reference: 102721
 (102721)
 LatestVCSWkid(0)
Pixel Size X: 0.5000009999999916
Pixel Size Y:  0.5000009999999917
Band Count: 3
Pixel Type: U8
RasterFunction Infos:  {"rasterFunctionInfos": [{
 "name": "None",
 "description": "A No-Op Function.",
 "help": ""
}]}
Mensuration Capabilities: None
Inspection Capabilities: 
Has Histograms:  false
Has Colormap:  false
Has Multi Dimensions :  false
Rendering Rule: 
Min Scale:  0
Max Scale:  0
Resampling:  false
Copyright Text:  North Dakota Game and Fish Department, Cities of Mandan and Bismarck
Service Data Type:  esriImageServiceDataTypeRGB
Min Values:  N/A
Max Values:  N/A
Mean Values:  N/A
Standard Deviation Values:  N/A
Object ID Field:  OBJECTID
Fields: 
- 
OBJECTID
(
type: esriFieldTypeOID, alias: OBJECTID
)
- 
Shape
(
type: esriFieldTypeGeometry, alias: Shape
)
- 
Name
(
type: esriFieldTypeString, alias: Name, length: 200
)
- 
MinPS
(
type: esriFieldTypeDouble, alias: MinPS
)
- 
MaxPS
(
type: esriFieldTypeDouble, alias: MaxPS
)
- 
LowPS
(
type: esriFieldTypeDouble, alias: LowPS
)
- 
HighPS
(
type: esriFieldTypeDouble, alias: HighPS
)
- 
Category
(
type: esriFieldTypeInteger, alias: Category
, Coded Values: 
[0: Unknown]
, [1: Primary]
, [2: Overview]
, ...6 more...
)
- 
Tag
(
type: esriFieldTypeString, alias: Tag, length: 100
)
- 
GroupName
(
type: esriFieldTypeString, alias: GroupName, length: 100
)
- 
ProductName
(
type: esriFieldTypeString, alias: ProductName, length: 100
)
- 
CenterX
(
type: esriFieldTypeDouble, alias: CenterX
)
- 
CenterY
(
type: esriFieldTypeDouble, alias: CenterY
)
- 
ZOrder
(
type: esriFieldTypeInteger, alias: ZOrder
)
- 
Shape_Length
(
type: esriFieldTypeDouble, alias: Shape_Length
)
- 
Shape_Area
(
type: esriFieldTypeDouble, alias: Shape_Area
)
Default Mosaic Method: Northwest
Allowed Mosaic Methods:  NorthWest,Center,LockRaster,ByAttribute,Nadir,Viewpoint,Seamline,None
SortField:  
SortValue:  null
Mosaic Operator:  First
Default Compression Quality:  75
Default Resampling Method:  Bilinear
Max Record Count:  1000
Max Image Height:  4100
Max Image Width:  15000
Max Download Image Count:  20
Max Mosaic Image Count:  20
Allow Raster Function:  true
Allow Copy:  true
Allow Analysis:  true
Allow Compute TiePoints:  false
Supports Statistics:  true
Supports Advanced Queries:  true
Use StandardizedQueries:  true
Raster Type Infos: 
Name: Raster Dataset
Description: Supports all ArcGIS Raster Datasets
Help: 
Has Raster Attribute Table: false
Edit Fields Info:  null
Ownership Based AccessControl For Rasters:  null
Child Resources:
  
Info
  Statistics
  Key Properties
  Legend
  Raster Function Infos
Supported Operations:
  
Export Image
  Query
  Identify
  Compute Histograms
  Compute Statistics Histograms
  Get Samples
  Compute Class Statistics
  Query GPS Info
  Find Images
  Image to Map
  Map to Image
  Measure from Image
  Image to Map Multiray
  Query Boundary
  Compute Pixel Location
  Compute Angles
  Validate
  Project