View In:
  ArcGIS JavaScript
  ArcGIS Online Map Viewer
  ArcGIS Earth
Service Description:  Horizons, Inc. was contracted by the Bismarck-Mandan Metropolitan Planning Organization to provide accurate 6" pixel resolution color digital orthophotography, update 2 1/2 sections of existing 2' contour data and collect new DTM data for the generation on 2' contours on 39 new sections. The project encompassed an area of approximately 197 square miles. A Leica ADS40 Digital Camera system including an inertial measuring unit (IMU) and a dual frequency airborne GPS receiver was used for the digital image acquisition. Imagery acquisition was performed on April 17th and April 22nd of 2005 at 4800' AMT. Ground control survey was conducted by Kadrmas, Lee and Jackson of Bismarck, North Dakota. A survey report summarizing methodology and results was submitted in hardcopy and a digital file in PDF format. GPS data was collected on two new monuments and 11 existing MPO monuments. The resulting coordinates for each new station are referenced to NAD 83(96) datum in North Dakota State Coordinate System, South Zone (3302). The horizontal units were international feet. The GPS Orthometric Heights were determined by calculating the Ellipsoid-Geoid separation using Geoid 99 model and are based on NGVD 1929 international feet. The existing DTM data which Horizons had collected in 2001 was updated to support 2' contours where requested. New mapping was performed on 40 sections and an additional 30 sections of DTM collection was done for ortho rectification only. Contour were generated from the updated and new DTM data and delivered in ARC Shape file format in one contiguous file. The DTM data including breaklines, random points and spot elevation points were also delivered in ARC Shape file format. Color digital orthophotos in TIFF format with .TWF files were produced with a resolution of 6" utilizing the ADS40 imagery and the updated DTM. 
 Imagery/AerialImage_BisMan_2005
Description:  Horizons, Inc. was contracted by the Bismarck-Mandan Metropolitan Planning Organization to provide accurate 6" pixel resolution color digital orthophotography, update 2 1/2 sections of existing 2' contour data and collect new DTM data for the generation on 2' contours on 39 new sections. The project encompassed an area of approximately 197 square miles. A Leica ADS40 Digital Camera system including an inertial measuring unit (IMU) and a dual frequency airborne GPS receiver was used for the digital image acquisition. Imagery acquisition was performed on April 17th and April 22nd of 2005 at 4800' AMT. Ground control survey was conducted by Kadrmas, Lee and Jackson of Bismarck, North Dakota. A survey report summarizing methodology and results was submitted in hardcopy and a digital file in PDF format. GPS data was collected on two new monuments and 11 existing MPO monuments. The resulting coordinates for each new station are referenced to NAD 83(96) datum in North Dakota State Coordinate System, South Zone (3302). The horizontal units were international feet. The GPS Orthometric Heights were determined by calculating the Ellipsoid-Geoid separation using Geoid 99 model and are based on NGVD 1929 international feet. The existing DTM data which Horizons had collected in 2001 was updated to support 2' contours where requested. New mapping was performed on 40 sections and an additional 30 sections of DTM collection was done for ortho rectification only. Contour were generated from the updated and new DTM data and delivered in ARC Shape file format in one contiguous file. The DTM data including breaklines, random points and spot elevation points were also delivered in ARC Shape file format. Color digital orthophotos in TIFF format with .TWF files were produced with a resolution of 6" utilizing the ADS40 imagery and the updated DTM. 
 false
Extent: 
XMin: 1835729.0
YMin: 373846.0
XMax: 1937547.0
YMax: 459399.0
Spatial Reference: 2266
 (2266)
 LatestVCSWkid(0)
Initial Extent:
XMin: 1835729.0
YMin: 373846.0
XMax: 1937547.0
YMax: 459399.0
Spatial Reference: 2266
 (2266)
 LatestVCSWkid(0)
Full Extent:
XMin: 1835729.0
YMin: 373846.0
XMax: 1937547.0
YMax: 459399.0
Spatial Reference: 2266
 (2266)
 LatestVCSWkid(0)
Pixel Size X: 0.5
Pixel Size Y:  0.5
Band Count: 3
Pixel Type: U8
RasterFunction Infos:  {"rasterFunctionInfos": [{
 "name": "None",
 "description": "A No-Op Function.",
 "help": ""
}]}
Mensuration Capabilities: None
Inspection Capabilities: 
Has Histograms:  false
Has Colormap:  false
Has Multi Dimensions :  false
Rendering Rule: 
Min Scale:  0
Max Scale:  0
Resampling:  false
Copyright Text:  Bismarck-Mandan MPO
Service Data Type:  esriImageServiceDataTypeProcessed
Min Values:  0, 0, 0
Max Values:  255, 255, 255
Mean Values:  0, 0, 0
Standard Deviation Values:  -1, -1, -1
Object ID Field:  OBJECTID
Fields: 
- 
OBJECTID
(
type: esriFieldTypeOID, alias: OBJECTID
)
- 
Shape
(
type: esriFieldTypeGeometry, alias: Shape
)
- 
Name
(
type: esriFieldTypeString, alias: Name, length: 200
)
- 
MinPS
(
type: esriFieldTypeDouble, alias: MinPS
)
- 
MaxPS
(
type: esriFieldTypeDouble, alias: MaxPS
)
- 
LowPS
(
type: esriFieldTypeDouble, alias: LowPS
)
- 
HighPS
(
type: esriFieldTypeDouble, alias: HighPS
)
- 
Category
(
type: esriFieldTypeInteger, alias: Category
, Coded Values: 
[0: Unknown]
, [1: Primary]
, [2: Overview]
, ...6 more...
)
- 
Tag
(
type: esriFieldTypeString, alias: Tag, length: 100
)
- 
GroupName
(
type: esriFieldTypeString, alias: GroupName, length: 100
)
- 
ProductName
(
type: esriFieldTypeString, alias: ProductName, length: 100
)
- 
CenterX
(
type: esriFieldTypeDouble, alias: CenterX
)
- 
CenterY
(
type: esriFieldTypeDouble, alias: CenterY
)
- 
ZOrder
(
type: esriFieldTypeInteger, alias: ZOrder
)
- 
Shape_Length
(
type: esriFieldTypeDouble, alias: Shape_Length
)
- 
Shape_Area
(
type: esriFieldTypeDouble, alias: Shape_Area
)
Default Mosaic Method: Northwest
Allowed Mosaic Methods:  NorthWest,Center,LockRaster,ByAttribute,Nadir,Viewpoint,Seamline,None
SortField:  
SortValue:  null
Mosaic Operator:  First
Default Compression Quality:  75
Default Resampling Method:  Bilinear
Max Record Count:  1000
Max Image Height:  4100
Max Image Width:  15000
Max Download Image Count:  20
Max Mosaic Image Count:  20
Allow Raster Function:  true
Allow Copy:  true
Allow Analysis:  true
Allow Compute TiePoints:  false
Supports Statistics:  true
Supports Advanced Queries:  true
Use StandardizedQueries:  true
Raster Type Infos: 
Name: Raster Dataset
Description: Supports all ArcGIS Raster Datasets
Help: 
Has Raster Attribute Table: false
Edit Fields Info:  null
Ownership Based AccessControl For Rasters:  null
Child Resources:
  
Info
  Statistics
  Key Properties
  Legend
  Raster Function Infos
Supported Operations:
  
Export Image
  Query
  Identify
  Compute Histograms
  Compute Statistics Histograms
  Get Samples
  Compute Class Statistics
  Query GPS Info
  Find Images
  Image to Map
  Map to Image
  Measure from Image
  Image to Map Multiray
  Query Boundary
  Compute Pixel Location
  Compute Angles
  Validate
  Project