View In:
  ArcGIS JavaScript
  ArcGIS Online Map Viewer
  ArcGIS Earth
Service Description:  Ayres Associates provided the Bismarck-Mandan Metropolitan Planning Organization with digital, 4-band orthoimagery services in 2020. The aerial imagery was collected on April 16th, 17th and 19th, 2020 using a Microsoft Vexcel UltraCam Eagle M2 sensor mounted in a fixed-wing aircraft equipped with Inertial Measurment Unit (IMU) and Airborne GPS. Aerial imagery was collected to support 3-inch ground sample distance (GSD) orthoimagery to meet the National Mapping Accuracy Standard (NMAS) for 1"=50' scale mapping. The orthoimagery meets a horizontal accuracy of 0.7 feet root mean square error (RMSE), which equates to 1.2 feet at 95% confidence level. Resultant orthoimagery was rectified to a DEM surface created from new LiDAR data acquired in 2020. Orthoimagery was delivered in PLSS quarter-section GeoTIFF and PLSS section generation 4 MrSID tiles along with a project-wide MrSID mosaic and individual MrSID mosaics of the East of Missouri River, West of Missouri River. Additional Information: The Bismarck-Mandan MPO is a certified planning entity in the State of North Dakota and is comprised of the City of Bismarck, City of Mandan, City of Lincoln, and portions of Burleigh and Morton Counties. The purpose of the MPO is to provide a forum for public officials, citizens, and other interested groups to establish policies and plans for effectively addressing various metropolitan transportation issues. The MPO has a planning process that supports metropolitan community development and social goals. These plans and programs shall lead to the development of an integrated, inter-modal metropolitan transportation system that facilitates the efficient, economic movement of people and goods.
 Imagery/AerialImage_BisMan_2020
Description:  Ayres Associates provided the Bismarck-Mandan Metropolitan Planning Organization with digital, 4-band orthoimagery services in 2020. The aerial imagery was collected on April 16th, 17th and 19th, 2020 using a Microsoft Vexcel UltraCam Eagle M2 sensor mounted in a fixed-wing aircraft equipped with Inertial Measurment Unit (IMU) and Airborne GPS. Aerial imagery was collected to support 3-inch ground sample distance (GSD) orthoimagery to meet the National Mapping Accuracy Standard (NMAS) for 1"=50' scale mapping. The orthoimagery meets a horizontal accuracy of 0.7 feet root mean square error (RMSE), which equates to 1.2 feet at 95% confidence level. Resultant orthoimagery was rectified to a DEM surface created from new LiDAR data acquired in 2020. Orthoimagery was delivered in PLSS quarter-section GeoTIFF and PLSS section generation 4 MrSID tiles along with a project-wide MrSID mosaic and individual MrSID mosaics of the East of Missouri River, West of Missouri River. Additional Information: The Bismarck-Mandan MPO is a certified planning entity in the State of North Dakota and is comprised of the City of Bismarck, City of Mandan, City of Lincoln, and portions of Burleigh and Morton Counties. The purpose of the MPO is to provide a forum for public officials, citizens, and other interested groups to establish policies and plans for effectively addressing various metropolitan transportation issues. The MPO has a planning process that supports metropolitan community development and social goals. These plans and programs shall lead to the development of an integrated, inter-modal metropolitan transportation system that facilitates the efficient, economic movement of people and goods.
 false
Extent: 
XMin: 1820050.7820000052
YMin: 360147.254000023
XMax: 1948046.0320000052
YMax: 480556.004000023
Spatial Reference: 0
 (0)
 LatestVCSWkid(0)
Initial Extent:
XMin: 1820050.7820000052
YMin: 360147.254000023
XMax: 1948046.0320000052
YMax: 480556.004000023
Spatial Reference: 0
 (0)
 LatestVCSWkid(0)
Full Extent:
XMin: 1820050.7820000052
YMin: 360147.254000023
XMax: 1948046.0320000052
YMax: 480556.004000023
Spatial Reference: 0
 (0)
 LatestVCSWkid(0)
Pixel Size X: 0.25
Pixel Size Y:  0.25
Band Count: 4
Pixel Type: U8
RasterFunction Infos:  {"rasterFunctionInfos": [{
 "name": "None",
 "description": "A No-Op Function.",
 "help": ""
}]}
Mensuration Capabilities: None
Inspection Capabilities: 
Has Histograms:  true
Has Colormap:  false
Has Multi Dimensions :  false
Rendering Rule: 
Min Scale:  0
Max Scale:  0
Resampling:  false
Copyright Text:  City of Bismarck, City of Mandan, City of Lincoln
Service Data Type:  esriImageServiceDataTypeProcessed
Min Values:  1, 6, 14, 1
Max Values:  254, 255, 255, 254
Mean Values:  127.05866579836945, 123.15762815401357, 113.57816007024547, 152.1005277973794
Standard Deviation Values:  31.10618270406915, 28.741920064853183, 26.567230356388176, 34.81840754356189
Object ID Field:  OBJECTID
Fields: 
- 
OBJECTID
(
type: esriFieldTypeOID, alias: OBJECTID
)
- 
Shape
(
type: esriFieldTypeGeometry, alias: Shape
)
- 
Name
(
type: esriFieldTypeString, alias: Name, length: 200
)
- 
MinPS
(
type: esriFieldTypeDouble, alias: MinPS
)
- 
MaxPS
(
type: esriFieldTypeDouble, alias: MaxPS
)
- 
LowPS
(
type: esriFieldTypeDouble, alias: LowPS
)
- 
HighPS
(
type: esriFieldTypeDouble, alias: HighPS
)
- 
Category
(
type: esriFieldTypeInteger, alias: Category
, Coded Values: 
[0: Unknown]
, [1: Primary]
, [2: Overview]
, ...6 more...
)
- 
Tag
(
type: esriFieldTypeString, alias: Tag, length: 100
)
- 
GroupName
(
type: esriFieldTypeString, alias: GroupName, length: 100
)
- 
ProductName
(
type: esriFieldTypeString, alias: ProductName, length: 100
)
- 
CenterX
(
type: esriFieldTypeDouble, alias: CenterX
)
- 
CenterY
(
type: esriFieldTypeDouble, alias: CenterY
)
- 
ZOrder
(
type: esriFieldTypeInteger, alias: ZOrder
)
- 
Shape_Length
(
type: esriFieldTypeDouble, alias: Shape_Length
)
- 
Shape_Area
(
type: esriFieldTypeDouble, alias: Shape_Area
)
Default Mosaic Method: Northwest
Allowed Mosaic Methods:  NorthWest,Center,LockRaster,ByAttribute,Nadir,Viewpoint,Seamline,None
SortField:  
SortValue:  null
Mosaic Operator:  First
Default Compression Quality:  75
Default Resampling Method:  Bilinear
Max Record Count:  1000
Max Image Height:  4100
Max Image Width:  15000
Max Download Image Count:  20
Max Mosaic Image Count:  45
Allow Raster Function:  true
Allow Copy:  true
Allow Analysis:  true
Allow Compute TiePoints:  false
Supports Statistics:  true
Supports Advanced Queries:  true
Use StandardizedQueries:  true
Raster Type Infos: 
Name: Raster Dataset
Description: Supports all ArcGIS Raster Datasets
Help: 
Has Raster Attribute Table: false
Edit Fields Info:  null
Ownership Based AccessControl For Rasters:  null
Child Resources:
  
Info
  Histograms
  Statistics
  Key Properties
  Legend
  Raster Function Infos
Supported Operations:
  
Export Image
  Query
  Identify
  Compute Histograms
  Compute Statistics Histograms
  Get Samples
  Compute Class Statistics
  Query GPS Info
  Find Images
  Image to Map
  Map to Image
  Measure from Image
  Image to Map Multiray
  Query Boundary
  Compute Pixel Location
  Compute Angles
  Validate
  Project