View In:
  ArcGIS JavaScript
  ArcGIS Online Map Viewer
  ArcGIS Earth
Service Description:  Merrick & Company produced Digital Color Orthophotography of both 0.5 foot and 1 foot pixel resolution for the 2005 Fargo Digital Mapping project. This dataset consists of a color ortho imagery of Fargo, ND, flown in 2005. Pixel resolution is 6 inch. Credits: City of Fargo
Name:  Imagery/AerialImage_Fargo_2005
Description:  Merrick & Company produced Digital Color Orthophotography of both 0.5 foot and 1 foot pixel resolution for the 2005 Fargo Digital Mapping project. This dataset consists of a color ortho imagery of Fargo, ND, flown in 2005. Pixel resolution is 6 inch. Credits: City of Fargo
Single Fused Map Cache:  false
Extent: 
XMin: 2852703.999858469
YMin: 382161.0000667274
XMax: 2934204.499858469
YMax: 509721.5000667274
Spatial Reference: 102721
 (102721)
 LatestVCSWkid(0)
Initial Extent:
XMin: 2852703.999858469
YMin: 382161.0000667274
XMax: 2934204.499858469
YMax: 509721.5000667274
Spatial Reference: 102721
 (102721)
 LatestVCSWkid(0)
Full Extent:
XMin: 2852703.999858469
YMin: 382161.0000667274
XMax: 2934204.499858469
YMax: 509721.5000667274
Spatial Reference: 102721
 (102721)
 LatestVCSWkid(0)
Pixel Size X: 0.5
Pixel Size Y:  0.5
Band Count: 3
Pixel Type: U8
RasterFunction Infos:  {"rasterFunctionInfos": [{
 "name": "None",
 "description": "A No-Op Function.",
 "help": ""
}]}
Mensuration Capabilities: None
Inspection Capabilities: 
Has Histograms:  true
Has Colormap:  false
Has Multi Dimensions :  false
Rendering Rule: 
Min Scale:  0
Max Scale:  0
Copyright Text:  
Service Data Type:  esriImageServiceDataTypeProcessed
Min Values:  0, 0, 0
Max Values:  255, 255, 255
Mean Values:  108.08772073477756, 96.53509354674152, 68.58229641417066
Standard Deviation Values:  59.873886897683015, 50.99781804614008, 40.2353507106879
Object ID Field:  OBJECTID
Fields: 
- 
OBJECTID
(
type: esriFieldTypeOID, alias: OBJECTID
)
- 
Shape
(
type: esriFieldTypeGeometry, alias: Shape
)
- 
Name
(
type: esriFieldTypeString, alias: Name, length: 200
)
- 
MinPS
(
type: esriFieldTypeDouble, alias: MinPS
)
- 
MaxPS
(
type: esriFieldTypeDouble, alias: MaxPS
)
- 
LowPS
(
type: esriFieldTypeDouble, alias: LowPS
)
- 
HighPS
(
type: esriFieldTypeDouble, alias: HighPS
)
- 
Category
(
type: esriFieldTypeInteger, alias: Category
, Coded Values: 
[0: Unknown]
, [1: Primary]
, [2: Overview]
, ...6 more...
)
- 
Tag
(
type: esriFieldTypeString, alias: Tag, length: 100
)
- 
GroupName
(
type: esriFieldTypeString, alias: GroupName, length: 100
)
- 
ProductName
(
type: esriFieldTypeString, alias: ProductName, length: 100
)
- 
CenterX
(
type: esriFieldTypeDouble, alias: CenterX
)
- 
CenterY
(
type: esriFieldTypeDouble, alias: CenterY
)
- 
ZOrder
(
type: esriFieldTypeInteger, alias: ZOrder
)
- 
Shape_Length
(
type: esriFieldTypeDouble, alias: Shape_Length
)
- 
Shape_Area
(
type: esriFieldTypeDouble, alias: Shape_Area
)
Default Mosaic Method: Northwest
Allowed Mosaic Methods:  NorthWest,Center,Nadir,Viewpoint,LockRaster,ByAttribute,Seamline,None
SortField:  
SortValue:  null
Mosaic Operator:  First
Default Compression Quality:  75
Default Resampling Method:  Bilinear
Max Record Count:  2000
Max Image Height:  4100
Max Image Width:  15000
Max Download Image Count:  50
Max Mosaic Image Count:  50
Allow Raster Function:  true
Allow Copy:  true
Allow Analysis:  true
Allow Compute TiePoints:  false
Supports Statistics:  true
Supports Advanced Queries:  true
Use StandardizedQueries:  true
Raster Type Infos: 
Name: Raster Dataset
Description: Supports all ArcGIS Raster Datasets
Help: 
Has Raster Attribute Table: false
Edit Fields Info:  null
Ownership Based AccessControl For Rasters:  null
Child Resources:
  
Info
  Histograms
  Statistics
  Key Properties
  Legend
  Raster Function Infos
Supported Operations:
  
Export Image
  Query
  Identify
  Compute Histograms
  Compute Statistics Histograms
  Get Samples
  Compute Class Statistics
  Query GPS Info
  Find Images
  Image to Map
  Map to Image
  Measure from Image
  Image to Map Multiray
  Query Boundary
  Compute Pixel Location
  Compute Angles
  Validate
  Project