View In:
  ArcGIS JavaScript
  ArcGIS Online Map Viewer
  ArcGIS Earth
Service Description:  Color aerial photography was acquired April 25, 2012 in the Grand Forks, ND and East Grand Forks, MN area. This is 0.5-foot pixel resolution.Horizontal accuracy meets National Map Accuracy Standards for 1:1200 and 1:600 scale mapping.
 Imagery/AerialImage_GrandForks_2012
Description:  Color aerial photography was acquired April 25, 2012 in the Grand Forks, ND and East Grand Forks, MN area. This is 0.5-foot pixel resolution.Horizontal accuracy meets National Map Accuracy Standards for 1:1200 and 1:600 scale mapping.
 false
Extent: 
XMin: 2774160.0
YMin: 316280.0
XMax: 2844230.0
YMax: 388470.0
Spatial Reference: 102720
 (102720)
 LatestVCSWkid(0)
Initial Extent:
XMin: 2774160.0
YMin: 316280.0
XMax: 2844230.0
YMax: 388470.0
Spatial Reference: 102720
 (102720)
 LatestVCSWkid(0)
Full Extent:
XMin: 2774160.0
YMin: 316280.0
XMax: 2844230.0
YMax: 388470.0
Spatial Reference: 102720
 (102720)
 LatestVCSWkid(0)
Pixel Size X: 0.5
Pixel Size Y:  0.5
Band Count: 3
Pixel Type: U8
RasterFunction Infos:  {"rasterFunctionInfos": [{
 "name": "None",
 "description": "",
 "help": ""
}]}
Mensuration Capabilities: 
Inspection Capabilities: 
Has Histograms:  true
Has Colormap:  false
Has Multi Dimensions :  false
Rendering Rule: 
Min Scale:  0
Max Scale:  0
Copyright Text:  Grand Forks-East Grand Forks MPO, City of Grand Forks, ND GIS Hub
Service Data Type:  esriImageServiceDataTypeProcessed
Min Values:  0, 0, 2
Max Values:  255, 255, 255
Mean Values:  109.24190012470986, 110.62438942890047, 109.49798375788387
Standard Deviation Values:  30.073154089292633, 28.78004776702239, 26.102822451259
Object ID Field:  OBJECTID
Fields: 
- 
OBJECTID
(
type: esriFieldTypeOID, alias: OBJECTID
)
- 
Shape
(
type: esriFieldTypeGeometry, alias: Shape
)
- 
Name
(
type: esriFieldTypeString, alias: Name, length: 50
)
- 
MinPS
(
type: esriFieldTypeDouble, alias: MinPS
)
- 
MaxPS
(
type: esriFieldTypeDouble, alias: MaxPS
)
- 
LowPS
(
type: esriFieldTypeDouble, alias: LowPS
)
- 
HighPS
(
type: esriFieldTypeDouble, alias: HighPS
)
- 
Category
(
type: esriFieldTypeInteger, alias: Category
, Coded Values: 
[0: Unknown]
, [1: Primary]
, [2: Overview]
, ...5 more...
)
- 
Tag
(
type: esriFieldTypeString, alias: Tag, length: 20
)
- 
GroupName
(
type: esriFieldTypeString, alias: GroupName, length: 50
)
- 
ProductName
(
type: esriFieldTypeString, alias: ProductName, length: 50
)
- 
CenterX
(
type: esriFieldTypeDouble, alias: CenterX
)
- 
CenterY
(
type: esriFieldTypeDouble, alias: CenterY
)
- 
ZOrder
(
type: esriFieldTypeInteger, alias: ZOrder
)
- 
SOrder
(
type: esriFieldTypeInteger, alias: SOrder
)
- 
StereoID
(
type: esriFieldTypeString, alias: StereoID, length: 50
)
- 
Shape_Length
(
type: esriFieldTypeDouble, alias: Shape_Length
)
- 
Shape_Area
(
type: esriFieldTypeDouble, alias: Shape_Area
)
Default Mosaic Method: Center
Allowed Mosaic Methods:  Center,NorthWest,LockRaster,ByAttribute,Nadir,Viewpoint,Seamline,None
SortField:  
SortValue:  null
Mosaic Operator:  First
Default Compression Quality:  75
Default Resampling Method:  Bilinear
Max Record Count:  1000
Max Image Height:  4100
Max Image Width:  15000
Max Download Image Count:  20
Max Mosaic Image Count:  20
Allow Raster Function:  true
Allow Copy:  true
Allow Analysis:  true
Allow Compute TiePoints:  false
Supports Statistics:  true
Supports Advanced Queries:  true
Use StandardizedQueries:  true
Raster Type Infos: 
Name: Raster Dataset
Description: Supports all ArcGIS Raster Datasets
Help: 
Has Raster Attribute Table: false
Edit Fields Info:  null
Ownership Based AccessControl For Rasters:  null
Child Resources:
  
Info
  Histograms
  Statistics
  Key Properties
  Legend
  Raster Function Infos
Supported Operations:
  
Export Image
  Query
  Identify
  Compute Histograms
  Compute Statistics Histograms
  Get Samples
  Compute Class Statistics
  Query GPS Info
  Find Images
  Image to Map
  Map to Image
  Measure from Image
  Image to Map Multiray
  Query Boundary
  Compute Pixel Location
  Compute Angles
  Validate
  Project