View In:
ArcGIS JavaScript
ArcGIS Online Map Viewer
ArcGIS Earth
Service Description: This imagery was collected from September 29th through October 16th 2015 and covers a corridor of the Missouri River system from the northern border of Emmons County (northern Lake Oahe) north to Garrison Dam. The ground sample distance of the imagery is .91 feet. Credits: North Dakota Game and Fish Department, North Dakota Department of Transportation, ND GIS Hub
Name: Imagery/AerialImage_MissouriRiver_2015
Description: This imagery was collected from September 29th through October 16th 2015 and covers a corridor of the Missouri River system from the northern border of Emmons County (northern Lake Oahe) north to Garrison Dam. The ground sample distance of the imagery is .91 feet. Credits: North Dakota Game and Fish Department, North Dakota Department of Transportation, ND GIS Hub
Single Fused Map Cache: false
Extent:
XMin: 1727995.0004833837
YMin: 342701.25812128565
XMax: 1951055.9122181144
YMax: 679763.9066028842
Spatial Reference: 2266
(2266)
LatestVCSWkid(0)
Initial Extent:
XMin: 1727995.0004833837
YMin: 342701.25812128565
XMax: 1951055.9122181144
YMax: 679763.9066028842
Spatial Reference: 2266
(2266)
LatestVCSWkid(0)
Full Extent:
XMin: 1727995.0004833837
YMin: 342701.25812128565
XMax: 1951055.9122181144
YMax: 679763.9066028842
Spatial Reference: 2266
(2266)
LatestVCSWkid(0)
Pixel Size X: 0.6430603381479463
Pixel Size Y: 0.643060338147946
Band Count: 3
Pixel Type: U8
RasterFunction Infos: {"rasterFunctionInfos": [{
"name": "None",
"description": "",
"help": ""
}]}
Mensuration Capabilities: Basic
Inspection Capabilities:
Has Histograms: true
Has Colormap: false
Has Multi Dimensions : false
Rendering Rule:
Min Scale: 0
Max Scale: 0
Resampling: false
Copyright Text:
Service Data Type: esriImageServiceDataTypeProcessed
Min Values: 43, 52, 50
Max Values: 255, 255, 255
Mean Values: 120.9727560596465, 115.24360642524037, 102.42620761126145
Standard Deviation Values: 25.014769609085125, 19.154356968851488, 15.966631854420436
Object ID Field: OBJECTID
Fields:
-
OBJECTID
(
type: esriFieldTypeOID, alias: OBJECTID
)
-
Shape
(
type: esriFieldTypeGeometry, alias: Shape
)
-
Name
(
type: esriFieldTypeString, alias: Name, length: 50
)
-
MinPS
(
type: esriFieldTypeDouble, alias: MinPS
)
-
MaxPS
(
type: esriFieldTypeDouble, alias: MaxPS
)
-
LowPS
(
type: esriFieldTypeDouble, alias: LowPS
)
-
HighPS
(
type: esriFieldTypeDouble, alias: HighPS
)
-
Category
(
type: esriFieldTypeInteger, alias: Category
, Coded Values:
[0: Unknown]
, [1: Primary]
, [2: Overview]
, ...5 more...
)
-
Tag
(
type: esriFieldTypeString, alias: Tag, length: 20
)
-
GroupName
(
type: esriFieldTypeString, alias: GroupName, length: 50
)
-
ProductName
(
type: esriFieldTypeString, alias: ProductName, length: 50
)
-
CenterX
(
type: esriFieldTypeDouble, alias: CenterX
)
-
CenterY
(
type: esriFieldTypeDouble, alias: CenterY
)
-
ZOrder
(
type: esriFieldTypeInteger, alias: ZOrder
)
-
Shape_Length
(
type: esriFieldTypeDouble, alias: Shape_Length
)
-
Shape_Area
(
type: esriFieldTypeDouble, alias: Shape_Area
)
Default Mosaic Method: Northwest
Allowed Mosaic Methods: NorthWest,Center,LockRaster,ByAttribute,Nadir,Viewpoint,Seamline,None
SortField:
SortValue: null
Mosaic Operator: First
Default Compression Quality: 75
Default Resampling Method: Bilinear
Max Record Count: 1000
Max Image Height: 4100
Max Image Width: 15000
Max Download Image Count: 20
Max Mosaic Image Count: 20
Allow Raster Function: true
Allow Copy: true
Allow Analysis: true
Allow Compute TiePoints: false
Supports Statistics: true
Supports Advanced Queries: true
Use StandardizedQueries: true
Raster Type Infos:
Name: Raster Dataset
Description: Supports all ArcGIS Raster Datasets
Help:
Has Raster Attribute Table: false
Edit Fields Info: null
Ownership Based AccessControl For Rasters: null
Child Resources:
Info
Histograms
Statistics
Key Properties
Legend
Raster Function Infos
Supported Operations:
Export Image
Query
Identify
Measure
Compute Histograms
Compute Statistics Histograms
Get Samples
Compute Class Statistics
Query GPS Info
Find Images
Image to Map
Map to Image
Measure from Image
Image to Map Multiray
Query Boundary
Compute Pixel Location
Compute Angles
Validate
Project