View In:
  ArcGIS JavaScript
  ArcGIS Online Map Viewer
  ArcGIS Earth
Service Description:  2012 NAIP Natural Color 1 meter pixel resolution. The imagery was collected statewide from June 25 to August 13, 2012. This data set contains imagery from the National Agriculture Imagery Program (NAIP). NAIP acquires digital ortho imagery during the agricultural growing seasons in the continental U.S.. A primary goal of the NAIP program is to enable availability of of ortho imagery within one year of acquisition. NAIP provides four main products: 1 meter ground sample distance (GSD) ortho imagery rectified to a horizontal accuracy of within +/- 5 meters of reference digital ortho quarter quads (DOQQ's) from the National Digital Ortho Program (NDOP); 2 meter GSD ortho imagery rectified to within +/- 10 meters of reference DOQQs; 1 meter GSD ortho imagery rectified to within +/- 6 meters to true ground; and, 2 meter GSD ortho imagery rectified to within +/- 10 meters to true ground. The tiling format of NAIP imagery is based on a 3.75' x 3.75' quarter quadrangle with a 300 meter buffer on all four sides. NAIP quarter quads are formatted to the UTM coordinate system using NAD83. NAIP imagery may contain as much as 10% cloud cover per tile.
 Imagery/AerialImage_ND_2012
Description:  2012 NAIP Natural Color 1 meter pixel resolution. The imagery was collected statewide from June 25 to August 13, 2012. This data set contains imagery from the National Agriculture Imagery Program (NAIP). NAIP acquires digital ortho imagery during the agricultural growing seasons in the continental U.S.. A primary goal of the NAIP program is to enable availability of of ortho imagery within one year of acquisition. NAIP provides four main products: 1 meter ground sample distance (GSD) ortho imagery rectified to a horizontal accuracy of within +/- 5 meters of reference digital ortho quarter quads (DOQQ's) from the National Digital Ortho Program (NDOP); 2 meter GSD ortho imagery rectified to within +/- 10 meters of reference DOQQs; 1 meter GSD ortho imagery rectified to within +/- 6 meters to true ground; and, 2 meter GSD ortho imagery rectified to within +/- 10 meters to true ground. The tiling format of NAIP imagery is based on a 3.75' x 3.75' quarter quadrangle with a 300 meter buffer on all four sides. NAIP quarter quads are formatted to the UTM coordinate system using NAD83. NAIP imagery may contain as much as 10% cloud cover per tile.
 false
Extent: 
XMin: 107157.0
YMin: 5079940.0
XMax: 694330.0
YMax: 5440210.0
Spatial Reference: 26914
 (26914)
 LatestVCSWkid(0)
Initial Extent:
XMin: 107157.0
YMin: 5079940.0
XMax: 694330.0
YMax: 5440210.0
Spatial Reference: 26914
 (26914)
 LatestVCSWkid(0)
Full Extent:
XMin: 107157.0
YMin: 5079940.0
XMax: 694330.0
YMax: 5440210.0
Spatial Reference: 26914
 (26914)
 LatestVCSWkid(0)
Pixel Size X: 1.0
Pixel Size Y:  1.0
Band Count: 4
Pixel Type: U8
RasterFunction Infos:  {"rasterFunctionInfos": [{
 "name": "None",
 "description": "",
 "help": ""
}]}
Mensuration Capabilities: 
Inspection Capabilities: 
Has Histograms:  true
Has Colormap:  false
Has Multi Dimensions :  false
Rendering Rule: 
Min Scale:  0
Max Scale:  0
Resampling:  false
Copyright Text:  
Service Data Type:  esriImageServiceDataTypeProcessed
Min Values:  10, 11, 26, 0
Max Values:  255, 255, 252, 240
Mean Values:  133.8918525867986, 139.8460062566117, 116.13032191422417, 172.191474517106
Standard Deviation Values:  39.61124929595247, 31.606367144830585, 25.025625772052035, 40.196447885091224
Object ID Field:  OBJECTID
Fields: 
- 
OBJECTID
(
type: esriFieldTypeOID, alias: OBJECTID
)
- 
Shape
(
type: esriFieldTypeGeometry, alias: Shape
)
- 
Name
(
type: esriFieldTypeString, alias: Name, length: 50
)
- 
MinPS
(
type: esriFieldTypeDouble, alias: MinPS
)
- 
MaxPS
(
type: esriFieldTypeDouble, alias: MaxPS
)
- 
LowPS
(
type: esriFieldTypeDouble, alias: LowPS
)
- 
HighPS
(
type: esriFieldTypeDouble, alias: HighPS
)
- 
Category
(
type: esriFieldTypeInteger, alias: Category
)
- 
Tag
(
type: esriFieldTypeString, alias: Tag, length: 20
)
- 
GroupName
(
type: esriFieldTypeString, alias: GroupName, length: 50
)
- 
ProductName
(
type: esriFieldTypeString, alias: ProductName, length: 50
)
- 
CenterX
(
type: esriFieldTypeDouble, alias: CenterX
)
- 
CenterY
(
type: esriFieldTypeDouble, alias: CenterY
)
- 
ZOrder
(
type: esriFieldTypeInteger, alias: ZOrder
)
- 
SOrder
(
type: esriFieldTypeInteger, alias: SOrder
)
- 
StereoID
(
type: esriFieldTypeString, alias: StereoID, length: 50
)
- 
Shape_Length
(
type: esriFieldTypeDouble, alias: Shape_Length
)
- 
Shape_Area
(
type: esriFieldTypeDouble, alias: Shape_Area
)
Default Mosaic Method: Center
Allowed Mosaic Methods:  Center,NorthWest,LockRaster,ByAttribute,Nadir,Viewpoint,Seamline,None
SortField:  
SortValue:  null
Mosaic Operator:  First
Default Compression Quality:  75
Default Resampling Method:  Bilinear
Max Record Count:  1000
Max Image Height:  4100
Max Image Width:  15000
Max Download Image Count:  20
Max Mosaic Image Count:  20
Allow Raster Function:  true
Allow Copy:  true
Allow Analysis:  true
Allow Compute TiePoints:  false
Supports Statistics:  true
Supports Advanced Queries:  true
Use StandardizedQueries:  true
Raster Type Infos: 
Name: Raster Dataset
Description: Supports all ArcGIS Raster Datasets
Help: 
Has Raster Attribute Table: false
Edit Fields Info:  null
Ownership Based AccessControl For Rasters:  null
Child Resources:
  
Info
  Histograms
  Statistics
  Key Properties
  Legend
  Raster Function Infos
Supported Operations:
  
Export Image
  Query
  Identify
  Compute Histograms
  Compute Statistics Histograms
  Get Samples
  Compute Class Statistics
  Query GPS Info
  Find Images
  Image to Map
  Map to Image
  Measure from Image
  Image to Map Multiray
  Query Boundary
  Compute Pixel Location
  Compute Angles
  Validate
  Project