View In:
  ArcGIS JavaScript
  ArcGIS Online Map Viewer
  ArcGIS Earth
Service Description:  2018 4-band natural color .3-meter pixel resolution aerial imagery collected July 15, 2018 through October 23, 2018. This imagery is the source of the .6-meter National Agriculture Imagery Program (NAIP) imagery. The ND State Water Commission provided the funding for this photography at the .3-meter resolution. Accuracy specification: Accuracy: RMSEx/y = 1.2m RMSEr = 1.7m CE90= 2.6m CE95 = 3.0m Credits: North Dakota State Water Commission, USDA-FSA, Hexagon
Name:  Imagery/AerialImage_ND_2018_30cm
Description:  2018 4-band natural color .3-meter pixel resolution aerial imagery collected July 15, 2018 through October 23, 2018. This imagery is the source of the .6-meter National Agriculture Imagery Program (NAIP) imagery. The ND State Water Commission provided the funding for this photography at the .3-meter resolution. Accuracy specification: Accuracy: RMSEx/y = 1.2m RMSEr = 1.7m CE90= 2.6m CE95 = 3.0m Credits: North Dakota State Water Commission, USDA-FSA, Hexagon
Single Fused Map Cache:  false
Extent: 
XMin: 107465.86897596717
YMin: 5080223.968766071
XMax: 694038.1689759671
YMax: 5439897.5687660705
Spatial Reference: 102383
 (6343)
 LatestVCSWkid(0)
Initial Extent:
XMin: 107465.86897596717
YMin: 5080223.968766071
XMax: 694038.1689759671
YMax: 5439897.5687660705
Spatial Reference: 102383
 (6343)
 LatestVCSWkid(0)
Full Extent:
XMin: 107465.86897596717
YMin: 5080223.968766071
XMax: 694038.1689759671
YMax: 5439897.5687660705
Spatial Reference: 102383
 (6343)
 LatestVCSWkid(0)
Pixel Size X: 0.3
Pixel Size Y:  0.2999999999999997
Band Count: 4
Pixel Type: U8
RasterFunction Infos:  {"rasterFunctionInfos": [{
 "name": "None",
 "description": "A No-Op Function.",
 "help": ""
}]}
Mensuration Capabilities: None
Inspection Capabilities: 
Has Histograms:  true
Has Colormap:  false
Has Multi Dimensions :  false
Rendering Rule: 
Min Scale:  0
Max Scale:  0
Resampling:  false
Copyright Text:  
Service Data Type:  esriImageServiceDataTypeProcessed
Min Values:  0, 5, 10, 1
Max Values:  255, 248, 242, 244
Mean Values:  124.91541667289425, 108.62360113043808, 84.15206393123262, 146.26372982666248
Standard Deviation Values:  52.718301485236154, 23.57354382456525, 21.123866383009922, 28.72696568087108
Object ID Field:  OBJECTID
Fields: 
- 
OBJECTID
(
type: esriFieldTypeOID, alias: OBJECTID
)
- 
Shape
(
type: esriFieldTypeGeometry, alias: Shape
)
- 
Name
(
type: esriFieldTypeString, alias: Name, length: 200
)
- 
MinPS
(
type: esriFieldTypeDouble, alias: MinPS
)
- 
MaxPS
(
type: esriFieldTypeDouble, alias: MaxPS
)
- 
LowPS
(
type: esriFieldTypeDouble, alias: LowPS
)
- 
HighPS
(
type: esriFieldTypeDouble, alias: HighPS
)
- 
Category
(
type: esriFieldTypeInteger, alias: Category
, Coded Values: 
[0: Unknown]
, [1: Primary]
, [2: Overview]
, ...6 more...
)
- 
Tag
(
type: esriFieldTypeString, alias: Tag, length: 100
)
- 
GroupName
(
type: esriFieldTypeString, alias: GroupName, length: 100
)
- 
ProductName
(
type: esriFieldTypeString, alias: ProductName, length: 100
)
- 
CenterX
(
type: esriFieldTypeDouble, alias: CenterX
)
- 
CenterY
(
type: esriFieldTypeDouble, alias: CenterY
)
- 
ZOrder
(
type: esriFieldTypeInteger, alias: ZOrder
)
- 
Shape_Length
(
type: esriFieldTypeDouble, alias: Shape_Length
)
- 
Shape_Area
(
type: esriFieldTypeDouble, alias: Shape_Area
)
Default Mosaic Method: Northwest
Allowed Mosaic Methods:  NorthWest,Center,LockRaster,ByAttribute,Nadir,Viewpoint,Seamline,None
SortField:  
SortValue:  null
Mosaic Operator:  First
Default Compression Quality:  75
Default Resampling Method:  Bilinear
Max Record Count:  1000
Max Image Height:  4100
Max Image Width:  15000
Max Download Image Count:  20
Max Mosaic Image Count:  20
Allow Raster Function:  true
Allow Copy:  true
Allow Analysis:  true
Allow Compute TiePoints:  false
Supports Statistics:  true
Supports Advanced Queries:  true
Use StandardizedQueries:  true
Raster Type Infos: 
Name: Raster Dataset
Description: Supports all ArcGIS Raster Datasets
Help: 
Has Raster Attribute Table: false
Edit Fields Info:  null
Ownership Based AccessControl For Rasters:  null
Child Resources:
  
Info
  Histograms
  Statistics
  Key Properties
  Legend
  Raster Function Infos
Supported Operations:
  
Export Image
  Query
  Identify
  Compute Histograms
  Compute Statistics Histograms
  Get Samples
  Compute Class Statistics
  Query GPS Info
  Find Images
  Image to Map
  Map to Image
  Measure from Image
  Image to Map Multiray
  Query Boundary
  Compute Pixel Location
  Compute Angles
  Validate
  Project