View In:
  ArcGIS JavaScript
  ArcGIS Online Map Viewer
  ArcGIS Earth
Service Description:  2020 National Agriculture Imagery Program (NAIP) natural color .6-meter pixel resolution.This data set contains polygons delineating the seamline boundaries of imagery acquired as part of the National Agriculture Imagery Program (NAIP), and used in the creation of DOQQs hosted in FSA image services. These seam polygons can be used as a tool in determining the image source and date of each portion of the imagery. The NAIP acquires 4 band digital ortho imagery from airborne and/or space based platforms during the agricultural growing seasons in the U.S.. A primary goal of the NAIP program is to enable availability of ortho imagery within sixty days of acquisition. The NAIP provides 60 centimeter ground sampel distance ortho imagery rectified within +/- 4 meters to true ground at a 95% confidence level. The tiling format of NAIP imagery is based on a 3.75' x 3.75' quarter quadrangle with a 300 (plus or minus 30) pixel buffer on all four sides. The NAIP quarter quads are formatted to the UTM coordinate system using the North American Datum of 1983 (NAD83).
Name:  Imagery/AerialImage_ND_2020
Description:  2020 National Agriculture Imagery Program (NAIP) natural color .6-meter pixel resolution.This data set contains polygons delineating the seamline boundaries of imagery acquired as part of the National Agriculture Imagery Program (NAIP), and used in the creation of DOQQs hosted in FSA image services. These seam polygons can be used as a tool in determining the image source and date of each portion of the imagery. The NAIP acquires 4 band digital ortho imagery from airborne and/or space based platforms during the agricultural growing seasons in the U.S.. A primary goal of the NAIP program is to enable availability of ortho imagery within sixty days of acquisition. The NAIP provides 60 centimeter ground sampel distance ortho imagery rectified within +/- 4 meters to true ground at a 95% confidence level. The tiling format of NAIP imagery is based on a 3.75' x 3.75' quarter quadrangle with a 300 (plus or minus 30) pixel buffer on all four sides. The NAIP quarter quads are formatted to the UTM coordinate system using the North American Datum of 1983 (NAD83).
Single Fused Map Cache:  false
Extent: 
XMin: 107278.92569999956
YMin: 5080049.6712
XMax: 694218.1256999995
YMax: 5440091.0712
Spatial Reference: 26914
 (26914)
 LatestVCSWkid(0)
Initial Extent:
XMin: 107278.92569999956
YMin: 5080049.6712
XMax: 694218.1256999995
YMax: 5440091.0712
Spatial Reference: 26914
 (26914)
 LatestVCSWkid(0)
Full Extent:
XMin: 107278.92569999956
YMin: 5080049.6712
XMax: 694218.1256999995
YMax: 5440091.0712
Spatial Reference: 26914
 (26914)
 LatestVCSWkid(0)
Pixel Size X: 0.6
Pixel Size Y:  0.6000000000000006
Band Count: 4
Pixel Type: U8
RasterFunction Infos:  {"rasterFunctionInfos": [{
 "name": "None",
 "description": "A No-Op Function.",
 "help": ""
}]}
Mensuration Capabilities: None
Inspection Capabilities: 
Has Histograms:  true
Has Colormap:  false
Has Multi Dimensions :  false
Rendering Rule: 
Min Scale:  0
Max Scale:  0
Resampling:  false
Copyright Text:  
Service Data Type:  esriImageServiceDataTypeProcessed
Min Values:  18, 28, 40, 1
Max Values:  200, 191, 184, 217
Mean Values:  98.7474866588285, 109.22664164254837, 84.79858447901465, 153.32894921309472
Standard Deviation Values:  22.69224294535316, 16.274472773051375, 14.64591835898078, 30.073439302822234
Object ID Field:  OBJECTID
Fields: 
- 
OBJECTID
(
type: esriFieldTypeOID, alias: OBJECTID
)
- 
Shape
(
type: esriFieldTypeGeometry, alias: Shape
)
- 
Name
(
type: esriFieldTypeString, alias: Name, length: 200
)
- 
MinPS
(
type: esriFieldTypeDouble, alias: MinPS
)
- 
MaxPS
(
type: esriFieldTypeDouble, alias: MaxPS
)
- 
LowPS
(
type: esriFieldTypeDouble, alias: LowPS
)
- 
HighPS
(
type: esriFieldTypeDouble, alias: HighPS
)
- 
Category
(
type: esriFieldTypeInteger, alias: Category
, Coded Values: 
[0: Unknown]
, [1: Primary]
, [2: Overview]
, ...6 more...
)
- 
Tag
(
type: esriFieldTypeString, alias: Tag, length: 100
)
- 
GroupName
(
type: esriFieldTypeString, alias: GroupName, length: 100
)
- 
ProductName
(
type: esriFieldTypeString, alias: ProductName, length: 100
)
- 
CenterX
(
type: esriFieldTypeDouble, alias: CenterX
)
- 
CenterY
(
type: esriFieldTypeDouble, alias: CenterY
)
- 
ZOrder
(
type: esriFieldTypeInteger, alias: ZOrder
)
- 
Shape_Length
(
type: esriFieldTypeDouble, alias: Shape_Length
)
- 
Shape_Area
(
type: esriFieldTypeDouble, alias: Shape_Area
)
Default Mosaic Method: Northwest
Allowed Mosaic Methods:  NorthWest,Center,LockRaster,ByAttribute,Nadir,Viewpoint,Seamline,None
SortField:  
SortValue:  null
Mosaic Operator:  First
Default Compression Quality:  10000
Default Resampling Method:  Bilinear
Max Record Count:  1000
Max Image Height:  4100
Max Image Width:  15000
Max Download Image Count:  20
Max Mosaic Image Count:  50
Allow Raster Function:  true
Allow Copy:  true
Allow Analysis:  true
Allow Compute TiePoints:  false
Supports Statistics:  true
Supports Advanced Queries:  true
Use StandardizedQueries:  true
Raster Type Infos: 
Name: Raster Dataset
Description: Supports all ArcGIS Raster Datasets
Help: 
Has Raster Attribute Table: false
Edit Fields Info:  null
Ownership Based AccessControl For Rasters:  null
Child Resources:
  
Info
  Histograms
  Statistics
  Key Properties
  Legend
  Raster Function Infos
Supported Operations:
  
Export Image
  Query
  Identify
  Compute Histograms
  Compute Statistics Histograms
  Get Samples
  Compute Class Statistics
  Query GPS Info
  Find Images
  Image to Map
  Map to Image
  Measure from Image
  Image to Map Multiray
  Query Boundary
  Compute Pixel Location
  Compute Angles
  Validate
  Project