View In:
ArcGIS JavaScript
ArcGIS Online Map Viewer
ArcGIS Earth
Service Description: One-meter pixel resolution natural color aerial photography covering Burke County, Divide County, Mountrail County, Ward County, and Williams County. Imagery was collected March 2012.
Name: Imagery/AerialImage_NorthWest_2012
Description: One-meter pixel resolution natural color aerial photography covering Burke County, Divide County, Mountrail County, Ward County, and Williams County. Imagery was collected March 2012.
Single Fused Map Cache: false
Extent:
XMin: 568300.0
YMin: 5320899.0
XMax: 736300.0
YMax: 5431820.0
Spatial Reference: 0
(0)
LatestVCSWkid(0)
Initial Extent:
XMin: 568300.0
YMin: 5320899.0
XMax: 736300.0
YMax: 5431820.0
Spatial Reference: 0
(0)
LatestVCSWkid(0)
Full Extent:
XMin: 568300.0
YMin: 5320899.0
XMax: 736300.0
YMax: 5431820.0
Spatial Reference: 0
(0)
LatestVCSWkid(0)
Pixel Size X: 1.0
Pixel Size Y: 1.0
Band Count: 4
Pixel Type: U8
RasterFunction Infos: {"rasterFunctionInfos": [{
"name": "None",
"description": "",
"help": ""
}]}
Mensuration Capabilities:
Inspection Capabilities:
Has Histograms: true
Has Colormap: false
Has Multi Dimensions : false
Rendering Rule:
Min Scale: 0
Max Scale: 0
Resampling: false
Copyright Text: Data is courtesy of Continental Resources and Wilson and Company, Inc., ND GIS Hub
Service Data Type: esriImageServiceDataTypeProcessed
Min Values: 0, 0, 0, 0
Max Values: 255, 255, 255, 255
Mean Values: 110.84959876160991, 97.6508, 88.41008421052632, 116.88800247678019
Standard Deviation Values: 42.41172429283514, 41.34416080338329, 39.082535035530775, 47.78431555452065
Object ID Field: OBJECTID
Fields:
-
OBJECTID
(
type: esriFieldTypeOID, alias: OBJECTID
)
-
Shape
(
type: esriFieldTypeGeometry, alias: Shape
)
-
Name
(
type: esriFieldTypeString, alias: Name, length: 50
)
-
MinPS
(
type: esriFieldTypeDouble, alias: MinPS
)
-
MaxPS
(
type: esriFieldTypeDouble, alias: MaxPS
)
-
LowPS
(
type: esriFieldTypeDouble, alias: LowPS
)
-
HighPS
(
type: esriFieldTypeDouble, alias: HighPS
)
-
Category
(
type: esriFieldTypeInteger, alias: Category
)
-
Tag
(
type: esriFieldTypeString, alias: Tag, length: 20
)
-
GroupName
(
type: esriFieldTypeString, alias: GroupName, length: 50
)
-
ProductName
(
type: esriFieldTypeString, alias: ProductName, length: 50
)
-
CenterX
(
type: esriFieldTypeDouble, alias: CenterX
)
-
CenterY
(
type: esriFieldTypeDouble, alias: CenterY
)
-
ZOrder
(
type: esriFieldTypeInteger, alias: ZOrder
)
-
SOrder
(
type: esriFieldTypeInteger, alias: SOrder
)
-
StereoID
(
type: esriFieldTypeString, alias: StereoID, length: 50
)
-
Shape_Length
(
type: esriFieldTypeDouble, alias: Shape_Length
)
-
Shape_Area
(
type: esriFieldTypeDouble, alias: Shape_Area
)
Default Mosaic Method: Center
Allowed Mosaic Methods: Center,NorthWest,LockRaster,ByAttribute,Nadir,Viewpoint,Seamline,None
SortField:
SortValue: null
Mosaic Operator: First
Default Compression Quality: 75
Default Resampling Method: Bilinear
Max Record Count: 1000
Max Image Height: 4100
Max Image Width: 15000
Max Download Image Count: 20
Max Mosaic Image Count: 20
Allow Raster Function: true
Allow Copy: true
Allow Analysis: true
Allow Compute TiePoints: false
Supports Statistics: true
Supports Advanced Queries: true
Use StandardizedQueries: true
Raster Type Infos:
Name: Raster Dataset
Description: Supports all ArcGIS Raster Datasets
Help:
Has Raster Attribute Table: false
Edit Fields Info: null
Ownership Based AccessControl For Rasters: null
Child Resources:
Info
Histograms
Statistics
Key Properties
Legend
Raster Function Infos
Supported Operations:
Export Image
Query
Identify
Compute Histograms
Compute Statistics Histograms
Get Samples
Compute Class Statistics
Query GPS Info
Find Images
Image to Map
Map to Image
Measure from Image
Image to Map Multiray
Query Boundary
Compute Pixel Location
Compute Angles
Validate
Project