View In:
ArcGIS JavaScript
ArcGIS Online Map Viewer
ArcGIS Earth
ArcMap
View Footprint In:
ArcGIS Online Map Viewer
Service Description: Applications/DMR_OHWM_AerialPhotos
Name: Applications/DMR_OHWM_AerialPhotos
Description:
Single Fused Map Cache: false
Extent:
XMin: 1147947.050788477
YMin: 370120.3883558959
XMax: 1468090.2039097496
YMax: 434087.2947218365
Spatial Reference: 102720
(102720)
LatestVCSWkid(0)
Initial Extent:
XMin: 1147947.050788477
YMin: 370120.3883558959
XMax: 1468090.2039097496
YMax: 434087.2947218365
Spatial Reference: 102720
(102720)
LatestVCSWkid(0)
Full Extent:
XMin: 1147947.050788477
YMin: 370120.3883558959
XMax: 1468090.2039097496
YMax: 434087.2947218365
Spatial Reference: 102720
(102720)
LatestVCSWkid(0)
Pixel Size X: 4.1149505542580025
Pixel Size Y: 4.114950554258002
Band Count: 1
Pixel Type: U8
RasterFunction Infos: {"rasterFunctionInfos": [{
"name": "None",
"description": "",
"help": ""
}]}
Mensuration Capabilities: Basic
Has Histograms: true
Has Colormap: false
Has Multi Dimensions : false
Rendering Rule:
Min Scale: 0
Max Scale: 0
Copyright Text:
Service Data Type: esriImageServiceDataTypeProcessed
Min Values: 39
Max Values: 243
Mean Values: 126.47413248318831
Standard Deviation Values: 22.392480232114604
Object ID Field:
Fields:
None
Default Mosaic Method: Center
Allowed Mosaic Methods:
SortField:
SortValue: null
Mosaic Operator: First
Default Compression Quality: 75
Default Resampling Method: Bilinear
Max Record Count: null
Max Image Height: 4100
Max Image Width: 15000
Max Download Image Count: null
Max Mosaic Image Count: null
Allow Raster Function: true
Allow Copy: true
Allow Analysis: true
Allow Compute TiePoints: false
Supports Statistics: false
Supports Advanced Queries: false
Use StandardizedQueries: true
Raster Type Infos:
Name: Raster Dataset
Description: Supports all ArcGIS Raster Datasets
Help:
Has Raster Attribute Table: true
Edit Fields Info: null
Ownership Based AccessControl For Rasters: null
Child Resources:
Info
Raster Attribute Table
Histograms
Statistics
Key Properties
Legend
Raster Function Infos
Supported Operations:
Export Image
Identify
Measure
Compute Histograms
Compute Statistics Histograms
Get Samples
Compute Class Statistics
Query Boundary
Compute Pixel Location
Compute Angles
Validate
Project