View In:
ArcGIS JavaScript
ArcGIS Online Map Viewer
ArcGIS Earth
Service Description: Imagery collected by the ND Department of Transportation during July 5, 7, 8, 2011 for the ND State Water Commission during flood conditions along the Missouri. The imagery extends from about 11 miles south of Bismarck to just north of the Garrison Dam. Pixel size is approximately 0.9-feet. Flow at Bismarck was 141,000 cfs at the time of the imagery collection.
Name: Flood/AerialImage_MissouriRiver_July_2011
Description: Imagery collected by the ND Department of Transportation during July 5, 7, 8, 2011 for the ND State Water Commission during flood conditions along the Missouri. The imagery extends from about 11 miles south of Bismarck to just north of the Garrison Dam. Pixel size is approximately 0.9-feet. Flow at Bismarck was 141,000 cfs at the time of the imagery collection.
Single Fused Map Cache: false
Extent:
XMin: 1704952.193725105
YMin: 341569.25023885135
XMax: 1962395.4401285457
YMax: 687985.7116330315
Spatial Reference: 2266
(2266)
LatestVCSWkid(0)
Initial Extent:
XMin: 1704952.193725105
YMin: 341569.25023885135
XMax: 1962395.4401285457
YMax: 687985.7116330315
Spatial Reference: 2266
(2266)
LatestVCSWkid(0)
Full Extent:
XMin: 1704952.193725105
YMin: 341569.25023885135
XMax: 1962395.4401285457
YMax: 687985.7116330315
Spatial Reference: 2266
(2266)
LatestVCSWkid(0)
Pixel Size X: 0.9302442886793791
Pixel Size Y: 0.9302442886793794
Band Count: 3
Pixel Type: U8
RasterFunction Infos: {"rasterFunctionInfos": [{
"name": "None",
"description": "",
"help": ""
}]}
Mensuration Capabilities:
Inspection Capabilities:
Has Histograms: true
Has Colormap: false
Has Multi Dimensions : false
Rendering Rule:
Min Scale: 0
Max Scale: 0
Copyright Text: State Water Commission, Department of Transportation, ND GIS Hub
Service Data Type: esriImageServiceDataTypeProcessed
Min Values: 0, 29, 30
Max Values: 242, 255, 255
Mean Values: 87.63359686257965, 107.26075012345443, 110.9418110164494
Standard Deviation Values: 25.64318312705086, 19.350462505939156, 19.335363901773988
Object ID Field: OBJECTID
Fields:
-
OBJECTID
(
type: esriFieldTypeOID, alias: OBJECTID
)
-
Shape
(
type: esriFieldTypeGeometry, alias: Shape
)
-
Name
(
type: esriFieldTypeString, alias: Name, length: 50
)
-
MinPS
(
type: esriFieldTypeDouble, alias: MinPS
)
-
MaxPS
(
type: esriFieldTypeDouble, alias: MaxPS
)
-
LowPS
(
type: esriFieldTypeDouble, alias: LowPS
)
-
HighPS
(
type: esriFieldTypeDouble, alias: HighPS
)
-
Category
(
type: esriFieldTypeInteger, alias: Category
)
-
Tag
(
type: esriFieldTypeString, alias: Tag, length: 20
)
-
GroupName
(
type: esriFieldTypeString, alias: GroupName, length: 50
)
-
ProductName
(
type: esriFieldTypeString, alias: ProductName, length: 50
)
-
CenterX
(
type: esriFieldTypeDouble, alias: CenterX
)
-
CenterY
(
type: esriFieldTypeDouble, alias: CenterY
)
-
ZOrder
(
type: esriFieldTypeInteger, alias: ZOrder
)
-
SOrder
(
type: esriFieldTypeInteger, alias: SOrder
)
-
StereoID
(
type: esriFieldTypeString, alias: StereoID, length: 50
)
-
Shape_Length
(
type: esriFieldTypeDouble, alias: Shape_Length
)
-
Shape_Area
(
type: esriFieldTypeDouble, alias: Shape_Area
)
Default Mosaic Method: Center
Allowed Mosaic Methods: Center,NorthWest,LockRaster,ByAttribute,Nadir,Viewpoint,Seamline,None
SortField:
SortValue: null
Mosaic Operator: First
Default Compression Quality: 75
Default Resampling Method: Bilinear
Max Record Count: 1000
Max Image Height: 4100
Max Image Width: 15000
Max Download Image Count: 20
Max Mosaic Image Count: 20
Allow Raster Function: true
Allow Copy: true
Allow Analysis: true
Allow Compute TiePoints: false
Supports Statistics: true
Supports Advanced Queries: true
Use StandardizedQueries: true
Raster Type Infos:
Name: Raster Dataset
Description: Supports all ArcGIS Raster Datasets
Help:
Has Raster Attribute Table: false
Edit Fields Info: null
Ownership Based AccessControl For Rasters: null
Child Resources:
Info
Histograms
Statistics
Key Properties
Legend
Raster Function Infos
Supported Operations:
Export Image
Query
Identify
Compute Histograms
Compute Statistics Histograms
Get Samples
Compute Class Statistics
Query GPS Info
Find Images
Image to Map
Map to Image
Measure from Image
Image to Map Multiray
Query Boundary
Compute Pixel Location
Compute Angles
Validate
Project