View In:
ArcGIS JavaScript
ArcGIS Online Map Viewer
ArcGIS Earth
ArcMap
View Footprint In:
ArcGIS Online Map Viewer
Service Description: Ayres Associates provided the Bismarck-Mandan Metropolitan Planning Organization with digital, color orthoimagery services in 2016. The aerial imagery was collected on March 27th and 28th using an Intergraph DMC sensor mounted in a fixed-wing aircraft equipped with Inertial Measurment Unit (IMU) and Airborne GPS. Aerial imagery was collected to support 0.42 foot ground sample distance (GSD) orthoimagery to meet the National Mapping Accuracy Standard (NMAS) for 1"=100' scale mapping. The horizontal accuracy meets or exceeds NMAS requirements, stating that 90% of all test points be within 1/30th of an inch at mapping scale. Resultant orthoimagery was rectified to a DEM surface created from new LiDAR data acquired in 2016. Orthoimagery was delivered in PLSS section GeoTIFF and MrSID tiles and a project-wide MrSID mosaic. Additional Information: The Bismarck-Mandan MPO is a certified planning entity in the State of North Dakota and is comprised of the City of Bismarck, City of Mandan, City of Lincoln, and portions of Burleigh and Morton Counties. The purpose of the MPO is to provide a forum for public officials, citizens, and other interested groups to establish policies and plans for effectively addressing various metropolitan transportation issues. The MPO has a planning process that supports metropolitan community development and social goals. These plans and programs shall lead to the development of an integrated, inter-modal metropolitan transportation system that facilitates the efficient, economic movement of people and goods. Credits: City of Bismarck, City of Mandan, City of Lincoln, Burleigh County, Morton County.
Name: Imagery/AerialImage_BisMan_2016
Description: Ayres Associates provided the Bismarck-Mandan Metropolitan Planning Organization with digital, color orthoimagery services in 2016. The aerial imagery was collected on March 27th and 28th using an Intergraph DMC sensor mounted in a fixed-wing aircraft equipped with Inertial Measurment Unit (IMU) and Airborne GPS. Aerial imagery was collected to support 0.42 foot ground sample distance (GSD) orthoimagery to meet the National Mapping Accuracy Standard (NMAS) for 1"=100' scale mapping. The horizontal accuracy meets or exceeds NMAS requirements, stating that 90% of all test points be within 1/30th of an inch at mapping scale. Resultant orthoimagery was rectified to a DEM surface created from new LiDAR data acquired in 2016. Orthoimagery was delivered in PLSS section GeoTIFF and MrSID tiles and a project-wide MrSID mosaic. Additional Information: The Bismarck-Mandan MPO is a certified planning entity in the State of North Dakota and is comprised of the City of Bismarck, City of Mandan, City of Lincoln, and portions of Burleigh and Morton Counties. The purpose of the MPO is to provide a forum for public officials, citizens, and other interested groups to establish policies and plans for effectively addressing various metropolitan transportation issues. The MPO has a planning process that supports metropolitan community development and social goals. These plans and programs shall lead to the development of an integrated, inter-modal metropolitan transportation system that facilitates the efficient, economic movement of people and goods. Credits: City of Bismarck, City of Mandan, City of Lincoln, Burleigh County, Morton County.
Single Fused Map Cache: false
Extent:
XMin: 1820074.5238000017
YMin: 360162.2926000018
XMax: 1948021.9655999993
YMax: 480543.8617999995
Spatial Reference: 2910
(2910)
Initial Extent:
XMin: 1820074.5238000017
YMin: 360162.2926000018
XMax: 1948021.9655999993
YMax: 480543.8617999995
Spatial Reference: 2910
(2910)
Full Extent:
XMin: 1820074.5238000017
YMin: 360162.2926000018
XMax: 1948021.9655999993
YMax: 480543.8617999995
Spatial Reference: 2910
(2910)
Pixel Size X: 0.41659999999999214
Pixel Size Y: 0.41659999999999203
Band Count: 4
Pixel Type: U8
RasterFunction Infos: {"rasterFunctionInfos": [{
"name": "None",
"description": "",
"help": ""
}]}
Mensuration Capabilities: None
Has Histograms: true
Has Colormap: false
Has Multi Dimensions : false
Rendering Rule:
Min Scale: 0
Max Scale: 0
Copyright Text:
Service Data Type: esriImageServiceDataTypeProcessed
Min Values: 36, 40, 47, 26
Max Values: 242, 242, 242, 242
Mean Values: 147.631154440494, 139.10185476002027, 125.836640967764, 165.9231433903846
Standard Deviation Values: 18.132319290246624, 15.891505548874699, 13.54947173419018, 22.077030689262433
Object ID Field: OBJECTID
Fields:
-
OBJECTID
(
type: esriFieldTypeOID, alias: OBJECTID
)
-
Shape
(
type: esriFieldTypeGeometry, alias: Shape
)
-
Name
(
type: esriFieldTypeString, alias: Name, length: 200
)
-
MinPS
(
type: esriFieldTypeDouble, alias: MinPS
)
-
MaxPS
(
type: esriFieldTypeDouble, alias: MaxPS
)
-
LowPS
(
type: esriFieldTypeDouble, alias: LowPS
)
-
HighPS
(
type: esriFieldTypeDouble, alias: HighPS
)
-
Category
(
type: esriFieldTypeInteger, alias: Category
,
Coded Values:
[0: Unknown]
,
[1: Primary]
,
[2: Overview]
, ...5 more...
)
-
Tag
(
type: esriFieldTypeString, alias: Tag, length: 100
)
-
GroupName
(
type: esriFieldTypeString, alias: GroupName, length: 100
)
-
ProductName
(
type: esriFieldTypeString, alias: ProductName, length: 100
)
-
CenterX
(
type: esriFieldTypeDouble, alias: CenterX
)
-
CenterY
(
type: esriFieldTypeDouble, alias: CenterY
)
-
ZOrder
(
type: esriFieldTypeInteger, alias: ZOrder
)
-
Shape_Length
(
type: esriFieldTypeDouble, alias: Shape_Length
)
-
Shape_Area
(
type: esriFieldTypeDouble, alias: Shape_Area
)
Default Mosaic Method: Northwest
Allowed Mosaic Methods: NorthWest,Center,LockRaster,ByAttribute,Nadir,Viewpoint,Seamline,None
SortField:
SortValue: null
Mosaic Operator: First
Default Compression Quality: 75
Default Resampling Method: Bilinear
Max Record Count: 1000
Max Image Height: 4100
Max Image Width: 15000
Max Download Image Count: 20
Max Mosaic Image Count: 20
Allow Raster Function: true
Allow Copy: true
Allow Analysis: true
Allow Compute TiePoints: false
Supports Statistics: true
Supports Advanced Queries: true
Use StandardizedQueries: true
Raster Type Infos:
Name: Raster Dataset
Description: Supports all ArcGIS Raster Datasets
Help:
Has Raster Attribute Table: false
Edit Fields Info: null
Ownership Based AccessControl For Rasters: null
Child Resources:
Info
Histograms
Statistics
Key Properties
Legend
Raster Function Infos
Supported Operations:
Export Image
Query
Identify
Compute Histograms
Compute Statistics Histograms
Get Samples
Compute Class Statistics
Query Boundary
Compute Pixel Location
Compute Angles
Validate
Project