View In:
ArcGIS JavaScript
ArcGIS Online Map Viewer
ArcGIS Earth
Service Description: This image data is the result of private and government entities working together under the guidance of Cass County, ND. Fugro USA, Inc. acquired Digital Imagery with sensor Leica geosystems ADS100 for the Cass County, ND ortho project area April 22 - April 28, 2021. The project encompassed an area of approximately 1,768 square miles. A Leica ADS100 Digital Camera system including an inertial measuring unit (IMU) and a dual frequency airborne GPS receiver was used for the digital image acquisition. Imagery acquisition was performed April 22 - April 28, 2021 at 6200 feet AMT (above mean terrain), with 30 percent sidelap between the flight lines. Ground control survey was provided by the KLJ, Inc. and supplemented with existing control provided by Cass County. Digital orthophotos in GeoTIFF format were produced with a resolution of 0.5 foot utilizing the ADS100 imagery and newly-acquired LiDAR data provided by the North Dakota State Water Commission and NRCS. Delivery was on an External Hard Drive. Credits: Cass County, North Dakota
Name: Imagery/AerialImage_Cass_2021
Description: This image data is the result of private and government entities working together under the guidance of Cass County, ND. Fugro USA, Inc. acquired Digital Imagery with sensor Leica geosystems ADS100 for the Cass County, ND ortho project area April 22 - April 28, 2021. The project encompassed an area of approximately 1,768 square miles. A Leica ADS100 Digital Camera system including an inertial measuring unit (IMU) and a dual frequency airborne GPS receiver was used for the digital image acquisition. Imagery acquisition was performed April 22 - April 28, 2021 at 6200 feet AMT (above mean terrain), with 30 percent sidelap between the flight lines. Ground control survey was provided by the KLJ, Inc. and supplemented with existing control provided by Cass County. Digital orthophotos in GeoTIFF format were produced with a resolution of 0.5 foot utilizing the ADS100 imagery and newly-acquired LiDAR data provided by the North Dakota State Water Commission and NRCS. Delivery was on an External Hard Drive. Credits: Cass County, North Dakota
Single Fused Map Cache: false
Extent:
XMin: 2657788.9999201447
YMin: 361200.4999153167
XMax: 2906810.9999201447
YMax: 599813.4999153167
Spatial Reference: 102721
(102721)
LatestVCSWkid(0)
Initial Extent:
XMin: 2657788.9999201447
YMin: 361200.4999153167
XMax: 2906810.9999201447
YMax: 599813.4999153167
Spatial Reference: 102721
(102721)
LatestVCSWkid(0)
Full Extent:
XMin: 2657788.9999201447
YMin: 361200.4999153167
XMax: 2906810.9999201447
YMax: 599813.4999153167
Spatial Reference: 102721
(102721)
LatestVCSWkid(0)
Pixel Size X: 0.5
Pixel Size Y: 0.5
Band Count: 4
Pixel Type: U8
RasterFunction Infos: {"rasterFunctionInfos": [{
"name": "None",
"description": "A No-Op Function.",
"help": ""
}]}
Mensuration Capabilities: None
Inspection Capabilities:
Has Histograms: true
Has Colormap: false
Has Multi Dimensions : false
Rendering Rule:
Min Scale: 0
Max Scale: 0
Copyright Text:
Service Data Type: esriImageServiceDataTypeProcessed
Min Values: 0, 0, 0, 0
Max Values: 255, 255, 255, 255
Mean Values: 189.72350665520125, 188.43559783024412, 185.59446709159857, 195.47377962456443
Standard Deviation Values: 82.12544671938241, 83.57071258059297, 86.62765971780249, 76.46625552757669
Object ID Field: OBJECTID
Fields:
-
OBJECTID
(
type: esriFieldTypeOID, alias: OBJECTID
)
-
Shape
(
type: esriFieldTypeGeometry, alias: Shape
)
-
Name
(
type: esriFieldTypeString, alias: Name, length: 200
)
-
MinPS
(
type: esriFieldTypeDouble, alias: MinPS
)
-
MaxPS
(
type: esriFieldTypeDouble, alias: MaxPS
)
-
LowPS
(
type: esriFieldTypeDouble, alias: LowPS
)
-
HighPS
(
type: esriFieldTypeDouble, alias: HighPS
)
-
Category
(
type: esriFieldTypeInteger, alias: Category
, Coded Values:
[0: Unknown]
, [1: Primary]
, [2: Overview]
, ...6 more...
)
-
Tag
(
type: esriFieldTypeString, alias: Tag, length: 100
)
-
GroupName
(
type: esriFieldTypeString, alias: GroupName, length: 100
)
-
ProductName
(
type: esriFieldTypeString, alias: ProductName, length: 100
)
-
CenterX
(
type: esriFieldTypeDouble, alias: CenterX
)
-
CenterY
(
type: esriFieldTypeDouble, alias: CenterY
)
-
ZOrder
(
type: esriFieldTypeInteger, alias: ZOrder
)
-
Shape_Length
(
type: esriFieldTypeDouble, alias: Shape_Length
)
-
Shape_Area
(
type: esriFieldTypeDouble, alias: Shape_Area
)
Default Mosaic Method: Northwest
Allowed Mosaic Methods: NorthWest,Center,LockRaster,ByAttribute,Nadir,Viewpoint,Seamline,None
SortField:
SortValue: null
Mosaic Operator: First
Default Compression Quality: 75
Default Resampling Method: Bilinear
Max Record Count: 1000
Max Image Height: 4100
Max Image Width: 15000
Max Download Image Count: 20
Max Mosaic Image Count: 20
Allow Raster Function: true
Allow Copy: true
Allow Analysis: true
Allow Compute TiePoints: false
Supports Statistics: true
Supports Advanced Queries: true
Use StandardizedQueries: true
Raster Type Infos:
Name: Raster Dataset
Description: Supports all ArcGIS Raster Datasets
Help:
Has Raster Attribute Table: false
Edit Fields Info: null
Ownership Based AccessControl For Rasters: null
Child Resources:
Info
Histograms
Statistics
Key Properties
Legend
Raster Function Infos
Supported Operations:
Export Image
Query
Identify
Compute Histograms
Compute Statistics Histograms
Get Samples
Compute Class Statistics
Query GPS Info
Find Images
Image to Map
Map to Image
Measure from Image
Image to Map Multiray
Query Boundary
Compute Pixel Location
Compute Angles
Validate
Project