View In:
ArcGIS JavaScript
ArcGIS Online Map Viewer
ArcGIS Earth
Service Description: Digital orthophotography of the Devils Lake area, one-foot pixel resolution. The area covered is approximately 61 square miles of Ramsey County.
The photography was taken on May 11, 2006. The DTM was developed from the photos. DTM grids were created in both Int'l Feet and US Foot. Sanborn did the ground truthing and the photo processing. Ulteig Engineers was the project coordinator and responsible for the ground control. The orginal imagery consists of 6-inch pixel resolution imagery in the City of Devils Lake and outside of the city area the remaining data is 1-foot pixel resolution. When loading this data into the GIS Hub ArcSDE, the entire data set was stored as 1-foot pixel resolution.
Name: Imagery/AerialImage_DevilsLake_2006
Description: Digital orthophotography of the Devils Lake area, one-foot pixel resolution. The area covered is approximately 61 square miles of Ramsey County.
The photography was taken on May 11, 2006. The DTM was developed from the photos. DTM grids were created in both Int'l Feet and US Foot. Sanborn did the ground truthing and the photo processing. Ulteig Engineers was the project coordinator and responsible for the ground control. The orginal imagery consists of 6-inch pixel resolution imagery in the City of Devils Lake and outside of the city area the remaining data is 1-foot pixel resolution. When loading this data into the GIS Hub ArcSDE, the entire data set was stored as 1-foot pixel resolution.
Single Fused Map Cache: false
Extent:
XMin: 2317774.3756561726
YMin: 385614.70833332837
XMax: 2394855.8756561726
YMax: 430729.70833332837
Spatial Reference: 2265
(2265)
LatestVCSWkid(0)
Initial Extent:
XMin: 2317774.3756561726
YMin: 385614.70833332837
XMax: 2394855.8756561726
YMax: 430729.70833332837
Spatial Reference: 2265
(2265)
LatestVCSWkid(0)
Full Extent:
XMin: 2317774.3756561726
YMin: 385614.70833332837
XMax: 2394855.8756561726
YMax: 430729.70833332837
Spatial Reference: 2265
(2265)
LatestVCSWkid(0)
Pixel Size X: 0.5
Pixel Size Y: 0.5
Band Count: 3
Pixel Type: U8
RasterFunction Infos: {"rasterFunctionInfos": [{
"name": "None",
"description": "A No-Op Function.",
"help": ""
}]}
Mensuration Capabilities: None
Inspection Capabilities:
Has Histograms: true
Has Colormap: false
Has Multi Dimensions : false
Rendering Rule:
Min Scale: 0
Max Scale: 0
Copyright Text: City of Devils Lake
Service Data Type: esriImageServiceDataTypeProcessed
Min Values: 0, 0, 0
Max Values: 255, 255, 255
Mean Values: 141.19567392304288, 142.88932684373722, 133.99668460678967
Standard Deviation Values: 56.70957197689905, 55.407698106323494, 58.97368269721474
Object ID Field: OBJECTID
Fields:
-
OBJECTID
(
type: esriFieldTypeOID, alias: OBJECTID
)
-
Shape
(
type: esriFieldTypeGeometry, alias: Shape
)
-
Name
(
type: esriFieldTypeString, alias: Name, length: 200
)
-
MinPS
(
type: esriFieldTypeDouble, alias: MinPS
)
-
MaxPS
(
type: esriFieldTypeDouble, alias: MaxPS
)
-
LowPS
(
type: esriFieldTypeDouble, alias: LowPS
)
-
HighPS
(
type: esriFieldTypeDouble, alias: HighPS
)
-
Category
(
type: esriFieldTypeInteger, alias: Category
, Coded Values:
[0: Unknown]
, [1: Primary]
, [2: Overview]
, ...6 more...
)
-
Tag
(
type: esriFieldTypeString, alias: Tag, length: 100
)
-
GroupName
(
type: esriFieldTypeString, alias: GroupName, length: 100
)
-
ProductName
(
type: esriFieldTypeString, alias: ProductName, length: 100
)
-
CenterX
(
type: esriFieldTypeDouble, alias: CenterX
)
-
CenterY
(
type: esriFieldTypeDouble, alias: CenterY
)
-
ZOrder
(
type: esriFieldTypeInteger, alias: ZOrder
)
-
Shape_Length
(
type: esriFieldTypeDouble, alias: Shape_Length
)
-
Shape_Area
(
type: esriFieldTypeDouble, alias: Shape_Area
)
Default Mosaic Method: Northwest
Allowed Mosaic Methods: NorthWest,Center,Nadir,Viewpoint,LockRaster,ByAttribute,Seamline,None
SortField:
SortValue: null
Mosaic Operator: First
Default Compression Quality: 75
Default Resampling Method: Bilinear
Max Record Count: 2000
Max Image Height: 4100
Max Image Width: 15000
Max Download Image Count: 50
Max Mosaic Image Count: 50
Allow Raster Function: true
Allow Copy: true
Allow Analysis: true
Allow Compute TiePoints: false
Supports Statistics: true
Supports Advanced Queries: true
Use StandardizedQueries: true
Raster Type Infos:
Name: Raster Dataset
Description: Supports all ArcGIS Raster Datasets
Help:
Has Raster Attribute Table: false
Edit Fields Info: null
Ownership Based AccessControl For Rasters: null
Child Resources:
Info
Histograms
Statistics
Key Properties
Legend
Raster Function Infos
Supported Operations:
Export Image
Query
Identify
Compute Histograms
Compute Statistics Histograms
Get Samples
Compute Class Statistics
Query GPS Info
Find Images
Image to Map
Map to Image
Measure from Image
Image to Map Multiray
Query Boundary
Compute Pixel Location
Compute Angles
Validate
Project