View In:
ArcGIS JavaScript
ArcGIS Online Map Viewer
ArcGIS Earth
Service Description: Pictometry International produced digital color orthophotography of 4-inch resolution for the 2015 Fargo Digital Mapping project. The imagery was collected April 1-11, 2015. Credits: City of Fargo, ND GIS Hub
Name: Imagery/AerialImage_Fargo_2015
Description: Pictometry International produced digital color orthophotography of 4-inch resolution for the 2015 Fargo Digital Mapping project. The imagery was collected April 1-11, 2015. Credits: City of Fargo, ND GIS Hub
Single Fused Map Cache: false
Extent:
XMin: 2848790.000252596
YMin: 418505.33409688965
XMax: 2907543.3329983926
YMax: 498114.9999674548
Spatial Reference: 102389
(102389)
LatestVCSWkid(0)
Initial Extent:
XMin: 2848790.000252596
YMin: 418505.33409688965
XMax: 2907543.3329983926
YMax: 498114.9999674548
Spatial Reference: 102389
(102389)
LatestVCSWkid(0)
Full Extent:
XMin: 2848790.000252596
YMin: 418505.33409688965
XMax: 2907543.3329983926
YMax: 498114.9999674548
Spatial Reference: 102389
(102389)
LatestVCSWkid(0)
Pixel Size X: 0.33333332999998033
Pixel Size Y: 0.3333333299999798
Band Count: 3
Pixel Type: U8
RasterFunction Infos: {"rasterFunctionInfos": [{
"name": "None",
"description": "",
"help": ""
}]}
Mensuration Capabilities: None
Inspection Capabilities:
Has Histograms: true
Has Colormap: false
Has Multi Dimensions : false
Rendering Rule:
Min Scale: 0
Max Scale: 0
Copyright Text:
Service Data Type: esriImageServiceDataTypeProcessed
Min Values: 0, 2, 0
Max Values: 255, 255, 255
Mean Values: 139.08292357398048, 122.21409702385313, 92.28590704525664
Standard Deviation Values: 33.119611315601375, 31.126348795739183, 28.101647905763777
Object ID Field: OBJECTID
Fields:
-
OBJECTID
(
type: esriFieldTypeOID, alias: OBJECTID
)
-
Shape
(
type: esriFieldTypeGeometry, alias: Shape
)
-
Name
(
type: esriFieldTypeString, alias: Name, length: 200
)
-
MinPS
(
type: esriFieldTypeDouble, alias: MinPS
)
-
MaxPS
(
type: esriFieldTypeDouble, alias: MaxPS
)
-
LowPS
(
type: esriFieldTypeDouble, alias: LowPS
)
-
HighPS
(
type: esriFieldTypeDouble, alias: HighPS
)
-
Category
(
type: esriFieldTypeInteger, alias: Category
, Coded Values:
[0: Unknown]
, [1: Primary]
, [2: Overview]
, ...5 more...
)
-
Tag
(
type: esriFieldTypeString, alias: Tag, length: 100
)
-
GroupName
(
type: esriFieldTypeString, alias: GroupName, length: 100
)
-
ProductName
(
type: esriFieldTypeString, alias: ProductName, length: 100
)
-
CenterX
(
type: esriFieldTypeDouble, alias: CenterX
)
-
CenterY
(
type: esriFieldTypeDouble, alias: CenterY
)
-
ZOrder
(
type: esriFieldTypeInteger, alias: ZOrder
)
-
Shape_Length
(
type: esriFieldTypeDouble, alias: Shape_Length
)
-
Shape_Area
(
type: esriFieldTypeDouble, alias: Shape_Area
)
Default Mosaic Method: Northwest
Allowed Mosaic Methods: NorthWest,Center,LockRaster,ByAttribute,Nadir,Viewpoint,Seamline,None
SortField:
SortValue: null
Mosaic Operator: First
Default Compression Quality: 75
Default Resampling Method: Bilinear
Max Record Count: 1000
Max Image Height: 4100
Max Image Width: 15000
Max Download Image Count: 20
Max Mosaic Image Count: 20
Allow Raster Function: true
Allow Copy: true
Allow Analysis: true
Allow Compute TiePoints: false
Supports Statistics: true
Supports Advanced Queries: true
Use StandardizedQueries: true
Raster Type Infos:
Name: Raster Dataset
Description: Supports all ArcGIS Raster Datasets
Help:
Has Raster Attribute Table: false
Edit Fields Info: null
Ownership Based AccessControl For Rasters: null
Child Resources:
Info
Histograms
Statistics
Key Properties
Legend
Raster Function Infos
Supported Operations:
Export Image
Query
Identify
Compute Histograms
Compute Statistics Histograms
Get Samples
Compute Class Statistics
Query GPS Info
Find Images
Image to Map
Map to Image
Measure from Image
Image to Map Multiray
Query Boundary
Compute Pixel Location
Compute Angles
Validate
Project