View In:
ArcGIS JavaScript
ArcGIS Online Map Viewer
ArcGIS Earth
Service Description: One foot GSD, natural color (RGB) dataset, 8-bit digital orthophotography for Missouri River Basin Corridor. The imagery was collected using the Leica Geosystems ADS51 sensor between November 17th and November 24th 2011, at an average altitude of 9,600 feet above ground level. An auto correlated elevation model was used as vertical control. A network of surveyed control coordinates were used in-conjunction with airborne GPS/IMU as a basis for Analytical Aerial Triangulation (AT). Following rectification of imagery, manually placed seamlines were used to mosaic into a seamless coverage. The orthophotography is georeferenced to UTM14, NAD83, US Survey Feet.
Name: Imagery/AerialImage_MissouriRiver_2011
Description: One foot GSD, natural color (RGB) dataset, 8-bit digital orthophotography for Missouri River Basin Corridor. The imagery was collected using the Leica Geosystems ADS51 sensor between November 17th and November 24th 2011, at an average altitude of 9,600 feet above ground level. An auto correlated elevation model was used as vertical control. A network of surveyed control coordinates were used in-conjunction with airborne GPS/IMU as a basis for Analytical Aerial Triangulation (AT). Following rectification of imagery, manually placed seamlines were used to mosaic into a seamless coverage. The orthophotography is georeferenced to UTM14, NAD83, US Survey Feet.
Single Fused Map Cache: false
Extent:
XMin: 1035135.0
YMin: 1.694837E7
XMax: 1230000.0
YMax: 1.7270745E7
Spatial Reference: 32164
(32164)
LatestVCSWkid(0)
Initial Extent:
XMin: 1035135.0
YMin: 1.694837E7
XMax: 1230000.0
YMax: 1.7270745E7
Spatial Reference: 32164
(32164)
LatestVCSWkid(0)
Full Extent:
XMin: 1035135.0
YMin: 1.694837E7
XMax: 1230000.0
YMax: 1.7270745E7
Spatial Reference: 32164
(32164)
LatestVCSWkid(0)
Pixel Size X: 1.0
Pixel Size Y: 1.0
Band Count: 3
Pixel Type: U8
RasterFunction Infos: {"rasterFunctionInfos": [{
"name": "None",
"description": "",
"help": ""
}]}
Mensuration Capabilities:
Inspection Capabilities:
Has Histograms: true
Has Colormap: false
Has Multi Dimensions : false
Rendering Rule:
Min Scale: 0
Max Scale: 0
Copyright Text: Merrick, US Army Corps of Engineers. The ND State Water Commission, ND GIS Hub
Service Data Type: esriImageServiceDataTypeProcessed
Min Values: 0, 0, 0
Max Values: 255, 255, 255
Mean Values: 113.80090644973852, 112.83481696687971, 94.65205113306217
Standard Deviation Values: 49.91253272080761, 46.62141685457351, 42.24339859415227
Object ID Field: OBJECTID
Fields:
-
OBJECTID
(
type: esriFieldTypeOID, alias: OBJECTID
)
-
Shape
(
type: esriFieldTypeGeometry, alias: Shape
)
-
Name
(
type: esriFieldTypeString, alias: Name, length: 50
)
-
MinPS
(
type: esriFieldTypeDouble, alias: MinPS
)
-
MaxPS
(
type: esriFieldTypeDouble, alias: MaxPS
)
-
LowPS
(
type: esriFieldTypeDouble, alias: LowPS
)
-
HighPS
(
type: esriFieldTypeDouble, alias: HighPS
)
-
Category
(
type: esriFieldTypeInteger, alias: Category
)
-
Tag
(
type: esriFieldTypeString, alias: Tag, length: 20
)
-
GroupName
(
type: esriFieldTypeString, alias: GroupName, length: 50
)
-
ProductName
(
type: esriFieldTypeString, alias: ProductName, length: 50
)
-
CenterX
(
type: esriFieldTypeDouble, alias: CenterX
)
-
CenterY
(
type: esriFieldTypeDouble, alias: CenterY
)
-
ZOrder
(
type: esriFieldTypeInteger, alias: ZOrder
)
-
SOrder
(
type: esriFieldTypeInteger, alias: SOrder
)
-
StereoID
(
type: esriFieldTypeString, alias: StereoID, length: 50
)
-
Shape_Length
(
type: esriFieldTypeDouble, alias: Shape_Length
)
-
Shape_Area
(
type: esriFieldTypeDouble, alias: Shape_Area
)
Default Mosaic Method: Center
Allowed Mosaic Methods: Center,NorthWest,LockRaster,ByAttribute,Nadir,Viewpoint,Seamline,None
SortField:
SortValue: null
Mosaic Operator: First
Default Compression Quality: 75
Default Resampling Method: Bilinear
Max Record Count: 1000
Max Image Height: 4100
Max Image Width: 15000
Max Download Image Count: 20
Max Mosaic Image Count: 20
Allow Raster Function: true
Allow Copy: true
Allow Analysis: true
Allow Compute TiePoints: false
Supports Statistics: true
Supports Advanced Queries: true
Use StandardizedQueries: true
Raster Type Infos:
Name: Raster Dataset
Description: Supports all ArcGIS Raster Datasets
Help:
Has Raster Attribute Table: false
Edit Fields Info: null
Ownership Based AccessControl For Rasters: null
Child Resources:
Info
Histograms
Statistics
Key Properties
Legend
Raster Function Infos
Supported Operations:
Export Image
Query
Identify
Compute Histograms
Compute Statistics Histograms
Get Samples
Compute Class Statistics
Query GPS Info
Find Images
Image to Map
Map to Image
Measure from Image
Image to Map Multiray
Query Boundary
Compute Pixel Location
Compute Angles
Validate
Project