View In:
ArcGIS JavaScript
ArcGIS Online Map Viewer
ArcGIS Earth
Service Description: North Dakota aerial photography taken 1957 through 1962 at a scale of 1:20,000. This dataset was developed in a partnership with the USDA-Aerial Photography Field Office, the State Water Commission, and the GIS Technical Committee. The photos have been scanned at 1200 DPI and they have about a .47-meter pixel resolution. Please note that these photos have been georeferenced with a minimum number of data points. The photos have not been orthorectified and therefore there will be photo anomalies and mis-matches between adjoining photos. Caution should be exercised if attempting to use this imagery to conduct measurements. This dataset contains a number of areas with missing imagery.Credit: North Dakota GIS Technical Commitee, State Water Commission, USDA-Aerial Photography Field Office, ND GIS Hub
Name: Imagery/AerialImage_ND_19571962
Description: North Dakota aerial photography taken 1957 through 1962 at a scale of 1:20,000. This dataset was developed in a partnership with the USDA-Aerial Photography Field Office, the State Water Commission, and the GIS Technical Committee. The photos have been scanned at 1200 DPI and they have about a .47-meter pixel resolution. Please note that these photos have been georeferenced with a minimum number of data points. The photos have not been orthorectified and therefore there will be photo anomalies and mis-matches between adjoining photos. Caution should be exercised if attempting to use this imagery to conduct measurements. This dataset contains a number of areas with missing imagery.Credit: North Dakota GIS Technical Commitee, State Water Commission, USDA-Aerial Photography Field Office, ND GIS Hub
Single Fused Map Cache: false
Extent:
XMin: 1055253.009126931
YMin: 91353.57763856882
XMax: 2979889.598134326
YMax: 1238855.1701674021
Spatial Reference: 2266
(2266)
LatestVCSWkid(0)
Initial Extent:
XMin: 1055253.009126931
YMin: 91353.57763856882
XMax: 2979889.598134326
YMax: 1238855.1701674021
Spatial Reference: 2266
(2266)
LatestVCSWkid(0)
Full Extent:
XMin: 1055253.009126931
YMin: 91353.57763856882
XMax: 2979889.598134326
YMax: 1238855.1701674021
Spatial Reference: 2266
(2266)
LatestVCSWkid(0)
Pixel Size X: 0.7697080831839197
Pixel Size Y: 0.7697080831839196
Band Count: 3
Pixel Type: U8
RasterFunction Infos: {"rasterFunctionInfos": [{
"name": "None",
"description": "",
"help": ""
}]}
Mensuration Capabilities: None
Inspection Capabilities:
Has Histograms: true
Has Colormap: false
Has Multi Dimensions : false
Rendering Rule:
Min Scale: 0
Max Scale: 0
Copyright Text:
Service Data Type: esriImageServiceDataTypeProcessed
Min Values: 0, 0, 0
Max Values: 255, 255, 255
Mean Values: 136.5119803733589, 136.5119803733589, 136.5119803733589
Standard Deviation Values: 28.934459644629694, 28.934459644629694, 28.934459644629694
Object ID Field: OBJECTID
Fields:
-
OBJECTID
(
type: esriFieldTypeOID, alias: OBJECTID
)
-
Shape
(
type: esriFieldTypeGeometry, alias: Shape
)
-
Name
(
type: esriFieldTypeString, alias: Name, length: 50
)
-
MinPS
(
type: esriFieldTypeDouble, alias: MinPS
)
-
MaxPS
(
type: esriFieldTypeDouble, alias: MaxPS
)
-
LowPS
(
type: esriFieldTypeDouble, alias: LowPS
)
-
HighPS
(
type: esriFieldTypeDouble, alias: HighPS
)
-
Category
(
type: esriFieldTypeInteger, alias: Category
)
-
Tag
(
type: esriFieldTypeString, alias: Tag, length: 20
)
-
GroupName
(
type: esriFieldTypeString, alias: GroupName, length: 50
)
-
ProductName
(
type: esriFieldTypeString, alias: ProductName, length: 50
)
-
CenterX
(
type: esriFieldTypeDouble, alias: CenterX
)
-
CenterY
(
type: esriFieldTypeDouble, alias: CenterY
)
-
ZOrder
(
type: esriFieldTypeInteger, alias: ZOrder
)
-
SOrder
(
type: esriFieldTypeInteger, alias: SOrder
)
-
StereoID
(
type: esriFieldTypeString, alias: StereoID, length: 50
)
-
Shape_Length
(
type: esriFieldTypeDouble, alias: Shape_Length
)
-
Shape_Area
(
type: esriFieldTypeDouble, alias: Shape_Area
)
Default Mosaic Method: Center
Allowed Mosaic Methods: Center,NorthWest,LockRaster,ByAttribute,Nadir,Viewpoint,Seamline,None
SortField:
SortValue: null
Mosaic Operator: First
Default Compression Quality: 75
Default Resampling Method: Bilinear
Max Record Count: 1000
Max Image Height: 4100
Max Image Width: 15000
Max Download Image Count: 20
Max Mosaic Image Count: 20
Allow Raster Function: true
Allow Copy: true
Allow Analysis: true
Allow Compute TiePoints: false
Supports Statistics: true
Supports Advanced Queries: true
Use StandardizedQueries: true
Raster Type Infos:
Name: Raster Dataset
Description: Supports all ArcGIS Raster Datasets
Help:
Has Raster Attribute Table: false
Edit Fields Info: null
Ownership Based AccessControl For Rasters: null
Child Resources:
Info
Histograms
Statistics
Key Properties
Legend
Raster Function Infos
Supported Operations:
Export Image
Query
Identify
Compute Histograms
Compute Statistics Histograms
Get Samples
Compute Class Statistics
Query GPS Info
Find Images
Image to Map
Map to Image
Measure from Image
Image to Map Multiray
Query Boundary
Compute Pixel Location
Compute Angles
Validate
Project