View In:
ArcGIS JavaScript
ArcGIS Online Map Viewer
ArcGIS Earth
Service Description: Ayres Associates provided the Bismarck-Mandan Metropolitan Planning Organization (hereinafter referred to as the MPO) with digital color orthophotography and topographic mapping services in 2013. Digital aerial imagery was collected on May 2 and 3, 2013 using an Intergraph DMC, digital photogrammetric mapping camera. Imagery was collected to support 6-inch resolution digital orthoimagery to National Map Accuracy Standards for 1" = 100' map scale. Resultant orthoimagery was rectified to a new digital terrain model, comprising of a newly developed LiDAR bare earth surface. Orthoimagery was delivered according to the MPO's standard tile schematic. The Bismarck-Mandan MPO is a certified planning entity in the State of North Dakota and is comprised of the City of Bismarck, City of Mandan, City of Lincoln, and portions of Burleigh and Morton Counties. The Bismarck-Mandan Metropolitan area is located in Burleigh and Morton Counties, in the south central region of North Dakota. The area covers approximately 395 square miles and is home to over 100,000 people.
Name: Imagery/AerialImage_BisMan_2013
Description: Ayres Associates provided the Bismarck-Mandan Metropolitan Planning Organization (hereinafter referred to as the MPO) with digital color orthophotography and topographic mapping services in 2013. Digital aerial imagery was collected on May 2 and 3, 2013 using an Intergraph DMC, digital photogrammetric mapping camera. Imagery was collected to support 6-inch resolution digital orthoimagery to National Map Accuracy Standards for 1" = 100' map scale. Resultant orthoimagery was rectified to a new digital terrain model, comprising of a newly developed LiDAR bare earth surface. Orthoimagery was delivered according to the MPO's standard tile schematic. The Bismarck-Mandan MPO is a certified planning entity in the State of North Dakota and is comprised of the City of Bismarck, City of Mandan, City of Lincoln, and portions of Burleigh and Morton Counties. The Bismarck-Mandan Metropolitan area is located in Burleigh and Morton Counties, in the south central region of North Dakota. The area covers approximately 395 square miles and is home to over 100,000 people.
Single Fused Map Cache: false
Extent:
XMin: 1820074.830151
YMin: 360162.930612
XMax: 1948021.830151
YMax: 480543.930612
Spatial Reference: 2910
(2910)
LatestVCSWkid(0)
Initial Extent:
XMin: 1820074.830151
YMin: 360162.930612
XMax: 1948021.830151
YMax: 480543.930612
Spatial Reference: 2910
(2910)
LatestVCSWkid(0)
Full Extent:
XMin: 1820074.830151
YMin: 360162.930612
XMax: 1948021.830151
YMax: 480543.930612
Spatial Reference: 2910
(2910)
LatestVCSWkid(0)
Pixel Size X: 0.5
Pixel Size Y: 0.5
Band Count: 3
Pixel Type: U8
RasterFunction Infos: {"rasterFunctionInfos": [{
"name": "None",
"description": "",
"help": ""
}]}
Mensuration Capabilities:
Inspection Capabilities:
Has Histograms: true
Has Colormap: false
Has Multi Dimensions : false
Rendering Rule:
Min Scale: 0
Max Scale: 0
Copyright Text: City of Bismarck, City of Mandan, City of Lincoln, Burleigh County, Morton County, State of North Dakota, ND GIS Hub
Service Data Type: esriImageServiceDataTypeProcessed
Min Values: 0, 0, 0
Max Values: 255, 255, 255
Mean Values: 124.11212355922333, 122.8634420944999, 115.0421471577311
Standard Deviation Values: 34.12589064742556, 32.47925650573272, 30.2395059226675
Object ID Field: OBJECTID
Fields:
-
OBJECTID
(
type: esriFieldTypeOID, alias: OBJECTID
)
-
Shape
(
type: esriFieldTypeGeometry, alias: Shape
)
-
Name
(
type: esriFieldTypeString, alias: Name, length: 50
)
-
MinPS
(
type: esriFieldTypeDouble, alias: MinPS
)
-
MaxPS
(
type: esriFieldTypeDouble, alias: MaxPS
)
-
LowPS
(
type: esriFieldTypeDouble, alias: LowPS
)
-
HighPS
(
type: esriFieldTypeDouble, alias: HighPS
)
-
Category
(
type: esriFieldTypeInteger, alias: Category
, Coded Values:
[0: Unknown]
, [1: Primary]
, [2: Overview]
, ...5 more...
)
-
Tag
(
type: esriFieldTypeString, alias: Tag, length: 20
)
-
GroupName
(
type: esriFieldTypeString, alias: GroupName, length: 50
)
-
ProductName
(
type: esriFieldTypeString, alias: ProductName, length: 50
)
-
CenterX
(
type: esriFieldTypeDouble, alias: CenterX
)
-
CenterY
(
type: esriFieldTypeDouble, alias: CenterY
)
-
ZOrder
(
type: esriFieldTypeInteger, alias: ZOrder
)
-
SOrder
(
type: esriFieldTypeInteger, alias: SOrder
)
-
StereoID
(
type: esriFieldTypeString, alias: StereoID, length: 50
)
-
Shape_Length
(
type: esriFieldTypeDouble, alias: Shape_Length
)
-
Shape_Area
(
type: esriFieldTypeDouble, alias: Shape_Area
)
Default Mosaic Method: Center
Allowed Mosaic Methods: Center,NorthWest,LockRaster,ByAttribute,Nadir,Viewpoint,Seamline,None
SortField:
SortValue: null
Mosaic Operator: First
Default Compression Quality: 75
Default Resampling Method: Bilinear
Max Record Count: 1000
Max Image Height: 4100
Max Image Width: 15000
Max Download Image Count: 20
Max Mosaic Image Count: 40
Allow Raster Function: true
Allow Copy: true
Allow Analysis: true
Allow Compute TiePoints: false
Supports Statistics: true
Supports Advanced Queries: true
Use StandardizedQueries: true
Raster Type Infos:
Name: Raster Dataset
Description: Supports all ArcGIS Raster Datasets
Help:
Has Raster Attribute Table: false
Edit Fields Info: null
Ownership Based AccessControl For Rasters: null
Child Resources:
Info
Histograms
Statistics
Key Properties
Legend
Raster Function Infos
Supported Operations:
Export Image
Query
Identify
Compute Histograms
Compute Statistics Histograms
Get Samples
Compute Class Statistics
Query GPS Info
Find Images
Image to Map
Map to Image
Measure from Image
Image to Map Multiray
Query Boundary
Compute Pixel Location
Compute Angles
Validate
Project