View In:
  ArcGIS JavaScript
  ArcGIS Online Map Viewer
  ArcGIS Earth
Service Description:  This orthoimagery data set includes 0.25-foot digital orthoimages in 8-bit 4-band GeoTIFF; MrSID Mosaic files (20:1 compression) and (50:1 compression) along with ECW files. The geographic extent of Bismarck-Mandan MPO covers approximately 394 total square miles.Dataset Description: The Bismarck-Mandan MPO, ND 2023 Digital Orthoimagery project comprised of planning, acquisition, processing, and derived products of imagery data collected at a ground sample distance (GSD) of 0.25-foot. Project specifications are based on the American Society of Photogrammetry and Remote Sensing (ASPRS) standards. The data were developed based on a horizontal projection/datum of NAD83(2011) State Plane North Dakota South Zone, Int. Feet. Imagery data were delivered as 0.25-foot 8-bit 4-band GeoTIFF; MrSID RGB (MG3,20:1 compression); MrSID mosaic files (MG4, 20:1 and 50:1 compression) and ECW compressed files. Deliverables contained 1560 individual irregular tiles. Ground Conditions: Imagery was collected on May 3, 2023 , while minimal snow piles were present in shelter belts and protected areas due to a near record snowfall during the winter of 2023. Water levels were at or below acceptable levels. In order to post process the imagery data to meet task order specifications and meet ASPRS horizontal accuracy guidelines, 95West Aerial Mapping utilized airborne GPS, along with a total of 27 targeted control points to tie imagery to the ground and 15 feature identifiable check points to assess the horizontal accuracy of the Aerial Triangulation (AT) and resulting ortho imagery.
 Imagery/AerialImage_BisMan_2023
Description:  This orthoimagery data set includes 0.25-foot digital orthoimages in 8-bit 4-band GeoTIFF; MrSID Mosaic files (20:1 compression) and (50:1 compression) along with ECW files. The geographic extent of Bismarck-Mandan MPO covers approximately 394 total square miles.Dataset Description: The Bismarck-Mandan MPO, ND 2023 Digital Orthoimagery project comprised of planning, acquisition, processing, and derived products of imagery data collected at a ground sample distance (GSD) of 0.25-foot. Project specifications are based on the American Society of Photogrammetry and Remote Sensing (ASPRS) standards. The data were developed based on a horizontal projection/datum of NAD83(2011) State Plane North Dakota South Zone, Int. Feet. Imagery data were delivered as 0.25-foot 8-bit 4-band GeoTIFF; MrSID RGB (MG3,20:1 compression); MrSID mosaic files (MG4, 20:1 and 50:1 compression) and ECW compressed files. Deliverables contained 1560 individual irregular tiles. Ground Conditions: Imagery was collected on May 3, 2023 , while minimal snow piles were present in shelter belts and protected areas due to a near record snowfall during the winter of 2023. Water levels were at or below acceptable levels. In order to post process the imagery data to meet task order specifications and meet ASPRS horizontal accuracy guidelines, 95West Aerial Mapping utilized airborne GPS, along with a total of 27 targeted control points to tie imagery to the ground and 15 feature identifiable check points to assess the horizontal accuracy of the Aerial Triangulation (AT) and resulting ortho imagery.
 false
Extent: 
XMin: 1820050.0
YMin: 360147.0
XMax: 1948045.0
YMax: 480556.0
Spatial Reference: 103126
 (6547)
 LatestVCSWkid(0)
Initial Extent:
XMin: 1820050.0
YMin: 360147.0
XMax: 1948045.0
YMax: 480556.0
Spatial Reference: 103126
 (6547)
 LatestVCSWkid(0)
Full Extent:
XMin: 1820050.0
YMin: 360147.0
XMax: 1948045.0
YMax: 480556.0
Spatial Reference: 103126
 (6547)
 LatestVCSWkid(0)
Pixel Size X: 0.25
Pixel Size Y:  0.25
Band Count: 3
Pixel Type: U8
RasterFunction Infos:  {"rasterFunctionInfos": [{
 "name": "None",
 "description": "",
 "help": ""
}]}
Mensuration Capabilities: None
Inspection Capabilities: 
Has Histograms:  true
Has Colormap:  false
Has Multi Dimensions :  false
Rendering Rule: 
Min Scale:  0
Max Scale:  0
Copyright Text:  95West Aerial Mapping
Service Data Type:  esriImageServiceDataTypeProcessed
Min Values:  0, 0, 0
Max Values:  255, 255, 255
Mean Values:  152.0111897908884, 145.47706137771394, 144.54122643160167
Standard Deviation Values:  16.205331260054223, 15.00534964873701, 12.992012944983568
Object ID Field:  OBJECTID
Fields: 
- 
OBJECTID
(
type: esriFieldTypeOID, alias: OBJECTID
)
- 
Shape
(
type: esriFieldTypeGeometry, alias: Shape
)
- 
Name
(
type: esriFieldTypeString, alias: Name, length: 200
)
- 
MinPS
(
type: esriFieldTypeDouble, alias: MinPS
)
- 
MaxPS
(
type: esriFieldTypeDouble, alias: MaxPS
)
- 
LowPS
(
type: esriFieldTypeDouble, alias: LowPS
)
- 
HighPS
(
type: esriFieldTypeDouble, alias: HighPS
)
- 
Category
(
type: esriFieldTypeInteger, alias: Category
, Coded Values: 
[0: Unknown]
, [1: Primary]
, [2: Overview]
, ...6 more...
)
- 
Tag
(
type: esriFieldTypeString, alias: Tag, length: 100
)
- 
GroupName
(
type: esriFieldTypeString, alias: GroupName, length: 100
)
- 
ProductName
(
type: esriFieldTypeString, alias: ProductName, length: 100
)
- 
CenterX
(
type: esriFieldTypeDouble, alias: CenterX
)
- 
CenterY
(
type: esriFieldTypeDouble, alias: CenterY
)
- 
ZOrder
(
type: esriFieldTypeInteger, alias: ZOrder
)
- 
Shape_Length
(
type: esriFieldTypeDouble, alias: Shape_Length
)
- 
Shape_Area
(
type: esriFieldTypeDouble, alias: Shape_Area
)
Default Mosaic Method: Northwest
Allowed Mosaic Methods:  NorthWest,Center,LockRaster,ByAttribute,Nadir,Viewpoint,Seamline,None
SortField:  
SortValue:  null
Mosaic Operator:  First
Default Compression Quality:  75
Default Resampling Method:  Bilinear
Max Record Count:  1000
Max Image Height:  4100
Max Image Width:  15000
Max Download Image Count:  20
Max Mosaic Image Count:  80
Allow Raster Function:  true
Allow Copy:  true
Allow Analysis:  true
Allow Compute TiePoints:  false
Supports Statistics:  true
Supports Advanced Queries:  true
Use StandardizedQueries:  true
Raster Type Infos: 
Name: Raster Dataset
Description: Supports all ArcGIS Raster Datasets
Help: 
Has Raster Attribute Table: false
Edit Fields Info:  null
Ownership Based AccessControl For Rasters:  null
Child Resources:
  
Info
  Histograms
  Statistics
  Key Properties
  Legend
  Raster Function Infos
Supported Operations:
  
Export Image
  Query
  Identify
  Compute Histograms
  Compute Statistics Histograms
  Get Samples
  Compute Class Statistics
  Query GPS Info
  Find Images
  Image to Map
  Map to Image
  Measure from Image
  Image to Map Multiray
  Query Boundary
  Compute Pixel Location
  Compute Angles
  Validate
  Project